Workbook

Sheet Form
A1: Housing Credit Compliance Monitoring Fees 2026
A2: 2017 Servicing Contract
A4: Updated: 12/9/2025
A5: Input information in the green cells below
A6: Name of Development
A7: Number of Set-Aside Units
A8: Number of Affordability Years
A9: First Move-In Date
A10: Final Placed In Service Date of LAST Building
A11: Fees Collected at Preliminary Allocation*
A13: Fees are based on set-aside units (includes manager units)
A15: Construction Inspection Fees: To be billed directly to the Applicant at $216 per hour
A16: not to exceed $2,125 per inspection.
A18: Total Compliance Fees Due to FHFC | B18: =IFERROR(ROUNDUP(Calculations!S10,0),0) -> 0
A20: *Applicable for Competitive 9% Housing Credits only

Sheet Table
A1: Monthly Base Fee | B1: 3% Annual Escalator | C1: 171 | D1: 173 | E1: 178 | F1: 183 | G1: 188 | H1: 193 | I1: 198 | J1: =ROUND(I1*1.03,2) -> 203.94 | K1: =ROUND(J1*1.03,2) -> 210.06 | L1: =ROUND(K1*1.03,2) -> 216.36 | M1: =ROUND(L1*1.03,2) -> 222.85 | N1: =ROUND(M1*1.03,2) -> 229.54 | O1: =ROUND(N1*1.03,2) -> 236.43 | P1: =ROUND(O1*1.03,2) -> 243.52 | Q1: =ROUND(P1*1.03,2) -> 250.83 | ... BO1: =ROUND(BN1*1.03,2) -> 1099.56
A2: Per Unit Fee | B2: 3% Annual Escalator | C2: 10.46 | D2: 10.59 | E2: 10.91 | F2: 11.24 | G2: 11.58 | H2: 11.89 | I2: 12.21 | J2: =ROUND(I2*1.03,2) -> 12.58 | K2: =ROUND(J2*1.03,2) -> 12.96 | L2: =ROUND(K2*1.03,2) -> 13.35 | M2: =ROUND(L2*1.03,2) -> 13.75 | N2: =ROUND(M2*1.03,2) -> 14.16 | O2: =ROUND(N2*1.03,2) -> 14.58 | P2: =ROUND(O2*1.03,2) -> 15.02 | Q2: =ROUND(P2*1.03,2) -> 15.47 | ... BO2: =ROUND(BN2*1.03,2) -> 67.77
A3: Monthly Minimum | B3: 3% Annual Escalator | C3: 267 | D3: 270 | E3: 278 | F3: 286 | G3: 295 | H3: 303 | I3: 311 | J3: =ROUND(I3*1.03,2) -> 320.33 | K3: =ROUND(J3*1.03,2) -> 329.94 | L3: =ROUND(K3*1.03,2) -> 339.84 | M3: =ROUND(L3*1.03,2) -> 350.04 | N3: =ROUND(M3*1.03,2) -> 360.54 | O3: =ROUND(N3*1.03,2) -> 371.36 | P3: =ROUND(O3*1.03,2) -> 382.5 | Q3: =ROUND(P3*1.03,2) -> 393.98 | ... BO3: =ROUND(BN3*1.03,2) -> 1727.19
A4: =Form!A4 -> Updated: 12/9/2025
A5: Beginning Date of Year | B5: 43466
A6: Annual RD Amount | B6: 450
A7: Monthly Base Fee | B7: 168 | C7: =ROUND(C1,0) -> 171 | D7: =ROUND(D1,0) -> 173 | E7: =ROUND(E1,0) -> 178 | F7: =ROUND(F1,0) -> 183 | G7: =ROUND(G1,0) -> 188 | H7: =ROUND(H1,0) -> 193 | I7: =ROUND(I1,0) -> 198 | J7: =ROUND(J1,0) -> 204 | ... BO7: =ROUND(BO1,0) -> 1100
A8: Annual Base Fee | B8: =B7*12 -> 2016 | C8: =C7*12 -> 2052 | D8: =D7*12 -> 2076 | E8: =E7*12 -> 2136 | F8: =F7*12 -> 2196 | G8: =G7*12 -> 2256 | H8: =H7*12 -> 2316 | I8: =I7*12 -> 2376 | ... BO8: =BO7*12 -> 13200
A9: Per Unit Annual Fee | B9: 10.3 | C9: =C2 -> 10.46 | D9: =D2 -> 10.59 | E9: =E2 -> 10.91 | F9: =F2 -> 11.24 | G9: =G2 -> 11.58 | H9: =H2 -> 11.89 | I9: =I2 -> 12.21 | J9: =J2 -> 12.58 | ... BO9: =BO2 -> 67.77
A10: Discount Rate | B10: 0.02
A11: Monthly Minimum Fee | B11: 263 | C11: =ROUND(C3,0) -> 267 | D11: =ROUND(D3,0) -> 270 | E11: =ROUND(E3,0) -> 278 | F11: =ROUND(F3,0) -> 286 | G11: =ROUND(G3,0) -> 295 | H11: =ROUND(H3,0) -> 303 | I11: =ROUND(I3,0) -> 311 | J11: =ROUND(J3,0) -> 320 | ... BO11: =ROUND(BO3,0) -> 1727
A12: Annual Minimum Fee | B12: =B11*12 -> 3156 | C12: =C11*12 -> 3204 | D12: =D11*12 -> 3240 | E12: =E11*12 -> 3336 | F12: =F11*12 -> 3432 | G12: =G11*12 -> 3540 | H12: =H11*12 -> 3636 | I12: =I11*12 -> 3732 | ... BO12: =BO11*12 -> 20724
B14: 2019 | C14: =B14+1 -> 2020 | D14: =C14+1 -> 2021 | E14: =D14+1 -> 2022 | F14: =E14+1 -> 2023 | G14: =F14+1 -> 2024 | H14: =G14+1 -> 2025 | I14: =H14+1 -> 2026 | J14: =I14+1 -> 2027 | ... BO14: =BN14+1 -> 2084
B15: Number of years Set-Aside
A16: # of Units
A17: 1 | B17: =IF((B$8+(B$9*$A17))<B$12,B$12,B$8+(B$9*$A17)) -> 3156 | C17: =IF((C$8+(C$9*$A17))<C$12,C$12,C$8+(C$9*$A17)) -> 3204 | D17: =IF((D$8+(D$9*$A17))<D$12,D$12,D$8+(D$9*$A17)) -> 3240 | E17: =IF((E$8+(E$9*$A17))<E$12,E$12,E$8+(E$9*$A17)) -> 3336 | F17: =IF((F$8+(F$9*$A17))<F$12,F$12,F$8+(F$9*$A17)) -> 3432 | G17: =IF((G$8+(G$9*$A17))<G$12,G$12,G$8+(G$9*$A17)) -> 3540 | H17: =IF((H$8+(H$9*$A17))<H$12,H$12,H$8+(H$9*$A17)) -> 3636 | I17: =IF((I$8+(I$9*$A17))<I$12,I$12,I$8+(I$9*$A17)) -> 3732 | ... BO17: =IF((BO$8+(BO$9*$A17))<BO$12,BO$12,BO$8+(BO$9*$A17)) -> 20724
A18: 2 | B18: =IF((B$8+(B$9*$A18))<B$12,B$12,B$8+(B$9*$A18)) -> 3156 | C18: =IF((C$8+(C$9*$A18))<C$12,C$12,C$8+(C$9*$A18)) -> 3204 | D18: =IF((D$8+(D$9*$A18))<D$12,D$12,D$8+(D$9*$A18)) -> 3240 | E18: =IF((E$8+(E$9*$A18))<E$12,E$12,E$8+(E$9*$A18)) -> 3336 | F18: =IF((F$8+(F$9*$A18))<F$12,F$12,F$8+(F$9*$A18)) -> 3432 | G18: =IF((G$8+(G$9*$A18))<G$12,G$12,G$8+(G$9*$A18)) -> 3540 | H18: =IF((H$8+(H$9*$A18))<H$12,H$12,H$8+(H$9*$A18)) -> 3636 | I18: =IF((I$8+(I$9*$A18))<I$12,I$12,I$8+(I$9*$A18)) -> 3732 | ... BO18: =IF((BO$8+(BO$9*$A18))<BO$12,BO$12,BO$8+(BO$9*$A18)) -> 20724
A19: 3 | B19: =IF((B$8+(B$9*$A19))<B$12,B$12,B$8+(B$9*$A19)) -> 3156 | C19: =IF((C$8+(C$9*$A19))<C$12,C$12,C$8+(C$9*$A19)) -> 3204 | D19: =IF((D$8+(D$9*$A19))<D$12,D$12,D$8+(D$9*$A19)) -> 3240 | E19: =IF((E$8+(E$9*$A19))<E$12,E$12,E$8+(E$9*$A19)) -> 3336 | F19: =IF((F$8+(F$9*$A19))<F$12,F$12,F$8+(F$9*$A19)) -> 3432 | G19: =IF((G$8+(G$9*$A19))<G$12,G$12,G$8+(G$9*$A19)) -> 3540 | H19: =IF((H$8+(H$9*$A19))<H$12,H$12,H$8+(H$9*$A19)) -> 3636 | I19: =IF((I$8+(I$9*$A19))<I$12,I$12,I$8+(I$9*$A19)) -> 3732 | ... BO19: =IF((BO$8+(BO$9*$A19))<BO$12,BO$12,BO$8+(BO$9*$A19)) -> 20724
A20: 4 | B20: =IF((B$8+(B$9*$A20))<B$12,B$12,B$8+(B$9*$A20)) -> 3156 | C20: =IF((C$8+(C$9*$A20))<C$12,C$12,C$8+(C$9*$A20)) -> 3204 | D20: =IF((D$8+(D$9*$A20))<D$12,D$12,D$8+(D$9*$A20)) -> 3240 | E20: =IF((E$8+(E$9*$A20))<E$12,E$12,E$8+(E$9*$A20)) -> 3336 | F20: =IF((F$8+(F$9*$A20))<F$12,F$12,F$8+(F$9*$A20)) -> 3432 | G20: =IF((G$8+(G$9*$A20))<G$12,G$12,G$8+(G$9*$A20)) -> 3540 | H20: =IF((H$8+(H$9*$A20))<H$12,H$12,H$8+(H$9*$A20)) -> 3636 | I20: =IF((I$8+(I$9*$A20))<I$12,I$12,I$8+(I$9*$A20)) -> 3732 | ... BO20: =IF((BO$8+(BO$9*$A20))<BO$12,BO$12,BO$8+(BO$9*$A20)) -> 20724
A21: 5 | B21: =IF((B$8+(B$9*$A21))<B$12,B$12,B$8+(B$9*$A21)) -> 3156 | C21: =IF((C$8+(C$9*$A21))<C$12,C$12,C$8+(C$9*$A21)) -> 3204 | D21: =IF((D$8+(D$9*$A21))<D$12,D$12,D$8+(D$9*$A21)) -> 3240 | E21: =IF((E$8+(E$9*$A21))<E$12,E$12,E$8+(E$9*$A21)) -> 3336 | F21: =IF((F$8+(F$9*$A21))<F$12,F$12,F$8+(F$9*$A21)) -> 3432 | G21: =IF((G$8+(G$9*$A21))<G$12,G$12,G$8+(G$9*$A21)) -> 3540 | H21: =IF((H$8+(H$9*$A21))<H$12,H$12,H$8+(H$9*$A21)) -> 3636 | I21: =IF((I$8+(I$9*$A21))<I$12,I$12,I$8+(I$9*$A21)) -> 3732 | ... BO21: =IF((BO$8+(BO$9*$A21))<BO$12,BO$12,BO$8+(BO$9*$A21)) -> 20724
A22: 6 | B22: =IF((B$8+(B$9*$A22))<B$12,B$12,B$8+(B$9*$A22)) -> 3156 | C22: =IF((C$8+(C$9*$A22))<C$12,C$12,C$8+(C$9*$A22)) -> 3204 | D22: =IF((D$8+(D$9*$A22))<D$12,D$12,D$8+(D$9*$A22)) -> 3240 | E22: =IF((E$8+(E$9*$A22))<E$12,E$12,E$8+(E$9*$A22)) -> 3336 | F22: =IF((F$8+(F$9*$A22))<F$12,F$12,F$8+(F$9*$A22)) -> 3432 | G22: =IF((G$8+(G$9*$A22))<G$12,G$12,G$8+(G$9*$A22)) -> 3540 | H22: =IF((H$8+(H$9*$A22))<H$12,H$12,H$8+(H$9*$A22)) -> 3636 | I22: =IF((I$8+(I$9*$A22))<I$12,I$12,I$8+(I$9*$A22)) -> 3732 | ... BO22: =IF((BO$8+(BO$9*$A22))<BO$12,BO$12,BO$8+(BO$9*$A22)) -> 20724
A23: 7 | B23: =IF((B$8+(B$9*$A23))<B$12,B$12,B$8+(B$9*$A23)) -> 3156 | C23: =IF((C$8+(C$9*$A23))<C$12,C$12,C$8+(C$9*$A23)) -> 3204 | D23: =IF((D$8+(D$9*$A23))<D$12,D$12,D$8+(D$9*$A23)) -> 3240 | E23: =IF((E$8+(E$9*$A23))<E$12,E$12,E$8+(E$9*$A23)) -> 3336 | F23: =IF((F$8+(F$9*$A23))<F$12,F$12,F$8+(F$9*$A23)) -> 3432 | G23: =IF((G$8+(G$9*$A23))<G$12,G$12,G$8+(G$9*$A23)) -> 3540 | H23: =IF((H$8+(H$9*$A23))<H$12,H$12,H$8+(H$9*$A23)) -> 3636 | I23: =IF((I$8+(I$9*$A23))<I$12,I$12,I$8+(I$9*$A23)) -> 3732 | ... BO23: =IF((BO$8+(BO$9*$A23))<BO$12,BO$12,BO$8+(BO$9*$A23)) -> 20724
A24: 8 | B24: =IF((B$8+(B$9*$A24))<B$12,B$12,B$8+(B$9*$A24)) -> 3156 | C24: =IF((C$8+(C$9*$A24))<C$12,C$12,C$8+(C$9*$A24)) -> 3204 | D24: =IF((D$8+(D$9*$A24))<D$12,D$12,D$8+(D$9*$A24)) -> 3240 | E24: =IF((E$8+(E$9*$A24))<E$12,E$12,E$8+(E$9*$A24)) -> 3336 | F24: =IF((F$8+(F$9*$A24))<F$12,F$12,F$8+(F$9*$A24)) -> 3432 | G24: =IF((G$8+(G$9*$A24))<G$12,G$12,G$8+(G$9*$A24)) -> 3540 | H24: =IF((H$8+(H$9*$A24))<H$12,H$12,H$8+(H$9*$A24)) -> 3636 | I24: =IF((I$8+(I$9*$A24))<I$12,I$12,I$8+(I$9*$A24)) -> 3732 | ... BO24: =IF((BO$8+(BO$9*$A24))<BO$12,BO$12,BO$8+(BO$9*$A24)) -> 20724
A25: 9 | B25: =IF((B$8+(B$9*$A25))<B$12,B$12,B$8+(B$9*$A25)) -> 3156 | C25: =IF((C$8+(C$9*$A25))<C$12,C$12,C$8+(C$9*$A25)) -> 3204 | D25: =IF((D$8+(D$9*$A25))<D$12,D$12,D$8+(D$9*$A25)) -> 3240 | E25: =IF((E$8+(E$9*$A25))<E$12,E$12,E$8+(E$9*$A25)) -> 3336 | F25: =IF((F$8+(F$9*$A25))<F$12,F$12,F$8+(F$9*$A25)) -> 3432 | G25: =IF((G$8+(G$9*$A25))<G$12,G$12,G$8+(G$9*$A25)) -> 3540 | H25: =IF((H$8+(H$9*$A25))<H$12,H$12,H$8+(H$9*$A25)) -> 3636 | I25: =IF((I$8+(I$9*$A25))<I$12,I$12,I$8+(I$9*$A25)) -> 3732 | ... BO25: =IF((BO$8+(BO$9*$A25))<BO$12,BO$12,BO$8+(BO$9*$A25)) -> 20724
A26: 10 | B26: =IF((B$8+(B$9*$A26))<B$12,B$12,B$8+(B$9*$A26)) -> 3156 | C26: =IF((C$8+(C$9*$A26))<C$12,C$12,C$8+(C$9*$A26)) -> 3204 | D26: =IF((D$8+(D$9*$A26))<D$12,D$12,D$8+(D$9*$A26)) -> 3240 | E26: =IF((E$8+(E$9*$A26))<E$12,E$12,E$8+(E$9*$A26)) -> 3336 | F26: =IF((F$8+(F$9*$A26))<F$12,F$12,F$8+(F$9*$A26)) -> 3432 | G26: =IF((G$8+(G$9*$A26))<G$12,G$12,G$8+(G$9*$A26)) -> 3540 | H26: =IF((H$8+(H$9*$A26))<H$12,H$12,H$8+(H$9*$A26)) -> 3636 | I26: =IF((I$8+(I$9*$A26))<I$12,I$12,I$8+(I$9*$A26)) -> 3732 | ... BO26: =IF((BO$8+(BO$9*$A26))<BO$12,BO$12,BO$8+(BO$9*$A26)) -> 20724
A27: 11 | B27: =IF((B$8+(B$9*$A27))<B$12,B$12,B$8+(B$9*$A27)) -> 3156 | C27: =IF((C$8+(C$9*$A27))<C$12,C$12,C$8+(C$9*$A27)) -> 3204 | D27: =IF((D$8+(D$9*$A27))<D$12,D$12,D$8+(D$9*$A27)) -> 3240 | E27: =IF((E$8+(E$9*$A27))<E$12,E$12,E$8+(E$9*$A27)) -> 3336 | F27: =IF((F$8+(F$9*$A27))<F$12,F$12,F$8+(F$9*$A27)) -> 3432 | G27: =IF((G$8+(G$9*$A27))<G$12,G$12,G$8+(G$9*$A27)) -> 3540 | H27: =IF((H$8+(H$9*$A27))<H$12,H$12,H$8+(H$9*$A27)) -> 3636 | I27: =IF((I$8+(I$9*$A27))<I$12,I$12,I$8+(I$9*$A27)) -> 3732 | ... BO27: =IF((BO$8+(BO$9*$A27))<BO$12,BO$12,BO$8+(BO$9*$A27)) -> 20724
A28: 12 | B28: =IF((B$8+(B$9*$A28))<B$12,B$12,B$8+(B$9*$A28)) -> 3156 | C28: =IF((C$8+(C$9*$A28))<C$12,C$12,C$8+(C$9*$A28)) -> 3204 | D28: =IF((D$8+(D$9*$A28))<D$12,D$12,D$8+(D$9*$A28)) -> 3240 | E28: =IF((E$8+(E$9*$A28))<E$12,E$12,E$8+(E$9*$A28)) -> 3336 | F28: =IF((F$8+(F$9*$A28))<F$12,F$12,F$8+(F$9*$A28)) -> 3432 | G28: =IF((G$8+(G$9*$A28))<G$12,G$12,G$8+(G$9*$A28)) -> 3540 | H28: =IF((H$8+(H$9*$A28))<H$12,H$12,H$8+(H$9*$A28)) -> 3636 | I28: =IF((I$8+(I$9*$A28))<I$12,I$12,I$8+(I$9*$A28)) -> 3732 | ... BO28: =IF((BO$8+(BO$9*$A28))<BO$12,BO$12,BO$8+(BO$9*$A28)) -> 20724
... A616: 600 | B616: =IF((B$8+(B$9*$A616))<B$12,B$12,B$8+(B$9*$A616)) -> 8196 | C616: =IF((C$8+(C$9*$A616))<C$12,C$12,C$8+(C$9*$A616)) -> 8328 | D616: =IF((D$8+(D$9*$A616))<D$12,D$12,D$8+(D$9*$A616)) -> 8430 | E616: =IF((E$8+(E$9*$A616))<E$12,E$12,E$8+(E$9*$A616)) -> 8682 | F616: =IF((F$8+(F$9*$A616))<F$12,F$12,F$8+(F$9*$A616)) -> 8940 | G616: =IF((G$8+(G$9*$A616))<G$12,G$12,G$8+(G$9*$A616)) -> 9204 | H616: =IF((H$8+(H$9*$A616))<H$12,H$12,H$8+(H$9*$A616)) -> 9450 | I616: =IF((I$8+(I$9*$A616))<I$12,I$12,I$8+(I$9*$A616)) -> 9702 | ... BO616: =IF((BO$8+(BO$9*$A616))<BO$12,BO$12,BO$8+(BO$9*$A616)) -> 53862

Sheet Calculations
G1: 43831 | H1: =DATE(YEAR(G5),MONTH(G5),DAY(G5)+1) -> 44197 | I1: =DATE(YEAR(H5),MONTH(H5),DAY(H5)+1) -> 44562 | J1: =DATE(YEAR(I5),MONTH(I5),DAY(I5)+1) -> 44927 | K1: =DATE(YEAR(J5),MONTH(J5),DAY(J5)+1) -> 45292 | L1: =DATE(YEAR(K5),MONTH(K5),DAY(K5)+1) -> 45658 | M1: =DATE(YEAR(L5),MONTH(L5),DAY(L5)+1) -> 46023 | N1: =DATE(YEAR(M5),MONTH(M5),DAY(M5)+1) -> 46388 | O1: =DATE(YEAR(N5),MONTH(N5),DAY(N5)+1) -> 46753 | P1: =CONCATENATE("Calculation - By Final Allocation Quarter ",YEAR(G1)) -> Calculation - By Final Allocation Quarter 2020 | U1: =CONCATENATE("Calculation - By Final Allocation Quarter ",YEAR(H1)) -> Calculation - By Final Allocation Quarter 2021 | Z1: =CONCATENATE("Calculation - By Final Allocation Quarter ",YEAR(I1)) -> Calculation - By Final Allocation Quarter 2022 | AE1: =CONCATENATE("Calculation - By Final Allocation Quarter ",YEAR(J1)) -> Calculation - By Final Allocation Quarter 2023 | AJ1: =CONCATENATE("Calculation - By Final Allocation Quarter ",YEAR(K1)) -> Calculation - By Final Allocation Quarter 2024 | AO1: =CONCATENATE("Calculation - By Final Allocation Quarter ",YEAR(L1)) -> Calculation - By Final Allocation Quarter 2025 | AT1: =CONCATENATE("Calculation - By Final Allocation Quarter ",YEAR(M1)) -> Calculation - By Final Allocation Quarter 2026 | AY1: =CONCATENATE("Calculation - By Final Allocation Quarter ",YEAR(N1)) -> Calculation - By Final Allocation Quarter 2027 | BD1: =CONCATENATE("Calculation - By Final Allocation Quarter ",YEAR(O1)) -> Calculation - By Final Allocation Quarter 2028
G2: 43921 | H2: =EOMONTH(H1,2) -> 44286 | I2: =EOMONTH(I1,2) -> 44651 | J2: =EOMONTH(J1,2) -> 45016 | K2: =EOMONTH(K1,2) -> 45382 | L2: =EOMONTH(L1,2) -> 45747 | M2: =EOMONTH(M1,2) -> 46112 | N2: =EOMONTH(N1,2) -> 46477 | O2: =EOMONTH(O1,2) -> 46843
G3: 44012 | H3: =EOMONTH(H2,3) -> 44377 | I3: =EOMONTH(I2,3) -> 44742 | J3: =EOMONTH(J2,3) -> 45107 | K3: =EOMONTH(K2,3) -> 45473 | L3: =EOMONTH(L2,3) -> 45838 | M3: =EOMONTH(M2,3) -> 46203 | N3: =EOMONTH(N2,3) -> 46568 | O3: =EOMONTH(O2,3) -> 46934 | P3: 1st qtr | Q3: 2nd qtr | R3: 3rd qtr | S3: 4th qtr | U3: 1st qtr | V3: 2nd qtr | W3: 3rd qtr | X3: 4th qtr | Z3: 1st qtr | AA3: 2nd qtr | AB3: 3rd qtr | AC3: 4th qtr | AE3: 1st qtr | AF3: 2nd qtr | AG3: 3rd qtr | AH3: 4th qtr | AJ3: 1st qtr | AK3: 2nd qtr | AL3: 3rd qtr | AM3: 4th qtr | AO3: 1st qtr | AP3: 2nd qtr | AQ3: 3rd qtr | AR3: 4th qtr | AT3: 1st qtr | AU3: 2nd qtr | AV3: 3rd qtr | AW3: 4th qtr | AY3: 1st qtr | AZ3: 2nd qtr | BA3: 3rd qtr | BB3: 4th qtr | BD3: 1st qtr | BE3: 2nd qtr | BF3: 3rd qtr | BG3: 4th qtr
G4: 44104 | H4: =EOMONTH(H3,3) -> 44469 | I4: =EOMONTH(I3,3) -> 44834 | J4: =EOMONTH(J3,3) -> 45199 | K4: =EOMONTH(K3,3) -> 45565 | L4: =EOMONTH(L3,3) -> 45930 | M4: =EOMONTH(M3,3) -> 46295 | N4: =EOMONTH(N3,3) -> 46660 | O4: =EOMONTH(O3,3) -> 47026 | P4: =IF(OR($K$24=0,$K$25=0),"",IF($G$9=1,NPV(Table!$B$10/4,INDEX($I:$I,$K$10):INDEX($I:$I,$K$11)),"")) | Q4: =IF(OR($K$24=0,$K$25=0),"",IF($G$9=2,NPV(Table!$B$10/4,INDEX($I:$I,$K$10):INDEX($I:$I,$K$11)),"")) | R4: =IF(OR($K$24=0,$K$25=0),"",IF($G$9=3,NPV(Table!$B$10/4,INDEX($I:$I,$K$10):INDEX($I:$I,$K$11)),"")) | S4: =IF(OR($K$24=0,$K$25=0),"",IF($G$9=4,NPV(Table!$B$10/4,INDEX($I:$I,$K$10):INDEX($I:$I,$K$11)),"")) | U4: =IF(OR($K$24=0,$K$25=0),"",IF($G$10=1,NPV(Table!$B$10/4,INDEX($I:$I,$K$10):INDEX($I:$I,$K$11)),"")) | V4: =IF(OR($K$24=0,$K$25=0),"",IF($G$10=2,NPV(Table!$B$10/4,INDEX($I:$I,$K$10):INDEX($I:$I,$K$11)),"")) | W4: =IF(OR($K$24=0,$K$25=0),"",IF($G$10=3,NPV(Table!$B$10/4,INDEX($I:$I,$K$10):INDEX($I:$I,$K$11)),"")) | X4: =IF(OR($K$24=0,$K$25=0),"",IF($G$10=4,NPV(Table!$B$10/4,INDEX($I:$I,$K$10):INDEX($I:$I,$K$11)),"")) | Z4: =IF(OR($K$24=0,$K$25=0),"",IF($G$11=1,NPV(Table!$B$10/4,INDEX($I:$I,$K$10):INDEX($I:$I,$K$11)),"")) | AA4: =IF(OR($K$24=0,$K$25=0),"",IF($G$11=2,NPV(Table!$B$10/4,INDEX($I:$I,$K$10):INDEX($I:$I,$K$11)),"")) | AB4: =IF(OR($K$24=0,$K$25=0),"",IF($G$11=3,NPV(Table!$B$10/4,INDEX($I:$I,$K$10):INDEX($I:$I,$K$11)),"")) | AC4: =IF(OR($K$24=0,$K$25=0),"",IF($G$11=4,NPV(Table!$B$10/4,INDEX($I:$I,$K$10):INDEX($I:$I,$K$11)),"")) | AE4: =IF(OR($K$24=0,$K$25=0),"",IF($G$12=1,NPV(Table!$B$10/4,INDEX($I:$I,$K$10):INDEX($I:$I,$K$11)),"")) | AF4: =IF(OR($K$24=0,$K$25=0),"",IF($G$12=2,NPV(Table!$B$10/4,INDEX($I:$I,$K$10):INDEX($I:$I,$K$11)),"")) | AG4: =IF(OR($K$24=0,$K$25=0),"",IF($G$12=3,NPV(Table!$B$10/4,INDEX($I:$I,$K$10):INDEX($I:$I,$K$11)),"")) | AH4: =IF(OR($K$24=0,$K$25=0),"",IF($G$12=4,NPV(Table!$B$10/4,INDEX($I:$I,$K$10):INDEX($I:$I,$K$11)),"")) | AJ4: =IF(OR($K$24=0,$K$25=0),"",IF($G$13=1,NPV(Table!$B$10/4,INDEX($I:$I,$K$10):INDEX($I:$I,$K$11)),"")) | AK4: =IF(OR($K$24=0,$K$25=0),"",IF($G$13=2,NPV(Table!$B$10/4,INDEX($I:$I,$K$10):INDEX($I:$I,$K$11)),"")) | AL4: =IF(OR($K$24=0,$K$25=0),"",IF($G$13=3,NPV(Table!$B$10/4,INDEX($I:$I,$K$10):INDEX($I:$I,$K$11)),"")) | AM4: =IF(OR($K$24=0,$K$25=0),"",IF($G$13=4,NPV(Table!$B$10/4,INDEX($I:$I,$K$10):INDEX($I:$I,$K$11)),"")) | AO4: =IF(OR($K$24=0,$K$25=0),"",IF($G$14=1,NPV(Table!$B$10/4,INDEX($I:$I,$K$10):INDEX($I:$I,$K$11)),"")) | AP4: =IF(OR($K$24=0,$K$25=0),"",IF($G$14=2,NPV(Table!$B$10/4,INDEX($I:$I,$K$10):INDEX($I:$I,$K$11)),"")) | AQ4: =IF(OR($K$24=0,$K$25=0),"",IF($G$14=3,NPV(Table!$B$10/4,INDEX($I:$I,$K$10):INDEX($I:$I,$K$11)),"")) | AR4: =IF(OR($K$24=0,$K$25=0),"",IF($G$14=4,NPV(Table!$B$10/4,INDEX($I:$I,$K$10):INDEX($I:$I,$K$11)),"")) | AT4: =IF(OR($K$24=0,$K$25=0),"",IF($G$15=1,NPV(Table!$B$10/4,INDEX($I:$I,$K$10):INDEX($I:$I,$K$11)),"")) | AU4: =IF(OR($K$24=0,$K$25=0),"",IF($G$15=2,NPV(Table!$B$10/4,INDEX($I:$I,$K$10):INDEX($I:$I,$K$11)),"")) | AV4: =IF(OR($K$24=0,$K$25=0),"",IF($G$15=3,NPV(Table!$B$10/4,INDEX($I:$I,$K$10):INDEX($I:$I,$K$11)),"")) | AW4: =IF(OR($K$24=0,$K$25=0),"",IF($G$15=4,NPV(Table!$B$10/4,INDEX($I:$I,$K$10):INDEX($I:$I,$K$11)),"")) | AY4: =IF(OR($K$24=0,$K$25=0),"",IF($G$16=1,NPV(Table!$B$10/4,INDEX($I:$I,$K$10):INDEX($I:$I,$K$11)),"")) | AZ4: =IF(OR($K$24=0,$K$25=0),"",IF($G$16=2,NPV(Table!$B$10/4,INDEX($I:$I,$K$10):INDEX($I:$I,$K$11)),"")) | BA4: =IF(OR($K$24=0,$K$25=0),"",IF($G$16=3,NPV(Table!$B$10/4,INDEX($I:$I,$K$10):INDEX($I:$I,$K$11)),"")) | BB4: =IF(OR($K$24=0,$K$25=0),"",IF($G$16=4,NPV(Table!$B$10/4,INDEX($I:$I,$K$10):INDEX($I:$I,$K$11)),"")) | BD4: =IF(OR($K$24=0,$K$25=0),"",IF($G$17=1,NPV(Table!$B$10/4,INDEX($I:$I,$K$10):INDEX($I:$I,$K$11)),"")) | BE4: =IF(OR($K$24=0,$K$25=0),"",IF($G$17=2,NPV(Table!$B$10/4,INDEX($I:$I,$K$10):INDEX($I:$I,$K$11)),"")) | BF4: =IF(OR($K$24=0,$K$25=0),"",IF($G$17=3,NPV(Table!$B$10/4,INDEX($I:$I,$K$10):INDEX($I:$I,$K$11)),"")) | BG4: =IF(OR($K$24=0,$K$25=0),"",IF($G$17=4,NPV(Table!$B$10/4,INDEX($I:$I,$K$10):INDEX($I:$I,$K$11)),""))
G5: 44196 | H5: =EOMONTH(H4,3) -> 44561 | I5: =EOMONTH(I4,3) -> 44926 | J5: =EOMONTH(J4,3) -> 45291 | K5: =EOMONTH(K4,3) -> 45657 | L5: =EOMONTH(L4,3) -> 46022 | M5: =EOMONTH(M4,3) -> 46387 | N5: =EOMONTH(N4,3) -> 46752 | O5: =EOMONTH(O4,3) -> 47118
M6: Interim Calculation | S6: Calculation
E7: =NPV(0.02/4,I37:I239)+SUM(I32:I36) -> 0 | G7: =Form!A4 -> Updated: 12/9/2025 | M7: =Form!B9 -> 0 | N7: First Move-In Date | S7: =IF(M7>G56,0,SUMIF(G32:G291,"<"&K9,I32:I291)) -> 0 | T7: HC CM Fees not included in NPV Calc
G8: =IF(Form!B10<>"",YEAR(Form!B10),0) -> 0 | H8: Year of Final Allocation | K8: 55 | L8: # of Rows not in NPV | M8: =EOMONTH(M7,MOD(3-MONTH(M7),3)) -> 91 | N8: End of Quarter of First Move-in | S8: =SUM(P4:BG4) -> 0 | T8: NPV of HC CM Fees
G9: =IF(Form!B10="","",IF(G8=YEAR(G1),IF(Form!B10<=Calculations!G2,1,IF(AND(Form!B10>Calculations!G2,Form!B10<=Calculations!G3),2,IF(AND(Form!B10>Calculations!G3,Form!B10<=Calculations!G4),3,IF(Form!B10>Calculations!G4,4,"")))),"")) | H9: =CONCATENATE(YEAR(G1)," Qtr of Final Allocation") -> 2020 Qtr of Final Allocation | K9: 46112 | L9: NPV Beginning Date | M9: =MONTH(M8)-MONTH(M7)+1 -> 3 | N9: # of Months in quarter of Move-In | S9: =-Form!B11 -> 0 | T9: Fees Collected at Preliminary Allocation
G10: =IF(Form!B10="","",IF(G8=YEAR(H1),IF(Form!B10<=Calculations!H2,1,IF(AND(Form!B10>Calculations!H2,Form!B10<=Calculations!H3),2,IF(AND(Form!B10>Calculations!H3,Form!B10<=Calculations!H4),3,IF(Form!B10>Calculations!H4,4,"")))),"")) | H10: =CONCATENATE(YEAR(H1)," Qtr of Final Allocation") -> 2021 Qtr of Final Allocation | K10: {=IF(INDEX(MATCH(1,--(I56:I291<>0),),)+K8<VLOOKUP(M8,Q32:R295,2),VLOOKUP(M8,Q32:R295,2),INDEX(MATCH(1,--(I56:I291<>0),),)+K8)} -> #N/A | L10: NPV Beginning Row | M10: =Form!B10 -> 0 | N10: Final PIS Date | S10: =SUM(S7:S9) -> 0 | T10: Net Fees Due
G11: =IF(Form!B10="","",IF(G8=YEAR(I1),IF(Form!B10<=Calculations!I2,1,IF(AND(Form!B10>Calculations!I2,Form!B10<=Calculations!I3),2,IF(AND(Form!B10>Calculations!I3,Form!B10<=Calculations!I4),3,IF(Form!B10>Calculations!I4,4,"")))),"")) | H11: =CONCATENATE(YEAR(I1)," Qtr of Final Allocation") -> 2022 Qtr of Final Allocation | K11: =IF(G52>=K9,COUNTIFS(G32:G291,"<="&M12,G32:G291,">="&K9)+K8,COUNTIFS(G32:G291,"<="&M12,G32:G291,">="&K9)+K10-1) -> #N/A | L11: NPV Ending Row | M11: =DATE(YEAR(Form!B10)+Form!B8,MONTH(Form!B10),DAY(Form!B10)) -> 0 | N11: Last Day of EUA
G12: =IF(Form!B$10="","",IF(G$8=YEAR(J$1),IF(Form!B$10<=Calculations!J$2,1,IF(AND(Form!B$10>Calculations!J$2,Form!B$10<=Calculations!J$3),2,IF(AND(Form!B$10>Calculations!J$3,Form!B$10<=Calculations!J$4),3,IF(Form!B$10>Calculations!J$4,4,"")))),"")) | H12: =CONCATENATE(YEAR(J1)," Qtr of Final Allocation") -> 2023 Qtr of Final Allocation | M12: =DATE(YEAR(M11),12,31) -> 366 | N12: Last Day of EUA using "NLT" Basis
G13: =IF(Form!B$10="","",IF(G$8=YEAR(K$1),IF(Form!B$10<=Calculations!K$2,1,IF(AND(Form!B$10>Calculations!K$2,Form!B$10<=Calculations!K$3),2,IF(AND(Form!B$10>Calculations!K$3,Form!B$10<=Calculations!K$4),3,IF(Form!B$10>Calculations!K$4,4,"")))),"")) | H13: =CONCATENATE(YEAR(K1)," Qtr of Final Allocation") -> 2024 Qtr of Final Allocation
G14: =IF(Form!B$10="","",IF(G$8=YEAR(L$1),IF(Form!B$10<=Calculations!L$2,1,IF(AND(Form!B$10>Calculations!L$2,Form!B$10<=Calculations!L$3),2,IF(AND(Form!B$10>Calculations!L$3,Form!B$10<=Calculations!L$4),3,IF(Form!B$10>Calculations!L$4,4,"")))),"")) | H14: =CONCATENATE(YEAR(L1)," Qtr of Final Allocation") -> 2025 Qtr of Final Allocation
G15: =IF(Form!B$10="","",IF(G$8=YEAR(M$1),IF(Form!B$10<=Calculations!M$2,1,IF(AND(Form!B$10>Calculations!M$2,Form!B$10<=Calculations!M$3),2,IF(AND(Form!B$10>Calculations!M$3,Form!B$10<=Calculations!M$4),3,IF(Form!B$10>Calculations!M$4,4,"")))),"")) | H15: =CONCATENATE(YEAR(M1)," Qtr of Final Allocation") -> 2026 Qtr of Final Allocation
G16: =IF(Form!B$10="","",IF(G$8=YEAR(N$1),IF(Form!B$10<=Calculations!N$2,1,IF(AND(Form!B$10>Calculations!N$2,Form!B$10<=Calculations!N$3),2,IF(AND(Form!B$10>Calculations!N$3,Form!B$10<=Calculations!N$4),3,IF(Form!B$10>Calculations!N$4,4,"")))),"")) | H16: =CONCATENATE(YEAR(N$1)," Qtr of Final Allocation") -> 2027 Qtr of Final Allocation
G17: =IF(Form!B$10="","",IF(G$8=YEAR(O$1),IF(Form!B$10<=Calculations!O$2,1,IF(AND(Form!B$10>Calculations!O$2,Form!B$10<=Calculations!O$3),2,IF(AND(Form!B$10>Calculations!O$3,Form!B$10<=Calculations!O$4),3,IF(Form!B$10>Calculations!O$4,4,"")))),"")) | H17: =CONCATENATE(YEAR(O$1)," Qtr of Final Allocation") -> 2028 Qtr of Final Allocation
G19: =IF(Form!B10="","",IF(G8=YEAR(G1),MONTH(Form!B10),"")) | H19: =CONCATENATE(YEAR(G1)," Month of Final Allocation") -> 2020 Month of Final Allocation
G20: =IF(Form!B10="","",IF(G8=YEAR(H1),MONTH(Form!B10),"")) | H20: =CONCATENATE(YEAR(H1)," Month of Final Allocation") -> 2021 Month of Final Allocation
G21: =IF(Form!B10="","",IF(G8=YEAR(I1),MONTH(Form!B10),"")) | H21: =CONCATENATE(YEAR(I1)," Month of Final Allocation") -> 2022 Month of Final Allocation
G22: =IF(Form!B$10="","",IF(G$8=YEAR(J$1),MONTH(Form!B$10),"")) | H22: =CONCATENATE(YEAR(J1)," Month of Final Allocation") -> 2023 Month of Final Allocation
G23: =IF(Form!B$10="","",IF(G$8=YEAR(K$1),MONTH(Form!B$10),"")) | H23: =CONCATENATE(YEAR(K1)," Month of Final Allocation") -> 2024 Month of Final Allocation
G24: =IF(Form!B$10="","",IF(G$8=YEAR(L$1),MONTH(Form!B$10),"")) | H24: =CONCATENATE(YEAR(L1)," Month of Final Allocation") -> 2025 Month of Final Allocation | K24: =Form!B8 -> 0 | L24: years
G25: =IF(Form!B$10="","",IF(G$8=YEAR(M$1),MONTH(Form!B$10),"")) | H25: =CONCATENATE(YEAR(M1)," Month of Final Allocation") -> 2026 Month of Final Allocation | K25: =K24*4 -> 0 | L25: # payments
G26: =IF(Form!B$10="","",IF(G$8=YEAR(N$1),MONTH(Form!B$10),"")) | H26: =CONCATENATE(YEAR(N1)," Month of Final Allocation") -> 2027 Month of Final Allocation
G27: =IF(Form!B$10="","",IF(G$8=YEAR(O$1),MONTH(Form!B$10),"")) | H27: =CONCATENATE(YEAR(O$1)," Month of Final Allocation") -> 2028 Month of Final Allocation
K29: Need to be updated when the NPV quarter changes
A31: G Year = M12 year? | B31: First Move in <G | C31: G in same qtr as first move in | D31: H Qtr | E31: Same | F31: F<=last day of EUA | G31: Payment Qtr | I31: Payment
G32: 43921 | H32: =IFERROR(VLOOKUP(Form!$B$7,Table!$A$14:$BO$616,MATCH(VALUE(YEAR(G32)),Table!$A$14:$BO$14,0),FALSE)/4,0) -> 0 | I32: =IF(G32<Form!$B$9,0,IF(AND(G32=$M$8,$M$9=1),H32/90*(30-DAY(Form!$B$9)+1),IF(AND(G32=$M$8,$M$9=2),H32/90*(60-DAY(Form!$B$9)+1),IF(AND(G32=$M$8,$M$9=3),H32/90*(90-DAY(Form!$B$9)+1),H32)))) -> 0 | Q32: 43921 | R32: 32
G33: 44012 | H33: =IFERROR(VLOOKUP(Form!$B$7,Table!$A$14:$BO$616,MATCH(VALUE(YEAR(G33)),Table!$A$14:$BO$14,0),FALSE)/4,0) -> 0 | I33: =IF(G33<Form!$B$9,0,IF(AND(G33=$M$8,$M$9=1),H33/90*(30-DAY(Form!$B$9)+1),IF(AND(G33=$M$8,$M$9=2),H33/90*(60-DAY(Form!$B$9)+1),IF(AND(G33=$M$8,$M$9=3),H33/90*(90-DAY(Form!$B$9)+1),H33)))) -> 0 | Q33: 44012 | R33: 33
G34: 44104 | H34: =IFERROR(VLOOKUP(Form!$B$7,Table!$A$14:$BO$616,MATCH(VALUE(YEAR(G34)),Table!$A$14:$BO$14,0),FALSE)/4,0) -> 0 | I34: =IF(G34<Form!$B$9,0,IF(AND(G34=$M$8,$M$9=1),H34/90*(30-DAY(Form!$B$9)+1),IF(AND(G34=$M$8,$M$9=2),H34/90*(60-DAY(Form!$B$9)+1),IF(AND(G34=$M$8,$M$9=3),H34/90*(90-DAY(Form!$B$9)+1),H34)))) -> 0 | Q34: 44104 | R34: 34
G35: 44196 | H35: =IFERROR(VLOOKUP(Form!$B$7,Table!$A$14:$BO$616,MATCH(VALUE(YEAR(G35)),Table!$A$14:$BO$14,0),FALSE)/4,0) -> 0 | I35: =IF(G35<Form!$B$9,0,IF(AND(G35=$M$8,$M$9=1),H35/90*(30-DAY(Form!$B$9)+1),IF(AND(G35=$M$8,$M$9=2),H35/90*(60-DAY(Form!$B$9)+1),IF(AND(G35=$M$8,$M$9=3),H35/90*(90-DAY(Form!$B$9)+1),H35)))) -> 0 | Q35: 44196 | R35: 35
G36: 44286 | H36: =IFERROR(VLOOKUP(Form!$B$7,Table!$A$14:$BO$616,MATCH(VALUE(YEAR(G36)),Table!$A$14:$BO$14,0),FALSE)/4,0) -> 0 | I36: =IF(G36<Form!$B$9,0,IF(AND(G36=$M$8,$M$9=1),H36/90*(30-DAY(Form!$B$9)+1),IF(AND(G36=$M$8,$M$9=2),H36/90*(60-DAY(Form!$B$9)+1),IF(AND(G36=$M$8,$M$9=3),H36/90*(90-DAY(Form!$B$9)+1),H36)))) -> 0 | Q36: 44286 | R36: 36
G37: 44377 | H37: =IFERROR(VLOOKUP(Form!$B$7,Table!$A$14:$BO$616,MATCH(VALUE(YEAR(G37)),Table!$A$14:$BO$14,0),FALSE)/4,0) -> 0 | I37: =IF(G37<Form!$B$9,0,IF(AND(G37=$M$8,$M$9=1),H37/90*(30-DAY(Form!$B$9)+1),IF(AND(G37=$M$8,$M$9=2),H37/90*(60-DAY(Form!$B$9)+1),IF(AND(G37=$M$8,$M$9=3),H37/90*(90-DAY(Form!$B$9)+1),H37)))) -> 0 | Q37: 44377 | R37: 37
G38: 44469 | H38: =IFERROR(VLOOKUP(Form!$B$7,Table!$A$14:$BO$616,MATCH(VALUE(YEAR(G38)),Table!$A$14:$BO$14,0),FALSE)/4,0) -> 0 | I38: =IF(G38<Form!$B$9,0,IF(AND(G38=$M$8,$M$9=1),H38/90*(30-DAY(Form!$B$9)+1),IF(AND(G38=$M$8,$M$9=2),H38/90*(60-DAY(Form!$B$9)+1),IF(AND(G38=$M$8,$M$9=3),H38/90*(90-DAY(Form!$B$9)+1),H38)))) -> 0 | Q38: 44469 | R38: 38
G39: 44561 | H39: =IFERROR(VLOOKUP(Form!$B$7,Table!$A$14:$BO$616,MATCH(VALUE(YEAR(G39)),Table!$A$14:$BO$14,0),FALSE)/4,0) -> 0 | I39: =IF(G39<Form!$B$9,0,IF(AND(G39=$M$8,$M$9=1),H39/90*(30-DAY(Form!$B$9)+1),IF(AND(G39=$M$8,$M$9=2),H39/90*(60-DAY(Form!$B$9)+1),IF(AND(G39=$M$8,$M$9=3),H39/90*(90-DAY(Form!$B$9)+1),H39)))) -> 0 | Q39: 44561 | R39: 39
G40: 44651 | H40: =IFERROR(VLOOKUP(Form!$B$7,Table!$A$14:$BO$616,MATCH(VALUE(YEAR(G40)),Table!$A$14:$BO$14,0),FALSE)/4,0) -> 0 | I40: =IF(G40<Form!$B$9,0,IF(AND(G40=$M$8,$M$9=1),H40/90*(30-DAY(Form!$B$9)+1),IF(AND(G40=$M$8,$M$9=2),H40/90*(60-DAY(Form!$B$9)+1),IF(AND(G40=$M$8,$M$9=3),H40/90*(90-DAY(Form!$B$9)+1),H40)))) -> 0 | Q40: 44651 | R40: 40
A41: =IF(YEAR(G37)=YEAR($M$12),"YES","NO") -> NO | B41: =IF(Form!$B$9<=Calculations!G37,"YES","NO") -> YES | C41: =IF(AND(A41="YES",B41="YES"),IF(Form!$B$9<=Calculations!$H$2,1,IF(Form!$B$9<=Calculations!$H$3,2,IF(Form!$B$9<=Calculations!$H$4,3,IF(Form!$B$9<=Calculations!$H$5,4,0))))) -> FALSE | D41: =IF(AND(A41="YES",B41="YES"),IF(G37<=$H$2,1,IF(G37<=$H$3,2,IF(G37<=$H$4,3,IF(G37<=$H$5,4,0))))) -> FALSE | E41: =IF(AND(C41<>0,C41=D41),"YES","NO") -> YES | F41: =IF(G37<=$M$12,"YES","NO") -> NO | G41: 44742 | H41: =IFERROR(VLOOKUP(Form!$B$7,Table!$A$14:$BO$616,MATCH(VALUE(YEAR(G41)),Table!$A$14:$BO$14,0),FALSE)/4,0) -> 0 | I41: =IF(G41<Form!$B$9,0,IF(AND(G41=$M$8,$M$9=1),H41/90*(30-DAY(Form!$B$9)+1),IF(AND(G41=$M$8,$M$9=2),H41/90*(60-DAY(Form!$B$9)+1),IF(AND(G41=$M$8,$M$9=3),H41/90*(90-DAY(Form!$B$9)+1),H41)))) -> 0 | Q41: 44742 | R41: 41
A42: =IF(YEAR(G38)=YEAR($M$12),"YES","NO") -> NO | B42: =IF(Form!$B$9<=Calculations!G38,"YES","NO") -> YES | C42: =IF(AND(A42="YES",B42="YES"),IF(Form!$B$9<=Calculations!$H$2,1,IF(Form!$B$9<=Calculations!$H$3,2,IF(Form!$B$9<=Calculations!$H$4,3,IF(Form!$B$9<=Calculations!$H$5,4,0))))) -> FALSE | D42: =IF(AND(A42="YES",B42="YES"),IF(G38<=$H$2,1,IF(G38<=$H$3,2,IF(G38<=$H$4,3,IF(G38<=$H$5,4,0))))) -> FALSE | E42: =IF(AND(C42<>0,C42=D42),"YES","NO") -> YES | F42: =IF(G38<=$M$12,"YES","NO") -> NO | G42: 44834 | H42: =IFERROR(VLOOKUP(Form!$B$7,Table!$A$14:$BO$616,MATCH(VALUE(YEAR(G42)),Table!$A$14:$BO$14,0),FALSE)/4,0) -> 0 | I42: =IF(G42<Form!$B$9,0,IF(AND(G42=$M$8,$M$9=1),H42/90*(30-DAY(Form!$B$9)+1),IF(AND(G42=$M$8,$M$9=2),H42/90*(60-DAY(Form!$B$9)+1),IF(AND(G42=$M$8,$M$9=3),H42/90*(90-DAY(Form!$B$9)+1),H42)))) -> 0 | Q42: 44834 | R42: 42
A43: =IF(YEAR(G39)=YEAR($M$12),"YES","NO") -> NO | B43: =IF(Form!$B$9<=Calculations!G39,"YES","NO") -> YES | C43: =IF(AND(A43="YES",B43="YES"),IF(Form!$B$9<=Calculations!$H$2,1,IF(Form!$B$9<=Calculations!$H$3,2,IF(Form!$B$9<=Calculations!$H$4,3,IF(Form!$B$9<=Calculations!$H$5,4,0))))) -> FALSE | D43: =IF(AND(A43="YES",B43="YES"),IF(G39<=$H$2,1,IF(G39<=$H$3,2,IF(G39<=$H$4,3,IF(G39<=$H$5,4,0))))) -> FALSE | E43: =IF(AND(C43<>0,C43=D43),"YES","NO") -> YES | F43: =IF(G39<=$M$12,"YES","NO") -> NO | G43: 44926 | H43: =IFERROR(VLOOKUP(Form!$B$7,Table!$A$14:$BO$616,MATCH(VALUE(YEAR(G43)),Table!$A$14:$BO$14,0),FALSE)/4,0) -> 0 | I43: =IF(G43<Form!$B$9,0,IF(AND(G43=$M$8,$M$9=1),H43/90*(30-DAY(Form!$B$9)+1),IF(AND(G43=$M$8,$M$9=2),H43/90*(60-DAY(Form!$B$9)+1),IF(AND(G43=$M$8,$M$9=3),H43/90*(90-DAY(Form!$B$9)+1),H43)))) -> 0 | Q43: 44926 | R43: 43
A44: =IF(YEAR(G40)=YEAR($M$12),"YES","NO") -> NO | B44: =IF(Form!$B$9<=Calculations!G40,"YES","NO") -> YES | C44: =IF(AND(A44="YES",B44="YES"),IF(Form!$B$9<=Calculations!$H$2,1,IF(Form!$B$9<=Calculations!$H$3,2,IF(Form!$B$9<=Calculations!$H$4,3,IF(Form!$B$9<=Calculations!$H$5,4,0))))) -> FALSE | D44: =IF(AND(A44="YES",B44="YES"),IF(G40<=$H$2,1,IF(G40<=$H$3,2,IF(G40<=$H$4,3,IF(G40<=$H$5,4,0))))) -> FALSE | E44: =IF(AND(C44<>0,C44=D44),"YES","NO") -> YES | F44: =IF(G40<=$M$12,"YES","NO") -> NO | G44: 45016 | H44: =IFERROR(VLOOKUP(Form!$B$7,Table!$A$14:$BO$616,MATCH(VALUE(YEAR(G44)),Table!$A$14:$BO$14,0),FALSE)/4,0) -> 0 | I44: =IF(G44<Form!$B$9,0,IF(AND(G44=$M$8,$M$9=1),H44/90*(30-DAY(Form!$B$9)+1),IF(AND(G44=$M$8,$M$9=2),H44/90*(60-DAY(Form!$B$9)+1),IF(AND(G44=$M$8,$M$9=3),H44/90*(90-DAY(Form!$B$9)+1),H44)))) -> 0 | Q44: 45016 | R44: 44
A45: =IF(YEAR(G41)=YEAR($M$12),"YES","NO") -> NO | B45: =IF(Form!$B$9<=Calculations!G41,"YES","NO") -> YES | C45: =IF(AND(A45="YES",B45="YES"),IF(Form!$B$9<=Calculations!$H$2,1,IF(Form!$B$9<=Calculations!$H$3,2,IF(Form!$B$9<=Calculations!$H$4,3,IF(Form!$B$9<=Calculations!$H$5,4,0))))) -> FALSE | D45: =IF(AND(A45="YES",B45="YES"),IF(G41<=$H$2,1,IF(G41<=$H$3,2,IF(G41<=$H$4,3,IF(G41<=$H$5,4,0))))) -> FALSE | E45: =IF(AND(C45<>0,C45=D45),"YES","NO") -> YES | F45: =IF(G41<=$M$12,"YES","NO") -> NO | G45: 45107 | H45: =IFERROR(VLOOKUP(Form!$B$7,Table!$A$14:$BO$616,MATCH(VALUE(YEAR(G45)),Table!$A$14:$BO$14,0),FALSE)/4,0) -> 0 | I45: =IF(G45<Form!$B$9,0,IF(AND(G45=$M$8,$M$9=1),H45/90*(30-DAY(Form!$B$9)+1),IF(AND(G45=$M$8,$M$9=2),H45/90*(60-DAY(Form!$B$9)+1),IF(AND(G45=$M$8,$M$9=3),H45/90*(90-DAY(Form!$B$9)+1),H45)))) -> 0 | Q45: 45107 | R45: 45
A46: =IF(YEAR(G42)=YEAR($M$12),"YES","NO") -> NO | B46: =IF(Form!$B$9<=Calculations!G42,"YES","NO") -> YES | C46: =IF(AND(A46="YES",B46="YES"),IF(Form!$B$9<=Calculations!$H$2,1,IF(Form!$B$9<=Calculations!$H$3,2,IF(Form!$B$9<=Calculations!$H$4,3,IF(Form!$B$9<=Calculations!$H$5,4,0))))) -> FALSE | D46: =IF(AND(A46="YES",B46="YES"),IF(G42<=$H$2,1,IF(G42<=$H$3,2,IF(G42<=$H$4,3,IF(G42<=$H$5,4,0))))) -> FALSE | E46: =IF(AND(C46<>0,C46=D46),"YES","NO") -> YES | F46: =IF(G42<=$M$12,"YES","NO") -> NO | G46: 45199 | H46: =IFERROR(VLOOKUP(Form!$B$7,Table!$A$14:$BO$616,MATCH(VALUE(YEAR(G46)),Table!$A$14:$BO$14,0),FALSE)/4,0) -> 0 | I46: =IF(G46<Form!$B$9,0,IF(AND(G46=$M$8,$M$9=1),H46/90*(30-DAY(Form!$B$9)+1),IF(AND(G46=$M$8,$M$9=2),H46/90*(60-DAY(Form!$B$9)+1),IF(AND(G46=$M$8,$M$9=3),H46/90*(90-DAY(Form!$B$9)+1),H46)))) -> 0 | Q46: 45199 | R46: 46
A47: =IF(YEAR(G43)=YEAR($M$12),"YES","NO") -> NO | B47: =IF(Form!$B$9<=Calculations!G43,"YES","NO") -> YES | C47: =IF(AND(A47="YES",B47="YES"),IF(Form!$B$9<=Calculations!$H$2,1,IF(Form!$B$9<=Calculations!$H$3,2,IF(Form!$B$9<=Calculations!$H$4,3,IF(Form!$B$9<=Calculations!$H$5,4,0))))) -> FALSE | D47: =IF(AND(A47="YES",B47="YES"),IF(G43<=$H$2,1,IF(G43<=$H$3,2,IF(G43<=$H$4,3,IF(G43<=$H$5,4,0))))) -> FALSE | E47: =IF(AND(C47<>0,C47=D47),"YES","NO") -> YES | F47: =IF(G43<=$M$12,"YES","NO") -> NO | G47: 45291 | H47: =IFERROR(VLOOKUP(Form!$B$7,Table!$A$14:$BO$616,MATCH(VALUE(YEAR(G47)),Table!$A$14:$BO$14,0),FALSE)/4,0) -> 0 | I47: =IF(G47<Form!$B$9,0,IF(AND(G47=$M$8,$M$9=1),H47/90*(30-DAY(Form!$B$9)+1),IF(AND(G47=$M$8,$M$9=2),H47/90*(60-DAY(Form!$B$9)+1),IF(AND(G47=$M$8,$M$9=3),H47/90*(90-DAY(Form!$B$9)+1),H47)))) -> 0 | Q47: 45291 | R47: 47
A48: =IF(YEAR(G44)=YEAR($M$12),"YES","NO") -> NO | B48: =IF(Form!$B$9<=Calculations!G44,"YES","NO") -> YES | C48: =IF(AND(A48="YES",B48="YES"),IF(Form!$B$9<=Calculations!$H$2,1,IF(Form!$B$9<=Calculations!$H$3,2,IF(Form!$B$9<=Calculations!$H$4,3,IF(Form!$B$9<=Calculations!$H$5,4,0))))) -> FALSE | D48: =IF(AND(A48="YES",B48="YES"),IF(G44<=$H$2,1,IF(G44<=$H$3,2,IF(G44<=$H$4,3,IF(G44<=$H$5,4,0))))) -> FALSE | E48: =IF(AND(C48<>0,C48=D48),"YES","NO") -> YES | F48: =IF(G44<=$M$12,"YES","NO") -> NO | G48: 45382 | H48: =IFERROR(VLOOKUP(Form!$B$7,Table!$A$14:$BO$616,MATCH(VALUE(YEAR(G48)),Table!$A$14:$BO$14,0),FALSE)/4,0) -> 0 | I48: =IF(G48<Form!$B$9,0,IF(AND(G48=$M$8,$M$9=1),H48/90*(30-DAY(Form!$B$9)+1),IF(AND(G48=$M$8,$M$9=2),H48/90*(60-DAY(Form!$B$9)+1),IF(AND(G48=$M$8,$M$9=3),H48/90*(90-DAY(Form!$B$9)+1),H48)))) -> 0 | Q48: 45382 | R48: 48
A49: =IF(YEAR(G45)=YEAR($M$12),"YES","NO") -> NO | B49: =IF(Form!$B$9<=Calculations!G45,"YES","NO") -> YES | C49: =IF(AND(A49="YES",B49="YES"),IF(Form!$B$9<=Calculations!$H$2,1,IF(Form!$B$9<=Calculations!$H$3,2,IF(Form!$B$9<=Calculations!$H$4,3,IF(Form!$B$9<=Calculations!$H$5,4,0))))) -> FALSE | D49: =IF(AND(A49="YES",B49="YES"),IF(G45<=$H$2,1,IF(G45<=$H$3,2,IF(G45<=$H$4,3,IF(G45<=$H$5,4,0))))) -> FALSE | E49: =IF(AND(C49<>0,C49=D49),"YES","NO") -> YES | F49: =IF(G45<=$M$12,"YES","NO") -> NO | G49: 45473 | H49: =IFERROR(VLOOKUP(Form!$B$7,Table!$A$14:$BO$616,MATCH(VALUE(YEAR(G49)),Table!$A$14:$BO$14,0),FALSE)/4,0) -> 0 | I49: =IF(G49<Form!$B$9,0,IF(AND(G49=$M$8,$M$9=1),H49/90*(30-DAY(Form!$B$9)+1),IF(AND(G49=$M$8,$M$9=2),H49/90*(60-DAY(Form!$B$9)+1),IF(AND(G49=$M$8,$M$9=3),H49/90*(90-DAY(Form!$B$9)+1),H49)))) -> 0 | Q49: 45473 | R49: 49
A50: =IF(YEAR(G46)=YEAR($M$12),"YES","NO") -> NO | B50: =IF(Form!$B$9<=Calculations!G46,"YES","NO") -> YES | C50: =IF(AND(A50="YES",B50="YES"),IF(Form!$B$9<=Calculations!$H$2,1,IF(Form!$B$9<=Calculations!$H$3,2,IF(Form!$B$9<=Calculations!$H$4,3,IF(Form!$B$9<=Calculations!$H$5,4,0))))) -> FALSE | D50: =IF(AND(A50="YES",B50="YES"),IF(G46<=$H$2,1,IF(G46<=$H$3,2,IF(G46<=$H$4,3,IF(G46<=$H$5,4,0))))) -> FALSE | E50: =IF(AND(C50<>0,C50=D50),"YES","NO") -> YES | F50: =IF(G46<=$M$12,"YES","NO") -> NO | G50: 45565 | H50: =IFERROR(VLOOKUP(Form!$B$7,Table!$A$14:$BO$616,MATCH(VALUE(YEAR(G50)),Table!$A$14:$BO$14,0),FALSE)/4,0) -> 0 | I50: =IF(G50<Form!$B$9,0,IF(AND(G50=$M$8,$M$9=1),H50/90*(30-DAY(Form!$B$9)+1),IF(AND(G50=$M$8,$M$9=2),H50/90*(60-DAY(Form!$B$9)+1),IF(AND(G50=$M$8,$M$9=3),H50/90*(90-DAY(Form!$B$9)+1),H50)))) -> 0 | Q50: 45565 | R50: 50
A51: =IF(YEAR(G47)=YEAR($M$12),"YES","NO") -> NO | B51: =IF(Form!$B$9<=Calculations!G47,"YES","NO") -> YES | C51: =IF(AND(A51="YES",B51="YES"),IF(Form!$B$9<=Calculations!$H$2,1,IF(Form!$B$9<=Calculations!$H$3,2,IF(Form!$B$9<=Calculations!$H$4,3,IF(Form!$B$9<=Calculations!$H$5,4,0))))) -> FALSE | D51: =IF(AND(A51="YES",B51="YES"),IF(G47<=$H$2,1,IF(G47<=$H$3,2,IF(G47<=$H$4,3,IF(G47<=$H$5,4,0))))) -> FALSE | E51: =IF(AND(C51<>0,C51=D51),"YES","NO") -> YES | F51: =IF(G47<=$M$12,"YES","NO") -> NO | G51: 45657 | H51: =IFERROR(VLOOKUP(Form!$B$7,Table!$A$14:$BO$616,MATCH(VALUE(YEAR(G51)),Table!$A$14:$BO$14,0),FALSE)/4,0) -> 0 | I51: =IF(G51<Form!$B$9,0,IF(AND(G51=$M$8,$M$9=1),H51/90*(30-DAY(Form!$B$9)+1),IF(AND(G51=$M$8,$M$9=2),H51/90*(60-DAY(Form!$B$9)+1),IF(AND(G51=$M$8,$M$9=3),H51/90*(90-DAY(Form!$B$9)+1),H51)))) -> 0 | Q51: 45657 | R51: 51
A52: =IF(YEAR(G48)=YEAR($M$12),"YES","NO") -> NO | B52: =IF(Form!$B$9<=Calculations!G48,"YES","NO") -> YES | C52: =IF(AND(A52="YES",B52="YES"),IF(Form!$B$9<=Calculations!$H$2,1,IF(Form!$B$9<=Calculations!$H$3,2,IF(Form!$B$9<=Calculations!$H$4,3,IF(Form!$B$9<=Calculations!$H$5,4,0))))) -> FALSE | D52: =IF(AND(A52="YES",B52="YES"),IF(G48<=$H$2,1,IF(G48<=$H$3,2,IF(G48<=$H$4,3,IF(G48<=$H$5,4,0))))) -> FALSE | E52: =IF(AND(C52<>0,C52=D52),"YES","NO") -> YES | F52: =IF(G48<=$M$12,"YES","NO") -> NO | G52: 45747 | H52: =IFERROR(VLOOKUP(Form!$B$7,Table!$A$14:$BO$616,MATCH(VALUE(YEAR(G52)),Table!$A$14:$BO$14,0),FALSE)/4,0) -> 0 | I52: =IF(G52<Form!$B$9,0,IF(AND(G52=$M$8,$M$9=1),H52/90*(30-DAY(Form!$B$9)+1),IF(AND(G52=$M$8,$M$9=2),H52/90*(60-DAY(Form!$B$9)+1),IF(AND(G52=$M$8,$M$9=3),H52/90*(90-DAY(Form!$B$9)+1),H52)))) -> 0 | Q52: 45747 | R52: 52
... A55: =IF(YEAR(G51)=YEAR($M$12),"YES","NO") -> NO | B55: =IF(Form!$B$9<=Calculations!G51,"YES","NO") -> YES | C55: =IF(AND(A55="YES",B55="YES"),IF(Form!$B$9<=Calculations!$H$2,1,IF(Form!$B$9<=Calculations!$H$3,2,IF(Form!$B$9<=Calculations!$H$4,3,IF(Form!$B$9<=Calculations!$H$5,4,0))))) -> FALSE | D55: =IF(AND(A55="YES",B55="YES"),IF(G51<=$H$2,1,IF(G51<=$H$3,2,IF(G51<=$H$4,3,IF(G51<=$H$5,4,0))))) -> FALSE | E55: =IF(AND(C55<>0,C55=D55),"YES","NO") -> YES | F55: =IF(G51<=$M$12,"YES","NO") -> NO | G55: 46022 | H55: =IFERROR(VLOOKUP(Form!$B$7,Table!$A$14:$BO$616,MATCH(VALUE(YEAR(G55)),Table!$A$14:$BO$14,0),FALSE)/4,0) -> 0 | I55: =IF(G55<Form!$B$9,0,IF(AND(G55=$M$8,$M$9=1),H55/90*(30-DAY(Form!$B$9)+1),IF(AND(G55=$M$8,$M$9=2),H55/90*(60-DAY(Form!$B$9)+1),IF(AND(G55=$M$8,$M$9=3),H55/90*(90-DAY(Form!$B$9)+1),H55)))) -> 0 | Q55: 46022 | R55: 55
A56: =IF(YEAR(G52)=YEAR($M$12),"YES","NO") -> NO | B56: =IF(Form!$B$9<=Calculations!G52,"YES","NO") -> YES | C56: =IF(AND(A56="YES",B56="YES"),IF(Form!$B$9<=Calculations!$H$2,1,IF(Form!$B$9<=Calculations!$H$3,2,IF(Form!$B$9<=Calculations!$H$4,3,IF(Form!$B$9<=Calculations!$H$5,4,0))))) -> FALSE | D56: =IF(AND(A56="YES",B56="YES"),IF(G52<=$H$2,1,IF(G52<=$H$3,2,IF(G52<=$H$4,3,IF(G52<=$H$5,4,0))))) -> FALSE | E56: =IF(AND(C56<>0,C56=D56),"YES","NO") -> YES | F56: =IF(G52<=$M$12,"YES","NO") -> NO | G56: 46112 | H56: =IFERROR(VLOOKUP(Form!$B$7,Table!$A$14:$BO$616,MATCH(VALUE(YEAR(G56)),Table!$A$14:$BO$14,0),FALSE)/4,0) -> 0 | I56: =IF(OR(AND(A60="NO",F60="YES"),AND(E60="NO",F60="YES",G56<=$M$12)),H56,IF((MONTH(G56)-MONTH(Form!$B$9))=0,Calculations!H56/90*(30-DAY(Form!$B$9)+1),IF((MONTH(G56)-MONTH(Form!$B$9))=1,Calculations!H56/90*(60-DAY(Form!$B$9)+1),IF((MONTH(G56)-MONTH(Form!$B$9))=2,Calculations!H56/90*(90-DAY(Form!$B$9)+1),0)))) -> 0 | Q56: 46112 | R56: 56
A57: =IF(YEAR(G53)=YEAR($M$12),"YES","NO") -> NO | B57: =IF(Form!$B$9<=Calculations!G53,"YES","NO") -> YES | C57: =IF(AND(A57="YES",B57="YES"),IF(Form!$B$9<=Calculations!$H$2,1,IF(Form!$B$9<=Calculations!$H$3,2,IF(Form!$B$9<=Calculations!$H$4,3,IF(Form!$B$9<=Calculations!$H$5,4,0))))) -> FALSE | D57: =IF(AND(A57="YES",B57="YES"),IF(G53<=$H$2,1,IF(G53<=$H$3,2,IF(G53<=$H$4,3,IF(G53<=$H$5,4,0))))) -> FALSE | E57: =IF(AND(C57<>0,C57=D57),"YES","NO") -> YES | F57: =IF(G53<=$M$12,"YES","NO") -> NO | G57: 46203 | H57: =IFERROR(VLOOKUP(Form!$B$7,Table!$A$14:$BO$616,MATCH(VALUE(YEAR(G57)),Table!$A$14:$BO$14,0),FALSE)/4,0) -> 0 | I57: =IF(OR(AND(A61="NO",F61="YES"),AND(E61="NO",F61="YES",G57<=$M$12)),H57,IF((MONTH(G57)-MONTH(Form!$B$9))=0,Calculations!H57/90*(30-DAY(Form!$B$9)+1),IF((MONTH(G57)-MONTH(Form!$B$9))=1,Calculations!H57/90*(60-DAY(Form!$B$9)+1),IF((MONTH(G57)-MONTH(Form!$B$9))=2,Calculations!H57/90*(90-DAY(Form!$B$9)+1),0)))) -> 0 | Q57: 46203 | R57: 57
A58: =IF(YEAR(G54)=YEAR($M$12),"YES","NO") -> NO | B58: =IF(Form!$B$9<=Calculations!G54,"YES","NO") -> YES | C58: =IF(AND(A58="YES",B58="YES"),IF(Form!$B$9<=Calculations!$H$2,1,IF(Form!$B$9<=Calculations!$H$3,2,IF(Form!$B$9<=Calculations!$H$4,3,IF(Form!$B$9<=Calculations!$H$5,4,0))))) -> FALSE | D58: =IF(AND(A58="YES",B58="YES"),IF(G54<=$H$2,1,IF(G54<=$H$3,2,IF(G54<=$H$4,3,IF(G54<=$H$5,4,0))))) -> FALSE | E58: =IF(AND(C58<>0,C58=D58),"YES","NO") -> YES | F58: =IF(G54<=$M$12,"YES","NO") -> NO | G58: 46295 | H58: =IFERROR(VLOOKUP(Form!$B$7,Table!$A$14:$BO$616,MATCH(VALUE(YEAR(G58)),Table!$A$14:$BO$14,0),FALSE)/4,0) -> 0 | I58: =IF(OR(AND(A62="NO",F62="YES"),AND(E62="NO",F62="YES",G58<=$M$12)),H58,IF((MONTH(G58)-MONTH(Form!$B$9))=0,Calculations!H58/90*(30-DAY(Form!$B$9)+1),IF((MONTH(G58)-MONTH(Form!$B$9))=1,Calculations!H58/90*(60-DAY(Form!$B$9)+1),IF((MONTH(G58)-MONTH(Form!$B$9))=2,Calculations!H58/90*(90-DAY(Form!$B$9)+1),0)))) -> 0 | Q58: 46295 | R58: 58
A59: =IF(YEAR(G55)=YEAR($M$12),"YES","NO") -> NO | B59: =IF(Form!$B$9<=Calculations!G55,"YES","NO") -> YES | C59: =IF(AND(A59="YES",B59="YES"),IF(Form!$B$9<=Calculations!$H$2,1,IF(Form!$B$9<=Calculations!$H$3,2,IF(Form!$B$9<=Calculations!$H$4,3,IF(Form!$B$9<=Calculations!$H$5,4,0))))) -> FALSE | D59: =IF(AND(A59="YES",B59="YES"),IF(G55<=$H$2,1,IF(G55<=$H$3,2,IF(G55<=$H$4,3,IF(G55<=$H$5,4,0))))) -> FALSE | E59: =IF(AND(C59<>0,C59=D59),"YES","NO") -> YES | F59: =IF(G55<=$M$12,"YES","NO") -> NO | G59: 46387 | H59: =IFERROR(VLOOKUP(Form!$B$7,Table!$A$14:$BO$616,MATCH(VALUE(YEAR(G59)),Table!$A$14:$BO$14,0),FALSE)/4,0) -> 0 | I59: =IF(OR(AND(A63="NO",F63="YES"),AND(E63="NO",F63="YES",G59<=$M$12)),H59,IF((MONTH(G59)-MONTH(Form!$B$9))=0,Calculations!H59/90*(30-DAY(Form!$B$9)+1),IF((MONTH(G59)-MONTH(Form!$B$9))=1,Calculations!H59/90*(60-DAY(Form!$B$9)+1),IF((MONTH(G59)-MONTH(Form!$B$9))=2,Calculations!H59/90*(90-DAY(Form!$B$9)+1),0)))) -> 0 | Q59: 46387 | R59: 59
A60: =IF(YEAR(G56)=YEAR($M$12),"YES","NO") -> NO | B60: =IF(Form!$B$9<=Calculations!G56,"YES","NO") -> YES | C60: =IF(AND(A60="YES",B60="YES"),IF(Form!$B$9<=Calculations!$H$2,1,IF(Form!$B$9<=Calculations!$H$3,2,IF(Form!$B$9<=Calculations!$H$4,3,IF(Form!$B$9<=Calculations!$H$5,4,0))))) -> FALSE | D60: =IF(AND(A60="YES",B60="YES"),IF(G56<=$H$2,1,IF(G56<=$H$3,2,IF(G56<=$H$4,3,IF(G56<=$H$5,4,0))))) -> FALSE | E60: =IF(AND(C60<>0,C60=D60),"YES","NO") -> YES | F60: =IF(G56<=$M$12,"YES","NO") -> NO | G60: 46477 | H60: =IFERROR(VLOOKUP(Form!$B$7,Table!$A$14:$BO$616,MATCH(VALUE(YEAR(G60)),Table!$A$14:$BO$14,0),FALSE)/4,0) -> 0 | I60: =IF(OR(AND(A64="NO",F64="YES"),AND(E64="NO",F64="YES",G60<=$M$12)),H60,IF((MONTH(G60)-MONTH(Form!$B$9))=0,Calculations!H60/90*(30-DAY(Form!$B$9)+1),IF((MONTH(G60)-MONTH(Form!$B$9))=1,Calculations!H60/90*(60-DAY(Form!$B$9)+1),IF((MONTH(G60)-MONTH(Form!$B$9))=2,Calculations!H60/90*(90-DAY(Form!$B$9)+1),0)))) -> 0 | Q60: 46477 | R60: 60
A61: =IF(YEAR(G57)=YEAR($M$12),"YES","NO") -> NO | B61: =IF(Form!$B$9<=Calculations!G57,"YES","NO") -> YES | C61: =IF(AND(A61="YES",B61="YES"),IF(Form!$B$9<=Calculations!$H$2,1,IF(Form!$B$9<=Calculations!$H$3,2,IF(Form!$B$9<=Calculations!$H$4,3,IF(Form!$B$9<=Calculations!$H$5,4,0))))) -> FALSE | D61: =IF(AND(A61="YES",B61="YES"),IF(G57<=$H$2,1,IF(G57<=$H$3,2,IF(G57<=$H$4,3,IF(G57<=$H$5,4,0))))) -> FALSE | E61: =IF(AND(C61<>0,C61=D61),"YES","NO") -> YES | F61: =IF(G57<=$M$12,"YES","NO") -> NO | G61: 46568 | H61: =IFERROR(VLOOKUP(Form!$B$7,Table!$A$14:$BO$616,MATCH(VALUE(YEAR(G61)),Table!$A$14:$BO$14,0),FALSE)/4,0) -> 0 | I61: =IF(OR(AND(A65="NO",F65="YES"),AND(E65="NO",F65="YES",G61<=$M$12)),H61,IF((MONTH(G61)-MONTH(Form!$B$9))=0,Calculations!H61/90*(30-DAY(Form!$B$9)+1),IF((MONTH(G61)-MONTH(Form!$B$9))=1,Calculations!H61/90*(60-DAY(Form!$B$9)+1),IF((MONTH(G61)-MONTH(Form!$B$9))=2,Calculations!H61/90*(90-DAY(Form!$B$9)+1),0)))) -> 0 | Q61: 46568 | R61: 61
A62: =IF(YEAR(G58)=YEAR($M$12),"YES","NO") -> NO | B62: =IF(Form!$B$9<=Calculations!G58,"YES","NO") -> YES | C62: =IF(AND(A62="YES",B62="YES"),IF(Form!$B$9<=Calculations!$H$2,1,IF(Form!$B$9<=Calculations!$H$3,2,IF(Form!$B$9<=Calculations!$H$4,3,IF(Form!$B$9<=Calculations!$H$5,4,0))))) -> FALSE | D62: =IF(AND(A62="YES",B62="YES"),IF(G58<=$H$2,1,IF(G58<=$H$3,2,IF(G58<=$H$4,3,IF(G58<=$H$5,4,0))))) -> FALSE | E62: =IF(AND(C62<>0,C62=D62),"YES","NO") -> YES | F62: =IF(G58<=$M$12,"YES","NO") -> NO | G62: 46660 | H62: =IFERROR(VLOOKUP(Form!$B$7,Table!$A$14:$BO$616,MATCH(VALUE(YEAR(G62)),Table!$A$14:$BO$14,0),FALSE)/4,0) -> 0 | I62: =IF(OR(AND(A66="NO",F66="YES"),AND(E66="NO",F66="YES",G62<=$M$12)),H62,IF((MONTH(G62)-MONTH(Form!$B$9))=0,Calculations!H62/90*(30-DAY(Form!$B$9)+1),IF((MONTH(G62)-MONTH(Form!$B$9))=1,Calculations!H62/90*(60-DAY(Form!$B$9)+1),IF((MONTH(G62)-MONTH(Form!$B$9))=2,Calculations!H62/90*(90-DAY(Form!$B$9)+1),0)))) -> 0 | Q62: 46660 | R62: 62
A63: =IF(YEAR(G59)=YEAR($M$12),"YES","NO") -> NO | B63: =IF(Form!$B$9<=Calculations!G59,"YES","NO") -> YES | C63: =IF(AND(A63="YES",B63="YES"),IF(Form!$B$9<=Calculations!$H$2,1,IF(Form!$B$9<=Calculations!$H$3,2,IF(Form!$B$9<=Calculations!$H$4,3,IF(Form!$B$9<=Calculations!$H$5,4,0))))) -> FALSE | D63: =IF(AND(A63="YES",B63="YES"),IF(G59<=$H$2,1,IF(G59<=$H$3,2,IF(G59<=$H$4,3,IF(G59<=$H$5,4,0))))) -> FALSE | E63: =IF(AND(C63<>0,C63=D63),"YES","NO") -> YES | F63: =IF(G59<=$M$12,"YES","NO") -> NO | G63: 46752 | H63: =IFERROR(VLOOKUP(Form!$B$7,Table!$A$14:$BO$616,MATCH(VALUE(YEAR(G63)),Table!$A$14:$BO$14,0),FALSE)/4,0) -> 0 | I63: =IF(OR(AND(A67="NO",F67="YES"),AND(E67="NO",F67="YES",G63<=$M$12)),H63,IF((MONTH(G63)-MONTH(Form!$B$9))=0,Calculations!H63/90*(30-DAY(Form!$B$9)+1),IF((MONTH(G63)-MONTH(Form!$B$9))=1,Calculations!H63/90*(60-DAY(Form!$B$9)+1),IF((MONTH(G63)-MONTH(Form!$B$9))=2,Calculations!H63/90*(90-DAY(Form!$B$9)+1),0)))) -> 0 | Q63: 46752 | R63: 63
A64: =IF(YEAR(G60)=YEAR($M$12),"YES","NO") -> NO | B64: =IF(Form!$B$9<=Calculations!G60,"YES","NO") -> YES | C64: =IF(AND(A64="YES",B64="YES"),IF(Form!$B$9<=Calculations!$H$2,1,IF(Form!$B$9<=Calculations!$H$3,2,IF(Form!$B$9<=Calculations!$H$4,3,IF(Form!$B$9<=Calculations!$H$5,4,0))))) -> FALSE | D64: =IF(AND(A64="YES",B64="YES"),IF(G60<=$H$2,1,IF(G60<=$H$3,2,IF(G60<=$H$4,3,IF(G60<=$H$5,4,0))))) -> FALSE | E64: =IF(AND(C64<>0,C64=D64),"YES","NO") -> YES | F64: =IF(G60<=$M$12,"YES","NO") -> NO | G64: 46843 | H64: =IFERROR(VLOOKUP(Form!$B$7,Table!$A$14:$BO$616,MATCH(VALUE(YEAR(G64)),Table!$A$14:$BO$14,0),FALSE)/4,0) -> 0 | I64: =IF(OR(AND(A68="NO",F68="YES"),AND(E68="NO",F68="YES",G64<=$M$12)),H64,IF((MONTH(G64)-MONTH(Form!$B$9))=0,Calculations!H64/90*(30-DAY(Form!$B$9)+1),IF((MONTH(G64)-MONTH(Form!$B$9))=1,Calculations!H64/90*(60-DAY(Form!$B$9)+1),IF((MONTH(G64)-MONTH(Form!$B$9))=2,Calculations!H64/90*(90-DAY(Form!$B$9)+1),0)))) -> 0 | Q64: 46843 | R64: 64
A65: =IF(YEAR(G61)=YEAR($M$12),"YES","NO") -> NO | B65: =IF(Form!$B$9<=Calculations!G61,"YES","NO") -> YES | C65: =IF(AND(A65="YES",B65="YES"),IF(Form!$B$9<=Calculations!$H$2,1,IF(Form!$B$9<=Calculations!$H$3,2,IF(Form!$B$9<=Calculations!$H$4,3,IF(Form!$B$9<=Calculations!$H$5,4,0))))) -> FALSE | D65: =IF(AND(A65="YES",B65="YES"),IF(G61<=$H$2,1,IF(G61<=$H$3,2,IF(G61<=$H$4,3,IF(G61<=$H$5,4,0))))) -> FALSE | E65: =IF(AND(C65<>0,C65=D65),"YES","NO") -> YES | F65: =IF(G61<=$M$12,"YES","NO") -> NO | G65: 46934 | H65: =IFERROR(VLOOKUP(Form!$B$7,Table!$A$14:$BO$616,MATCH(VALUE(YEAR(G65)),Table!$A$14:$BO$14,0),FALSE)/4,0) -> 0 | I65: =IF(OR(AND(A69="NO",F69="YES"),AND(E69="NO",F69="YES",G65<=$M$12)),H65,IF((MONTH(G65)-MONTH(Form!$B$9))=0,Calculations!H65/90*(30-DAY(Form!$B$9)+1),IF((MONTH(G65)-MONTH(Form!$B$9))=1,Calculations!H65/90*(60-DAY(Form!$B$9)+1),IF((MONTH(G65)-MONTH(Form!$B$9))=2,Calculations!H65/90*(90-DAY(Form!$B$9)+1),0)))) -> 0 | Q65: 46934 | R65: 65
A66: =IF(YEAR(G62)=YEAR($M$12),"YES","NO") -> NO | B66: =IF(Form!$B$9<=Calculations!G62,"YES","NO") -> YES | C66: =IF(AND(A66="YES",B66="YES"),IF(Form!$B$9<=Calculations!$H$2,1,IF(Form!$B$9<=Calculations!$H$3,2,IF(Form!$B$9<=Calculations!$H$4,3,IF(Form!$B$9<=Calculations!$H$5,4,0))))) -> FALSE | D66: =IF(AND(A66="YES",B66="YES"),IF(G62<=$H$2,1,IF(G62<=$H$3,2,IF(G62<=$H$4,3,IF(G62<=$H$5,4,0))))) -> FALSE | E66: =IF(AND(C66<>0,C66=D66),"YES","NO") -> YES | F66: =IF(G62<=$M$12,"YES","NO") -> NO | G66: 47026 | H66: =IFERROR(VLOOKUP(Form!$B$7,Table!$A$14:$BO$616,MATCH(VALUE(YEAR(G66)),Table!$A$14:$BO$14,0),FALSE)/4,0) -> 0 | I66: =IF(OR(AND(A70="NO",F70="YES"),AND(E70="NO",F70="YES",G66<=$M$12)),H66,IF((MONTH(G66)-MONTH(Form!$B$9))=0,Calculations!H66/90*(30-DAY(Form!$B$9)+1),IF((MONTH(G66)-MONTH(Form!$B$9))=1,Calculations!H66/90*(60-DAY(Form!$B$9)+1),IF((MONTH(G66)-MONTH(Form!$B$9))=2,Calculations!H66/90*(90-DAY(Form!$B$9)+1),0)))) -> 0 | Q66: 47026 | R66: 66
A67: =IF(YEAR(G63)=YEAR($M$12),"YES","NO") -> NO | B67: =IF(Form!$B$9<=Calculations!G63,"YES","NO") -> YES | C67: =IF(AND(A67="YES",B67="YES"),IF(Form!$B$9<=Calculations!$H$2,1,IF(Form!$B$9<=Calculations!$H$3,2,IF(Form!$B$9<=Calculations!$H$4,3,IF(Form!$B$9<=Calculations!$H$5,4,0))))) -> FALSE | D67: =IF(AND(A67="YES",B67="YES"),IF(G63<=$H$2,1,IF(G63<=$H$3,2,IF(G63<=$H$4,3,IF(G63<=$H$5,4,0))))) -> FALSE | E67: =IF(AND(C67<>0,C67=D67),"YES","NO") -> YES | F67: =IF(G63<=$M$12,"YES","NO") -> NO | G67: 47118 | H67: =IFERROR(VLOOKUP(Form!$B$7,Table!$A$14:$BO$616,MATCH(VALUE(YEAR(G67)),Table!$A$14:$BO$14,0),FALSE)/4,0) -> 0 | I67: =IF(OR(AND(A71="NO",F71="YES"),AND(E71="NO",F71="YES",G67<=$M$12)),H67,IF((MONTH(G67)-MONTH(Form!$B$9))=0,Calculations!H67/90*(30-DAY(Form!$B$9)+1),IF((MONTH(G67)-MONTH(Form!$B$9))=1,Calculations!H67/90*(60-DAY(Form!$B$9)+1),IF((MONTH(G67)-MONTH(Form!$B$9))=2,Calculations!H67/90*(90-DAY(Form!$B$9)+1),0)))) -> 0 | Q67: 47118 | R67: 67
... A291: =IF(YEAR(G287)=YEAR($M$12),"YES","NO") -> NO | B291: =IF(Form!$B$9<=Calculations!G287,"YES","NO") -> YES | C291: =IF(AND(A291="YES",B291="YES"),IF(Form!$B$9<=Calculations!$H$2,1,IF(Form!$B$9<=Calculations!$H$3,2,IF(Form!$B$9<=Calculations!$H$4,3,IF(Form!$B$9<=Calculations!$H$5,4,0))))) -> FALSE | D291: =IF(AND(A291="YES",B291="YES"),IF(G287<=$H$2,1,IF(G287<=$H$3,2,IF(G287<=$H$4,3,IF(G287<=$H$5,4,0))))) -> FALSE | E291: =IF(AND(C291<>0,C291=D291),"YES","NO") -> YES | F291: =IF(G287<=$M$12,"YES","NO") -> NO | G291: 67572 | H291: =IFERROR(VLOOKUP(Form!$B$7,Table!$A$14:$BO$616,MATCH(VALUE(YEAR(G291)),Table!$A$14:$BO$14,0),FALSE)/4,0) -> 0 | I291: =IF(OR(AND(A295="NO",F295="YES"),AND(E295="NO",F295="YES",G291<=$M$12)),H291,IF((MONTH(G291)-MONTH(Form!$B$9))=0,Calculations!H291/90*(30-DAY(Form!$B$9)+1),IF((MONTH(G291)-MONTH(Form!$B$9))=1,Calculations!H291/90*(60-DAY(Form!$B$9)+1),IF((MONTH(G291)-MONTH(Form!$B$9))=2,Calculations!H291/90*(90-DAY(Form!$B$9)+1),0)))) -> 0 | Q291: 67572 | R291: 291
A292: =IF(YEAR(G288)=YEAR($M$12),"YES","NO") -> NO | B292: =IF(Form!$B$9<=Calculations!G288,"YES","NO") -> YES | C292: =IF(AND(A292="YES",B292="YES"),IF(Form!$B$9<=Calculations!$H$2,1,IF(Form!$B$9<=Calculations!$H$3,2,IF(Form!$B$9<=Calculations!$H$4,3,IF(Form!$B$9<=Calculations!$H$5,4,0))))) -> FALSE | D292: =IF(AND(A292="YES",B292="YES"),IF(G288<=$H$2,1,IF(G288<=$H$3,2,IF(G288<=$H$4,3,IF(G288<=$H$5,4,0))))) -> FALSE | E292: =IF(AND(C292<>0,C292=D292),"YES","NO") -> YES | F292: =IF(G288<=$M$12,"YES","NO") -> NO | R292: 292
A293: =IF(YEAR(G289)=YEAR($M$12),"YES","NO") -> NO | B293: =IF(Form!$B$9<=Calculations!G289,"YES","NO") -> YES | C293: =IF(AND(A293="YES",B293="YES"),IF(Form!$B$9<=Calculations!$H$2,1,IF(Form!$B$9<=Calculations!$H$3,2,IF(Form!$B$9<=Calculations!$H$4,3,IF(Form!$B$9<=Calculations!$H$5,4,0))))) -> FALSE | D293: =IF(AND(A293="YES",B293="YES"),IF(G289<=$H$2,1,IF(G289<=$H$3,2,IF(G289<=$H$4,3,IF(G289<=$H$5,4,0))))) -> FALSE | E293: =IF(AND(C293<>0,C293=D293),"YES","NO") -> YES | F293: =IF(G289<=$M$12,"YES","NO") -> NO | R293: 293
A294: =IF(YEAR(G290)=YEAR($M$12),"YES","NO") -> NO | B294: =IF(Form!$B$9<=Calculations!G290,"YES","NO") -> YES | C294: =IF(AND(A294="YES",B294="YES"),IF(Form!$B$9<=Calculations!$H$2,1,IF(Form!$B$9<=Calculations!$H$3,2,IF(Form!$B$9<=Calculations!$H$4,3,IF(Form!$B$9<=Calculations!$H$5,4,0))))) -> FALSE | D294: =IF(AND(A294="YES",B294="YES"),IF(G290<=$H$2,1,IF(G290<=$H$3,2,IF(G290<=$H$4,3,IF(G290<=$H$5,4,0))))) -> FALSE | E294: =IF(AND(C294<>0,C294=D294),"YES","NO") -> YES | F294: =IF(G290<=$M$12,"YES","NO") -> NO | R294: 294
A295: =IF(YEAR(G291)=YEAR($M$12),"YES","NO") -> NO | B295: =IF(Form!$B$9<=Calculations!G291,"YES","NO") -> YES | C295: =IF(AND(A295="YES",B295="YES"),IF(Form!$B$9<=Calculations!$H$2,1,IF(Form!$B$9<=Calculations!$H$3,2,IF(Form!$B$9<=Calculations!$H$4,3,IF(Form!$B$9<=Calculations!$H$5,4,0))))) -> FALSE | D295: =IF(AND(A295="YES",B295="YES"),IF(G291<=$H$2,1,IF(G291<=$H$3,2,IF(G291<=$H$4,3,IF(G291<=$H$5,4,0))))) -> FALSE | E295: =IF(AND(C295<>0,C295=D295),"YES","NO") -> YES | F295: =IF(G291<=$M$12,"YES","NO") -> NO | R295: 295
