Workbook

Sheet Form
A1: Housing Credit Compliance Monitoring Fees 2026
A2: 2011 Servicing Contract
A4: Updated: 12/9/2025
A5: Input information in the green cells below
A6: Name of Development
A7: Number of Set-Aside Units
A8: Number of Affordability Years
A9: First Move-In Date
A10: Final Placed In Service Date of LAST Building
A11: Fees Collected at Preliminary Allocation*
A13: Fees are based on set-aside units (includes manager units)
A15: Construction Inspection Fees: To be billed directly to the Applicant at $214 per hour
A16: not to exceed $2,119 per inspection.
A18: Total Compliance Fees Due to FHFC | B18: =IFERROR(ROUNDUP(Calculations!U10,0),0) -> 0
A20: *Applicable for Competitive 9% Housing Credits only

Sheet Table
A1: Monthly Base Fee | B1: 3% Annual Escalator | C1: 170 | D1: 172 | E1: 177 | F1: 182 | G1: 187 | H1: 192 | I1: 197 | J1: =ROUND(I1*1.03,2) -> 202.91 | K1: =ROUND(J1*1.03,2) -> 209 | L1: =ROUND(K1*1.03,2) -> 215.27 | M1: =ROUND(L1*1.03,2) -> 221.73 | N1: =ROUND(M1*1.03,2) -> 228.38 | O1: =ROUND(N1*1.03,2) -> 235.23 | P1: =ROUND(O1*1.03,2) -> 242.29 | Q1: =ROUND(P1*1.03,2) -> 249.56 | ... BO1: =ROUND(BN1*1.03,2) -> 1093.98
A2: Per Unit Fee | B2: 3% Annual Escalator | C2: 10.43 | D2: 10.56 | E2: 10.88 | F2: 11.21 | G2: 11.55 | H2: 11.86 | I2: 12.18 | J2: =ROUND(I2*1.03,2) -> 12.55 | K2: =ROUND(J2*1.03,2) -> 12.93 | L2: =ROUND(K2*1.03,2) -> 13.32 | M2: =ROUND(L2*1.03,2) -> 13.72 | N2: =ROUND(M2*1.03,2) -> 14.13 | O2: =ROUND(N2*1.03,2) -> 14.55 | P2: =ROUND(O2*1.03,2) -> 14.99 | Q2: =ROUND(P2*1.03,2) -> 15.44 | ... BO2: =ROUND(BN2*1.03,2) -> 67.66
A3: Monthly Minimum | B3: 3% Annual Escalator | C3: 266 | D3: 269 | E3: 277 | F3: 285 | G3: 294 | H3: 302 | I3: 310 | J3: =ROUND(I3*1.03,2) -> 319.3 | K3: =ROUND(J3*1.03,2) -> 328.88 | L3: =ROUND(K3*1.03,2) -> 338.75 | M3: =ROUND(L3*1.03,2) -> 348.91 | N3: =ROUND(M3*1.03,2) -> 359.38 | O3: =ROUND(N3*1.03,2) -> 370.16 | P3: =ROUND(O3*1.03,2) -> 381.26 | Q3: =ROUND(P3*1.03,2) -> 392.7 | ... BO3: =ROUND(BN3*1.03,2) -> 1721.53
A4: =Form!A4 -> Updated: 12/9/2025
A5: Beginning Date of Year | B5: 43466
A6: Annual RD Amount | B6: 450
A7: Monthly Base Fee | B7: 167 | C7: =ROUND(C1,0) -> 170 | D7: =ROUND(D1,0) -> 172 | E7: =ROUND(E1,0) -> 177 | F7: =ROUND(F1,0) -> 182 | G7: =ROUND(G1,0) -> 187 | H7: =ROUND(H1,0) -> 192 | I7: =ROUND(I1,0) -> 197 | J7: =ROUND(J1,0) -> 203 | ... BO7: =ROUND(BO1,0) -> 1094
A8: Annual Base Fee | B8: =B7*12 -> 2004 | C8: =C7*12 -> 2040 | D8: =D7*12 -> 2064 | E8: =E7*12 -> 2124 | F8: =F7*12 -> 2184 | G8: =G7*12 -> 2244 | H8: =H7*12 -> 2304 | I8: =I7*12 -> 2364 | ... BO8: =BO7*12 -> 13128
A9: Per Unit Annual Fee | B9: 10.27 | C9: =C2 -> 10.43 | D9: =D2 -> 10.56 | E9: =E2 -> 10.88 | F9: =F2 -> 11.21 | G9: =G2 -> 11.55 | H9: =H2 -> 11.86 | I9: =I2 -> 12.18 | J9: =J2 -> 12.55 | ... BO9: =BO2 -> 67.66
A10: Discount Rate | B10: 0.02
A11: Monthly Minimum Fee | B11: 262 | C11: =ROUND(C3,0) -> 266 | D11: =ROUND(D3,0) -> 269 | E11: =ROUND(E3,0) -> 277 | F11: =ROUND(F3,0) -> 285 | G11: =ROUND(G3,0) -> 294 | H11: =ROUND(H3,0) -> 302 | I11: =ROUND(I3,0) -> 310 | J11: =ROUND(J3,0) -> 319 | ... BO11: =ROUND(BO3,0) -> 1722
A12: Annual Minimum Fee | B12: =B11*12 -> 3144 | C12: =C11*12 -> 3192 | D12: =D11*12 -> 3228 | E12: =E11*12 -> 3324 | F12: =F11*12 -> 3420 | G12: =G11*12 -> 3528 | H12: =H11*12 -> 3624 | I12: =I11*12 -> 3720 | ... BO12: =BO11*12 -> 20664
B14: 2019 | C14: =B14+1 -> 2020 | D14: =C14+1 -> 2021 | E14: =D14+1 -> 2022 | F14: =E14+1 -> 2023 | G14: =F14+1 -> 2024 | H14: =G14+1 -> 2025 | I14: =H14+1 -> 2026 | J14: =I14+1 -> 2027 | ... BO14: =BN14+1 -> 2084
B15: Number of years Set-Aside
A16: # of Units
A17: 1 | B17: =IF((B$8+(B$9*$A17))<B$12,B$12,B$8+(B$9*$A17)) -> 3144 | C17: =IF((C$8+(C$9*$A17))<C$12,C$12,C$8+(C$9*$A17)) -> 3192 | D17: =IF((D$8+(D$9*$A17))<D$12,D$12,D$8+(D$9*$A17)) -> 3228 | E17: =IF((E$8+(E$9*$A17))<E$12,E$12,E$8+(E$9*$A17)) -> 3324 | F17: =IF((F$8+(F$9*$A17))<F$12,F$12,F$8+(F$9*$A17)) -> 3420 | G17: =IF((G$8+(G$9*$A17))<G$12,G$12,G$8+(G$9*$A17)) -> 3528 | H17: =IF((H$8+(H$9*$A17))<H$12,H$12,H$8+(H$9*$A17)) -> 3624 | I17: =IF((I$8+(I$9*$A17))<I$12,I$12,I$8+(I$9*$A17)) -> 3720 | ... BO17: =IF((BO$8+(BO$9*$A17))<BO$12,BO$12,BO$8+(BO$9*$A17)) -> 20664
A18: 2 | B18: =IF((B$8+(B$9*$A18))<B$12,B$12,B$8+(B$9*$A18)) -> 3144 | C18: =IF((C$8+(C$9*$A18))<C$12,C$12,C$8+(C$9*$A18)) -> 3192 | D18: =IF((D$8+(D$9*$A18))<D$12,D$12,D$8+(D$9*$A18)) -> 3228 | E18: =IF((E$8+(E$9*$A18))<E$12,E$12,E$8+(E$9*$A18)) -> 3324 | F18: =IF((F$8+(F$9*$A18))<F$12,F$12,F$8+(F$9*$A18)) -> 3420 | G18: =IF((G$8+(G$9*$A18))<G$12,G$12,G$8+(G$9*$A18)) -> 3528 | H18: =IF((H$8+(H$9*$A18))<H$12,H$12,H$8+(H$9*$A18)) -> 3624 | I18: =IF((I$8+(I$9*$A18))<I$12,I$12,I$8+(I$9*$A18)) -> 3720 | ... BO18: =IF((BO$8+(BO$9*$A18))<BO$12,BO$12,BO$8+(BO$9*$A18)) -> 20664
A19: 3 | B19: =IF((B$8+(B$9*$A19))<B$12,B$12,B$8+(B$9*$A19)) -> 3144 | C19: =IF((C$8+(C$9*$A19))<C$12,C$12,C$8+(C$9*$A19)) -> 3192 | D19: =IF((D$8+(D$9*$A19))<D$12,D$12,D$8+(D$9*$A19)) -> 3228 | E19: =IF((E$8+(E$9*$A19))<E$12,E$12,E$8+(E$9*$A19)) -> 3324 | F19: =IF((F$8+(F$9*$A19))<F$12,F$12,F$8+(F$9*$A19)) -> 3420 | G19: =IF((G$8+(G$9*$A19))<G$12,G$12,G$8+(G$9*$A19)) -> 3528 | H19: =IF((H$8+(H$9*$A19))<H$12,H$12,H$8+(H$9*$A19)) -> 3624 | I19: =IF((I$8+(I$9*$A19))<I$12,I$12,I$8+(I$9*$A19)) -> 3720 | ... BO19: =IF((BO$8+(BO$9*$A19))<BO$12,BO$12,BO$8+(BO$9*$A19)) -> 20664
A20: 4 | B20: =IF((B$8+(B$9*$A20))<B$12,B$12,B$8+(B$9*$A20)) -> 3144 | C20: =IF((C$8+(C$9*$A20))<C$12,C$12,C$8+(C$9*$A20)) -> 3192 | D20: =IF((D$8+(D$9*$A20))<D$12,D$12,D$8+(D$9*$A20)) -> 3228 | E20: =IF((E$8+(E$9*$A20))<E$12,E$12,E$8+(E$9*$A20)) -> 3324 | F20: =IF((F$8+(F$9*$A20))<F$12,F$12,F$8+(F$9*$A20)) -> 3420 | G20: =IF((G$8+(G$9*$A20))<G$12,G$12,G$8+(G$9*$A20)) -> 3528 | H20: =IF((H$8+(H$9*$A20))<H$12,H$12,H$8+(H$9*$A20)) -> 3624 | I20: =IF((I$8+(I$9*$A20))<I$12,I$12,I$8+(I$9*$A20)) -> 3720 | ... BO20: =IF((BO$8+(BO$9*$A20))<BO$12,BO$12,BO$8+(BO$9*$A20)) -> 20664
A21: 5 | B21: =IF((B$8+(B$9*$A21))<B$12,B$12,B$8+(B$9*$A21)) -> 3144 | C21: =IF((C$8+(C$9*$A21))<C$12,C$12,C$8+(C$9*$A21)) -> 3192 | D21: =IF((D$8+(D$9*$A21))<D$12,D$12,D$8+(D$9*$A21)) -> 3228 | E21: =IF((E$8+(E$9*$A21))<E$12,E$12,E$8+(E$9*$A21)) -> 3324 | F21: =IF((F$8+(F$9*$A21))<F$12,F$12,F$8+(F$9*$A21)) -> 3420 | G21: =IF((G$8+(G$9*$A21))<G$12,G$12,G$8+(G$9*$A21)) -> 3528 | H21: =IF((H$8+(H$9*$A21))<H$12,H$12,H$8+(H$9*$A21)) -> 3624 | I21: =IF((I$8+(I$9*$A21))<I$12,I$12,I$8+(I$9*$A21)) -> 3720 | ... BO21: =IF((BO$8+(BO$9*$A21))<BO$12,BO$12,BO$8+(BO$9*$A21)) -> 20664
A22: 6 | B22: =IF((B$8+(B$9*$A22))<B$12,B$12,B$8+(B$9*$A22)) -> 3144 | C22: =IF((C$8+(C$9*$A22))<C$12,C$12,C$8+(C$9*$A22)) -> 3192 | D22: =IF((D$8+(D$9*$A22))<D$12,D$12,D$8+(D$9*$A22)) -> 3228 | E22: =IF((E$8+(E$9*$A22))<E$12,E$12,E$8+(E$9*$A22)) -> 3324 | F22: =IF((F$8+(F$9*$A22))<F$12,F$12,F$8+(F$9*$A22)) -> 3420 | G22: =IF((G$8+(G$9*$A22))<G$12,G$12,G$8+(G$9*$A22)) -> 3528 | H22: =IF((H$8+(H$9*$A22))<H$12,H$12,H$8+(H$9*$A22)) -> 3624 | I22: =IF((I$8+(I$9*$A22))<I$12,I$12,I$8+(I$9*$A22)) -> 3720 | ... BO22: =IF((BO$8+(BO$9*$A22))<BO$12,BO$12,BO$8+(BO$9*$A22)) -> 20664
A23: 7 | B23: =IF((B$8+(B$9*$A23))<B$12,B$12,B$8+(B$9*$A23)) -> 3144 | C23: =IF((C$8+(C$9*$A23))<C$12,C$12,C$8+(C$9*$A23)) -> 3192 | D23: =IF((D$8+(D$9*$A23))<D$12,D$12,D$8+(D$9*$A23)) -> 3228 | E23: =IF((E$8+(E$9*$A23))<E$12,E$12,E$8+(E$9*$A23)) -> 3324 | F23: =IF((F$8+(F$9*$A23))<F$12,F$12,F$8+(F$9*$A23)) -> 3420 | G23: =IF((G$8+(G$9*$A23))<G$12,G$12,G$8+(G$9*$A23)) -> 3528 | H23: =IF((H$8+(H$9*$A23))<H$12,H$12,H$8+(H$9*$A23)) -> 3624 | I23: =IF((I$8+(I$9*$A23))<I$12,I$12,I$8+(I$9*$A23)) -> 3720 | ... BO23: =IF((BO$8+(BO$9*$A23))<BO$12,BO$12,BO$8+(BO$9*$A23)) -> 20664
A24: 8 | B24: =IF((B$8+(B$9*$A24))<B$12,B$12,B$8+(B$9*$A24)) -> 3144 | C24: =IF((C$8+(C$9*$A24))<C$12,C$12,C$8+(C$9*$A24)) -> 3192 | D24: =IF((D$8+(D$9*$A24))<D$12,D$12,D$8+(D$9*$A24)) -> 3228 | E24: =IF((E$8+(E$9*$A24))<E$12,E$12,E$8+(E$9*$A24)) -> 3324 | F24: =IF((F$8+(F$9*$A24))<F$12,F$12,F$8+(F$9*$A24)) -> 3420 | G24: =IF((G$8+(G$9*$A24))<G$12,G$12,G$8+(G$9*$A24)) -> 3528 | H24: =IF((H$8+(H$9*$A24))<H$12,H$12,H$8+(H$9*$A24)) -> 3624 | I24: =IF((I$8+(I$9*$A24))<I$12,I$12,I$8+(I$9*$A24)) -> 3720 | ... BO24: =IF((BO$8+(BO$9*$A24))<BO$12,BO$12,BO$8+(BO$9*$A24)) -> 20664
A25: 9 | B25: =IF((B$8+(B$9*$A25))<B$12,B$12,B$8+(B$9*$A25)) -> 3144 | C25: =IF((C$8+(C$9*$A25))<C$12,C$12,C$8+(C$9*$A25)) -> 3192 | D25: =IF((D$8+(D$9*$A25))<D$12,D$12,D$8+(D$9*$A25)) -> 3228 | E25: =IF((E$8+(E$9*$A25))<E$12,E$12,E$8+(E$9*$A25)) -> 3324 | F25: =IF((F$8+(F$9*$A25))<F$12,F$12,F$8+(F$9*$A25)) -> 3420 | G25: =IF((G$8+(G$9*$A25))<G$12,G$12,G$8+(G$9*$A25)) -> 3528 | H25: =IF((H$8+(H$9*$A25))<H$12,H$12,H$8+(H$9*$A25)) -> 3624 | I25: =IF((I$8+(I$9*$A25))<I$12,I$12,I$8+(I$9*$A25)) -> 3720 | ... BO25: =IF((BO$8+(BO$9*$A25))<BO$12,BO$12,BO$8+(BO$9*$A25)) -> 20664
A26: 10 | B26: =IF((B$8+(B$9*$A26))<B$12,B$12,B$8+(B$9*$A26)) -> 3144 | C26: =IF((C$8+(C$9*$A26))<C$12,C$12,C$8+(C$9*$A26)) -> 3192 | D26: =IF((D$8+(D$9*$A26))<D$12,D$12,D$8+(D$9*$A26)) -> 3228 | E26: =IF((E$8+(E$9*$A26))<E$12,E$12,E$8+(E$9*$A26)) -> 3324 | F26: =IF((F$8+(F$9*$A26))<F$12,F$12,F$8+(F$9*$A26)) -> 3420 | G26: =IF((G$8+(G$9*$A26))<G$12,G$12,G$8+(G$9*$A26)) -> 3528 | H26: =IF((H$8+(H$9*$A26))<H$12,H$12,H$8+(H$9*$A26)) -> 3624 | I26: =IF((I$8+(I$9*$A26))<I$12,I$12,I$8+(I$9*$A26)) -> 3720 | ... BO26: =IF((BO$8+(BO$9*$A26))<BO$12,BO$12,BO$8+(BO$9*$A26)) -> 20664
A27: 11 | B27: =IF((B$8+(B$9*$A27))<B$12,B$12,B$8+(B$9*$A27)) -> 3144 | C27: =IF((C$8+(C$9*$A27))<C$12,C$12,C$8+(C$9*$A27)) -> 3192 | D27: =IF((D$8+(D$9*$A27))<D$12,D$12,D$8+(D$9*$A27)) -> 3228 | E27: =IF((E$8+(E$9*$A27))<E$12,E$12,E$8+(E$9*$A27)) -> 3324 | F27: =IF((F$8+(F$9*$A27))<F$12,F$12,F$8+(F$9*$A27)) -> 3420 | G27: =IF((G$8+(G$9*$A27))<G$12,G$12,G$8+(G$9*$A27)) -> 3528 | H27: =IF((H$8+(H$9*$A27))<H$12,H$12,H$8+(H$9*$A27)) -> 3624 | I27: =IF((I$8+(I$9*$A27))<I$12,I$12,I$8+(I$9*$A27)) -> 3720 | ... BO27: =IF((BO$8+(BO$9*$A27))<BO$12,BO$12,BO$8+(BO$9*$A27)) -> 20664
A28: 12 | B28: =IF((B$8+(B$9*$A28))<B$12,B$12,B$8+(B$9*$A28)) -> 3144 | C28: =IF((C$8+(C$9*$A28))<C$12,C$12,C$8+(C$9*$A28)) -> 3192 | D28: =IF((D$8+(D$9*$A28))<D$12,D$12,D$8+(D$9*$A28)) -> 3228 | E28: =IF((E$8+(E$9*$A28))<E$12,E$12,E$8+(E$9*$A28)) -> 3324 | F28: =IF((F$8+(F$9*$A28))<F$12,F$12,F$8+(F$9*$A28)) -> 3420 | G28: =IF((G$8+(G$9*$A28))<G$12,G$12,G$8+(G$9*$A28)) -> 3528 | H28: =IF((H$8+(H$9*$A28))<H$12,H$12,H$8+(H$9*$A28)) -> 3624 | I28: =IF((I$8+(I$9*$A28))<I$12,I$12,I$8+(I$9*$A28)) -> 3720 | ... BO28: =IF((BO$8+(BO$9*$A28))<BO$12,BO$12,BO$8+(BO$9*$A28)) -> 20664
... A616: 600 | B616: =IF((B$8+(B$9*$A616))<B$12,B$12,B$8+(B$9*$A616)) -> 8166 | C616: =IF((C$8+(C$9*$A616))<C$12,C$12,C$8+(C$9*$A616)) -> 8298 | D616: =IF((D$8+(D$9*$A616))<D$12,D$12,D$8+(D$9*$A616)) -> 8400 | E616: =IF((E$8+(E$9*$A616))<E$12,E$12,E$8+(E$9*$A616)) -> 8652 | F616: =IF((F$8+(F$9*$A616))<F$12,F$12,F$8+(F$9*$A616)) -> 8910 | G616: =IF((G$8+(G$9*$A616))<G$12,G$12,G$8+(G$9*$A616)) -> 9174 | H616: =IF((H$8+(H$9*$A616))<H$12,H$12,H$8+(H$9*$A616)) -> 9420 | I616: =IF((I$8+(I$9*$A616))<I$12,I$12,I$8+(I$9*$A616)) -> 9672 | ... BO616: =IF((BO$8+(BO$9*$A616))<BO$12,BO$12,BO$8+(BO$9*$A616)) -> 53724

Sheet Calculations
G1: 43831 | H1: =DATE(YEAR(G5),MONTH(G5),DAY(G5)+1) -> 44197 | I1: =DATE(YEAR(H5),MONTH(H5),DAY(H5)+1) -> 44562 | J1: =DATE(YEAR(I5),MONTH(I5),DAY(I5)+1) -> 44927 | K1: =DATE(YEAR(J5),MONTH(J5),DAY(J5)+1) -> 45292 | L1: =DATE(YEAR(K5),MONTH(K5),DAY(K5)+1) -> 45658 | M1: =DATE(YEAR(L5),MONTH(L5),DAY(L5)+1) -> 46023 | N1: =DATE(YEAR(M5),MONTH(M5),DAY(M5)+1) -> 46388 | O1: =DATE(YEAR(N5),MONTH(N5),DAY(N5)+1) -> 46753 | P1: =CONCATENATE("Calculation - By Final Allocation Quarter ",YEAR(G1)) -> Calculation - By Final Allocation Quarter 2020 | U1: =CONCATENATE("Calculation - By Final Allocation Quarter ",YEAR(H1)) -> Calculation - By Final Allocation Quarter 2021 | Z1: =CONCATENATE("Calculation - By Final Allocation Quarter ",YEAR(I1)) -> Calculation - By Final Allocation Quarter 2022 | AE1: =CONCATENATE("Calculation - By Final Allocation Quarter ",YEAR(J1)) -> Calculation - By Final Allocation Quarter 2023 | AJ1: =CONCATENATE("Calculation - By Final Allocation Quarter ",YEAR(K1)) -> Calculation - By Final Allocation Quarter 2024 | AO1: =CONCATENATE("Calculation - By Final Allocation Quarter ",YEAR(L1)) -> Calculation - By Final Allocation Quarter 2025 | AT1: =CONCATENATE("Calculation - By Final Allocation Quarter ",YEAR(M1)) -> Calculation - By Final Allocation Quarter 2026 | AY1: =CONCATENATE("Calculation - By Final Allocation Quarter ",YEAR(N1)) -> Calculation - By Final Allocation Quarter 2027 | BD1: =CONCATENATE("Calculation - By Final Allocation Quarter ",YEAR(O1)) -> Calculation - By Final Allocation Quarter 2028
G2: 43921 | H2: =EOMONTH(H1,2) -> 44286 | I2: =EOMONTH(I1,2) -> 44651 | J2: =EOMONTH(J1,2) -> 45016 | K2: =EOMONTH(K1,2) -> 45382 | L2: =EOMONTH(L1,2) -> 45747 | M2: =EOMONTH(M1,2) -> 46112 | N2: =EOMONTH(N1,2) -> 46477 | O2: =EOMONTH(O1,2) -> 46843
G3: 44012 | H3: =EOMONTH(H2,3) -> 44377 | I3: =EOMONTH(I2,3) -> 44742 | J3: =EOMONTH(J2,3) -> 45107 | K3: =EOMONTH(K2,3) -> 45473 | L3: =EOMONTH(L2,3) -> 45838 | M3: =EOMONTH(M2,3) -> 46203 | N3: =EOMONTH(N2,3) -> 46568 | O3: =EOMONTH(O2,3) -> 46934 | P3: 1st qtr | Q3: 2nd qtr | R3: 3rd qtr | S3: 4th qtr | U3: 1st qtr | V3: 2nd qtr | W3: 3rd qtr | X3: 4th qtr | Z3: 1st qtr | AA3: 2nd qtr | AB3: 3rd qtr | AC3: 4th qtr | AE3: 1st qtr | AF3: 2nd qtr | AG3: 3rd qtr | AH3: 4th qtr | AJ3: 1st qtr | AK3: 2nd qtr | AL3: 3rd qtr | AM3: 4th qtr | AO3: 1st qtr | AP3: 2nd qtr | AQ3: 3rd qtr | AR3: 4th qtr | AT3: 1st qtr | AU3: 2nd qtr | AV3: 3rd qtr | AW3: 4th qtr | AY3: 1st qtr | AZ3: 2nd qtr | BA3: 3rd qtr | BB3: 4th qtr | BD3: 1st qtr | BE3: 2nd qtr | BF3: 3rd qtr | BG3: 4th qtr
G4: 44104 | H4: =EOMONTH(H3,3) -> 44469 | I4: =EOMONTH(I3,3) -> 44834 | J4: =EOMONTH(J3,3) -> 45199 | K4: =EOMONTH(K3,3) -> 45565 | L4: =EOMONTH(L3,3) -> 45930 | M4: =EOMONTH(M3,3) -> 46295 | N4: =EOMONTH(N3,3) -> 46660 | O4: =EOMONTH(O3,3) -> 47026 | P4: =IF(OR($K$23=0,$K$24=0),"",IF($G$9=1,NPV(Table!$B$10/4,INDEX($I:$I,$K$10):INDEX($I:$I,$K$11)),"")) | Q4: =IF(OR($K$23=0,$K$24=0),"",IF($G$9=2,NPV(Table!$B$10/4,INDEX($I:$I,$K$10):INDEX($I:$I,$K$11)),"")) | R4: =IF(OR($K$23=0,$K$24=0),"",IF($G$9=3,NPV(Table!$B$10/4,INDEX($I:$I,$K$10):INDEX($I:$I,$K$11)),"")) | S4: =IF(OR($K$23=0,$K$24=0),"",IF($G$9=4,NPV(Table!$B$10/4,INDEX($I:$I,$K$10):INDEX($I:$I,$K$11)),"")) | U4: =IF(OR($K$23=0,$K$24=0),"",IF($G$10=1,NPV(Table!$B$10/4,INDEX($I:$I,$K$10):INDEX($I:$I,$K$11)),"")) | V4: =IF(OR($K$23=0,$K$24=0),"",IF($G$10=2,NPV(Table!$B$10/4,INDEX($I:$I,$K$10):INDEX($I:$I,$K$11)),"")) | W4: =IF(OR($K$23=0,$K$24=0),"",IF($G$10=3,NPV(Table!$B$10/4,INDEX($I:$I,$K$10):INDEX($I:$I,$K$11)),"")) | X4: =IF(OR($K$23=0,$K$24=0),"",IF($G$10=4,NPV(Table!$B$10/4,INDEX($I:$I,$K$10):INDEX($I:$I,$K$11)),"")) | Z4: =IF(OR($K$23=0,$K$24=0),"",IF($G$11=1,NPV(Table!$B$10/4,INDEX($I:$I,$K$10):INDEX($I:$I,$K$11)),"")) | AA4: =IF(OR($K$23=0,$K$24=0),"",IF($G$11=2,NPV(Table!$B$10/4,INDEX($I:$I,$K$10):INDEX($I:$I,$K$11)),"")) | AB4: =IF(OR($K$23=0,$K$24=0),"",IF($G$11=3,NPV(Table!$B$10/4,INDEX($I:$I,$K$10):INDEX($I:$I,$K$11)),"")) | AC4: =IF(OR($K$23=0,$K$24=0),"",IF($G$11=4,NPV(Table!$B$10/4,INDEX($I:$I,$K$10):INDEX($I:$I,$K$11)),"")) | AE4: =IF(OR($K$23=0,$K$24=0),"",IF($G$12=1,NPV(Table!$B$10/4,INDEX($I:$I,$K$10):INDEX($I:$I,$K$11)),"")) | AF4: =IF(OR($K$23=0,$K$24=0),"",IF($G$12=2,NPV(Table!$B$10/4,INDEX($I:$I,$K$10):INDEX($I:$I,$K$11)),"")) | AG4: =IF(OR($K$23=0,$K$24=0),"",IF($G$12=3,NPV(Table!$B$10/4,INDEX($I:$I,$K$10):INDEX($I:$I,$K$11)),"")) | AH4: =IF(OR($K$23=0,$K$24=0),"",IF($G$12=4,NPV(Table!$B$10/4,INDEX($I:$I,$K$10):INDEX($I:$I,$K$11)),"")) | AJ4: =IF(OR($K$23=0,$K$24=0),"",IF($G$13=1,NPV(Table!$B$10/4,INDEX($I:$I,$K$10):INDEX($I:$I,$K$11)),"")) | AK4: =IF(OR($K$23=0,$K$24=0),"",IF($G$13=2,NPV(Table!$B$10/4,INDEX($I:$I,$K$10):INDEX($I:$I,$K$11)),"")) | AL4: =IF(OR($K$23=0,$K$24=0),"",IF($G$13=3,NPV(Table!$B$10/4,INDEX($I:$I,$K$10):INDEX($I:$I,$K$11)),"")) | AM4: =IF(OR($K$23=0,$K$24=0),"",IF($G$13=4,NPV(Table!$B$10/4,INDEX($I:$I,$K$10):INDEX($I:$I,$K$11)),"")) | AO4: =IF(OR($K$23=0,$K$24=0),"",IF($G$14=1,NPV(Table!$B$10/4,INDEX($I:$I,$K$10):INDEX($I:$I,$K$11)),"")) | AP4: =IF(OR($K$23=0,$K$24=0),"",IF($G$14=2,NPV(Table!$B$10/4,INDEX($I:$I,$K$10):INDEX($I:$I,$K$11)),"")) | AQ4: =IF(OR($K$23=0,$K$24=0),"",IF($G$14=3,NPV(Table!$B$10/4,INDEX($I:$I,$K$10):INDEX($I:$I,$K$11)),"")) | AR4: =IF(OR($K$23=0,$K$24=0),"",IF($G$14=4,NPV(Table!$B$10/4,INDEX($I:$I,$K$10):INDEX($I:$I,$K$11)),"")) | AT4: =IF(OR($K$23=0,$K$24=0),"",IF($G$15=1,NPV(Table!$B$10/4,INDEX($I:$I,$K$10):INDEX($I:$I,$K$11)),"")) | AU4: =IF(OR($K$23=0,$K$24=0),"",IF($G$15=2,NPV(Table!$B$10/4,INDEX($I:$I,$K$10):INDEX($I:$I,$K$11)),"")) | AV4: =IF(OR($K$23=0,$K$24=0),"",IF($G$15=3,NPV(Table!$B$10/4,INDEX($I:$I,$K$10):INDEX($I:$I,$K$11)),"")) | AW4: =IF(OR($K$23=0,$K$24=0),"",IF($G$15=4,NPV(Table!$B$10/4,INDEX($I:$I,$K$10):INDEX($I:$I,$K$11)),"")) | AY4: =IF(OR($K$23=0,$K$24=0),"",IF($G$16=1,NPV(Table!$B$10/4,INDEX($I:$I,$K$10):INDEX($I:$I,$K$11)),"")) | AZ4: =IF(OR($K$23=0,$K$24=0),"",IF($G$16=2,NPV(Table!$B$10/4,INDEX($I:$I,$K$10):INDEX($I:$I,$K$11)),"")) | BA4: =IF(OR($K$23=0,$K$24=0),"",IF($G$16=3,NPV(Table!$B$10/4,INDEX($I:$I,$K$10):INDEX($I:$I,$K$11)),"")) | BB4: =IF(OR($K$23=0,$K$24=0),"",IF($G$16=4,NPV(Table!$B$10/4,INDEX($I:$I,$K$10):INDEX($I:$I,$K$11)),"")) | BD4: =IF(OR($K$23=0,$K$24=0),"",IF($G$17=1,NPV(Table!$B$10/4,INDEX($I:$I,$K$10):INDEX($I:$I,$K$11)),"")) | BE4: =IF(OR($K$23=0,$K$24=0),"",IF($G$17=2,NPV(Table!$B$10/4,INDEX($I:$I,$K$10):INDEX($I:$I,$K$11)),"")) | BF4: =IF(OR($K$23=0,$K$24=0),"",IF($G$17=3,NPV(Table!$B$10/4,INDEX($I:$I,$K$10):INDEX($I:$I,$K$11)),"")) | BG4: =IF(OR($K$23=0,$K$24=0),"",IF($G$17=4,NPV(Table!$B$10/4,INDEX($I:$I,$K$10):INDEX($I:$I,$K$11)),""))
G5: 44196 | H5: =EOMONTH(H4,3) -> 44561 | I5: =EOMONTH(I4,3) -> 44926 | J5: =EOMONTH(J4,3) -> 45291 | K5: =EOMONTH(K4,3) -> 45657 | L5: =EOMONTH(L4,3) -> 46022 | M5: =EOMONTH(M4,3) -> 46387 | N5: =EOMONTH(N4,3) -> 46752 | O5: =EOMONTH(O4,3) -> 47118
P6: Interim Calculation | U6: Calculation
E7: =NPV(0.02/4,I37:I239)+SUM(I32:I36) -> 0 | G7: =Form!A4 -> Updated: 12/9/2025 | P7: =Form!B9 -> 0 | Q7: First Move-In Date | U7: =IF(P7>G56,0,SUMIF(G32:G291,"<"&K9,I32:I291)) -> 0 | V7: HC CM Fees not included in NPV Calc
G8: =IF(Form!B10<>"",YEAR(Form!B10),0) -> 0 | H8: Year of Final Allocation | K8: 55 | L8: # of Rows not in NPV | P8: =EOMONTH(P7,MOD(3-MONTH(P7),3)) -> 91 | Q8: End of Quarter of First Move-in | U8: =SUM(P4:BG4) -> 0 | V8: NPV of HC CM Fees
G9: =IF(Form!B10="","",IF(G8=YEAR(G1),IF(Form!B10<=Calculations!G2,1,IF(AND(Form!B10>Calculations!G2,Form!B10<=Calculations!G3),2,IF(AND(Form!B10>Calculations!G3,Form!B10<=Calculations!G4),3,IF(Form!B10>Calculations!G4,4,"")))),"")) | H9: =CONCATENATE(YEAR(G1)," Qtr of Final Allocation") -> 2020 Qtr of Final Allocation | K9: =IF(G56<P8,P8,G56) -> 46112 | L9: NPV Beginning Date | P9: =MONTH(P8)-MONTH(P7)+1 -> 3 | Q9: # of Months in quarter of Move-In | U9: =-Form!B11 -> 0 | V9: Fees Collected at Preliminary Allocation
G10: =IF(Form!B10="","",IF(G8=YEAR(H1),IF(Form!B10<=Calculations!H2,1,IF(AND(Form!B10>Calculations!H2,Form!B10<=Calculations!H3),2,IF(AND(Form!B10>Calculations!H3,Form!B10<=Calculations!H4),3,IF(Form!B10>Calculations!H4,4,"")))),"")) | H10: =CONCATENATE(YEAR(H1)," Qtr of Final Allocation") -> 2021 Qtr of Final Allocation | K10: {=IF(INDEX(MATCH(1,--(I56:I291<>0),),)+K8<VLOOKUP(P8,S32:T295,2),VLOOKUP(P8,S32:T295,2),INDEX(MATCH(1,--(I56:I291<>0),),)+K8)} -> #N/A | L10: NPV Beginning Row | P10: =Form!B10 -> 0 | Q10: Final PIS Date | U10: =SUM(U7:U9) -> 0 | V10: Net Fees Due
G11: =IF(Form!B10="","",IF(G8=YEAR(I1),IF(Form!B10<=Calculations!I2,1,IF(AND(Form!B10>Calculations!I2,Form!B10<=Calculations!I3),2,IF(AND(Form!B10>Calculations!I3,Form!B10<=Calculations!I4),3,IF(Form!B10>Calculations!I4,4,"")))),"")) | H11: =CONCATENATE(YEAR(I1)," Qtr of Final Allocation") -> 2022 Qtr of Final Allocation | K11: =IF(G38>=K9,COUNTIFS(G32:G291,"<="&P12,G32:G291,">="&K9)+K8,COUNTIFS(G32:G291,"<="&P12,G32:G291,">="&K9)+K10-1) -> #N/A | L11: NPV Ending Row | P11: =DATE(YEAR(Form!B10)+Form!B8,MONTH(Form!B10),DAY(Form!B10)) -> 0 | Q11: Last Day of EUA
G12: =IF(Form!B$10="","",IF(G$8=YEAR(J$1),IF(Form!B$10<=Calculations!J$2,1,IF(AND(Form!B$10>Calculations!J$2,Form!B$10<=Calculations!J$3),2,IF(AND(Form!B$10>Calculations!J$3,Form!B$10<=Calculations!J$4),3,IF(Form!B$10>Calculations!J$4,4,"")))),"")) | H12: =CONCATENATE(YEAR(J1)," Qtr of Final Allocation") -> 2023 Qtr of Final Allocation | P12: =DATE(YEAR(P11),12,31) -> 366 | Q12: Last Day of EUA using "NLT" Basis
G13: =IF(Form!B$10="","",IF(G$8=YEAR(K$1),IF(Form!B$10<=Calculations!K$2,1,IF(AND(Form!B$10>Calculations!K$2,Form!B$10<=Calculations!K$3),2,IF(AND(Form!B$10>Calculations!K$3,Form!B$10<=Calculations!K$4),3,IF(Form!B$10>Calculations!K$4,4,"")))),"")) | H13: =CONCATENATE(YEAR(K1)," Qtr of Final Allocation") -> 2024 Qtr of Final Allocation
G14: =IF(Form!B$10="","",IF(G$8=YEAR(L$1),IF(Form!B$10<=Calculations!L$2,1,IF(AND(Form!B$10>Calculations!L$2,Form!B$10<=Calculations!L$3),2,IF(AND(Form!B$10>Calculations!L$3,Form!B$10<=Calculations!L$4),3,IF(Form!B$10>Calculations!L$4,4,"")))),"")) | H14: =CONCATENATE(YEAR(L1)," Qtr of Final Allocation") -> 2025 Qtr of Final Allocation
G15: =IF(Form!B$10="","",IF(G$8=YEAR(M$1),IF(Form!B$10<=Calculations!M$2,1,IF(AND(Form!B$10>Calculations!M$2,Form!B$10<=Calculations!M$3),2,IF(AND(Form!B$10>Calculations!M$3,Form!B$10<=Calculations!M$4),3,IF(Form!B$10>Calculations!M$4,4,"")))),"")) | H15: =CONCATENATE(YEAR(M1)," Qtr of Final Allocation") -> 2026 Qtr of Final Allocation
G16: =IF(Form!B$10="","",IF(G$8=YEAR(N$1),IF(Form!B$10<=Calculations!N$2,1,IF(AND(Form!B$10>Calculations!N$2,Form!B$10<=Calculations!N$3),2,IF(AND(Form!B$10>Calculations!N$3,Form!B$10<=Calculations!N$4),3,IF(Form!B$10>Calculations!N$4,4,"")))),"")) | H16: =CONCATENATE(YEAR(N1)," Qtr of Final Allocation") -> 2027 Qtr of Final Allocation
G17: =IF(Form!B$10="","",IF(G$8=YEAR(O$1),IF(Form!B$10<=Calculations!O$2,1,IF(AND(Form!B$10>Calculations!O$2,Form!B$10<=Calculations!O$3),2,IF(AND(Form!B$10>Calculations!O$3,Form!B$10<=Calculations!O$4),3,IF(Form!B$10>Calculations!O$4,4,"")))),"")) | H17: =CONCATENATE(YEAR(O$1)," Qtr of Final Allocation") -> 2028 Qtr of Final Allocation
G19: =IF(Form!B10="","",IF(G8=YEAR(G1),MONTH(Form!B10),"")) | H19: =CONCATENATE(YEAR(G1)," Month of Final Allocation") -> 2020 Month of Final Allocation
G20: =IF(Form!B10="","",IF(G8=YEAR(H1),MONTH(Form!B10),"")) | H20: =CONCATENATE(YEAR(H1)," Month of Final Allocation") -> 2021 Month of Final Allocation
G21: =IF(Form!B10="","",IF(G8=YEAR(I1),MONTH(Form!B10),"")) | H21: =CONCATENATE(YEAR(I1)," Month of Final Allocation") -> 2022 Month of Final Allocation
G22: =IF(Form!B$10="","",IF(G$8=YEAR(J$1),MONTH(Form!B$10),"")) | H22: =CONCATENATE(YEAR(J1)," Month of Final Allocation") -> 2023 Month of Final Allocation
G23: =IF(Form!B$10="","",IF(G$8=YEAR(K$1),MONTH(Form!B$10),"")) | H23: =CONCATENATE(YEAR(K1)," Month of Final Allocation") -> 2024 Month of Final Allocation | K23: =Form!B8 -> 0 | L23: years
G24: =IF(Form!B$10="","",IF(G$8=YEAR(L$1),MONTH(Form!B$10),"")) | H24: =CONCATENATE(YEAR(L1)," Month of Final Allocation") -> 2025 Month of Final Allocation | K24: =K23*4 -> 0 | L24: # payments
G25: =IF(Form!B$10="","",IF(G$8=YEAR(M$1),MONTH(Form!B$10),"")) | H25: =CONCATENATE(YEAR(M$1)," Month of Final Allocation") -> 2026 Month of Final Allocation
G26: =IF(Form!B$10="","",IF(G$8=YEAR(N$1),MONTH(Form!B$10),"")) | H26: =CONCATENATE(YEAR(N$1)," Month of Final Allocation") -> 2027 Month of Final Allocation
G27: =IF(Form!B$10="","",IF(G$8=YEAR(O$1),MONTH(Form!B$10),"")) | H27: =CONCATENATE(YEAR(O$1)," Month of Final Allocation") -> 2028 Month of Final Allocation
K30: Need to be updated when the NPV quarter changes
A31: G Year = M12 year? | B31: First Move in <G | C31: G in same qtr as first move in | D31: H Qtr | E31: Same | F31: F<=last day of EUA | G31: Payment Qtr | I31: Payment
G32: 43921 | H32: =IFERROR(VLOOKUP(Form!$B$7,Table!$A$14:$BO$616,MATCH(VALUE(YEAR(G32)),Table!$A$14:$BO$14,0),FALSE)/4,0) -> 0 | I32: =IF(G32<Form!$B$9,0,IF(AND(G32=$P$8,$P$9=1),H32/90*(30-DAY(Form!$B$9)+1),IF(AND(G32=$P$8,$P$9=2),H32/90*(60-DAY(Form!$B$9)+1),IF(AND(G32=$P$8,$P$9=3),H32/90*(90-DAY(Form!$B$9)+1),H32)))) -> 0 | S32: 43921 | T32: 32
G33: 44012 | H33: =IFERROR(VLOOKUP(Form!$B$7,Table!$A$14:$BO$616,MATCH(VALUE(YEAR(G33)),Table!$A$14:$BO$14,0),FALSE)/4,0) -> 0 | I33: =IF(G33<Form!$B$9,0,IF(AND(G33=$P$8,$P$9=1),H33/90*(30-DAY(Form!$B$9)+1),IF(AND(G33=$P$8,$P$9=2),H33/90*(60-DAY(Form!$B$9)+1),IF(AND(G33=$P$8,$P$9=3),H33/90*(90-DAY(Form!$B$9)+1),H33)))) -> 0 | S33: 44012 | T33: 33
G34: 44104 | H34: =IFERROR(VLOOKUP(Form!$B$7,Table!$A$14:$BO$616,MATCH(VALUE(YEAR(G34)),Table!$A$14:$BO$14,0),FALSE)/4,0) -> 0 | I34: =IF(G34<Form!$B$9,0,IF(AND(G34=$P$8,$P$9=1),H34/90*(30-DAY(Form!$B$9)+1),IF(AND(G34=$P$8,$P$9=2),H34/90*(60-DAY(Form!$B$9)+1),IF(AND(G34=$P$8,$P$9=3),H34/90*(90-DAY(Form!$B$9)+1),H34)))) -> 0 | S34: 44104 | T34: 34
G35: 44196 | H35: =IFERROR(VLOOKUP(Form!$B$7,Table!$A$14:$BO$616,MATCH(VALUE(YEAR(G35)),Table!$A$14:$BO$14,0),FALSE)/4,0) -> 0 | I35: =IF(G35<Form!$B$9,0,IF(AND(G35=$P$8,$P$9=1),H35/90*(30-DAY(Form!$B$9)+1),IF(AND(G35=$P$8,$P$9=2),H35/90*(60-DAY(Form!$B$9)+1),IF(AND(G35=$P$8,$P$9=3),H35/90*(90-DAY(Form!$B$9)+1),H35)))) -> 0 | S35: 44196 | T35: 35
G36: 44286 | H36: =IFERROR(VLOOKUP(Form!$B$7,Table!$A$14:$BO$616,MATCH(VALUE(YEAR(G36)),Table!$A$14:$BO$14,0),FALSE)/4,0) -> 0 | I36: =IF(G36<Form!$B$9,0,IF(AND(G36=$P$8,$P$9=1),H36/90*(30-DAY(Form!$B$9)+1),IF(AND(G36=$P$8,$P$9=2),H36/90*(60-DAY(Form!$B$9)+1),IF(AND(G36=$P$8,$P$9=3),H36/90*(90-DAY(Form!$B$9)+1),H36)))) -> 0 | S36: 44286 | T36: 36
G37: 44377 | H37: =IFERROR(VLOOKUP(Form!$B$7,Table!$A$14:$BO$616,MATCH(VALUE(YEAR(G37)),Table!$A$14:$BO$14,0),FALSE)/4,0) -> 0 | I37: =IF(G37<Form!$B$9,0,IF(AND(G37=$P$8,$P$9=1),H37/90*(30-DAY(Form!$B$9)+1),IF(AND(G37=$P$8,$P$9=2),H37/90*(60-DAY(Form!$B$9)+1),IF(AND(G37=$P$8,$P$9=3),H37/90*(90-DAY(Form!$B$9)+1),H37)))) -> 0 | S37: 44377 | T37: 37
G38: 44469 | H38: =IFERROR(VLOOKUP(Form!$B$7,Table!$A$14:$BO$616,MATCH(VALUE(YEAR(G38)),Table!$A$14:$BO$14,0),FALSE)/4,0) -> 0 | I38: =IF(G38<Form!$B$9,0,IF(AND(G38=$P$8,$P$9=1),H38/90*(30-DAY(Form!$B$9)+1),IF(AND(G38=$P$8,$P$9=2),H38/90*(60-DAY(Form!$B$9)+1),IF(AND(G38=$P$8,$P$9=3),H38/90*(90-DAY(Form!$B$9)+1),H38)))) -> 0 | S38: 44469 | T38: 38
G39: 44561 | H39: =IFERROR(VLOOKUP(Form!$B$7,Table!$A$14:$BO$616,MATCH(VALUE(YEAR(G39)),Table!$A$14:$BO$14,0),FALSE)/4,0) -> 0 | I39: =IF(G39<Form!$B$9,0,IF(AND(G39=$P$8,$P$9=1),H39/90*(30-DAY(Form!$B$9)+1),IF(AND(G39=$P$8,$P$9=2),H39/90*(60-DAY(Form!$B$9)+1),IF(AND(G39=$P$8,$P$9=3),H39/90*(90-DAY(Form!$B$9)+1),H39)))) -> 0 | S39: 44561 | T39: 39
G40: 44651 | H40: =IFERROR(VLOOKUP(Form!$B$7,Table!$A$14:$BO$616,MATCH(VALUE(YEAR(G40)),Table!$A$14:$BO$14,0),FALSE)/4,0) -> 0 | I40: =IF(G40<Form!$B$9,0,IF(AND(G40=$P$8,$P$9=1),H40/90*(30-DAY(Form!$B$9)+1),IF(AND(G40=$P$8,$P$9=2),H40/90*(60-DAY(Form!$B$9)+1),IF(AND(G40=$P$8,$P$9=3),H40/90*(90-DAY(Form!$B$9)+1),H40)))) -> 0 | S40: 44651 | T40: 40
A41: =IF(YEAR(G37)=YEAR($P$12),"YES","NO") -> NO | B41: =IF(Form!$B$9<=Calculations!G37,"YES","NO") -> YES | C41: =IF(AND(A41="YES",B41="YES"),IF(Form!$B$9<=Calculations!$H$2,1,IF(Form!$B$9<=Calculations!$H$3,2,IF(Form!$B$9<=Calculations!$H$4,3,IF(Form!$B$9<=Calculations!$H$5,4,0))))) -> FALSE | D41: =IF(AND(A41="YES",B41="YES"),IF(G37<=$H$2,1,IF(G37<=$H$3,2,IF(G37<=$H$4,3,IF(G37<=$H$5,4,0))))) -> FALSE | E41: =IF(AND(C41<>0,C41=D41),"YES","NO") -> YES | F41: =IF(G37<=$P$12,"YES","NO") -> NO | G41: 44742 | H41: =IFERROR(VLOOKUP(Form!$B$7,Table!$A$14:$BO$616,MATCH(VALUE(YEAR(G41)),Table!$A$14:$BO$14,0),FALSE)/4,0) -> 0 | I41: =IF(G41<Form!$B$9,0,IF(AND(G41=$P$8,$P$9=1),H41/90*(30-DAY(Form!$B$9)+1),IF(AND(G41=$P$8,$P$9=2),H41/90*(60-DAY(Form!$B$9)+1),IF(AND(G41=$P$8,$P$9=3),H41/90*(90-DAY(Form!$B$9)+1),H41)))) -> 0 | S41: 44742 | T41: 41
A42: =IF(YEAR(G38)=YEAR($P$12),"YES","NO") -> NO | B42: =IF(Form!$B$9<=Calculations!G38,"YES","NO") -> YES | C42: =IF(AND(A42="YES",B42="YES"),IF(Form!$B$9<=Calculations!$H$2,1,IF(Form!$B$9<=Calculations!$H$3,2,IF(Form!$B$9<=Calculations!$H$4,3,IF(Form!$B$9<=Calculations!$H$5,4,0))))) -> FALSE | D42: =IF(AND(A42="YES",B42="YES"),IF(G38<=$H$2,1,IF(G38<=$H$3,2,IF(G38<=$H$4,3,IF(G38<=$H$5,4,0))))) -> FALSE | E42: =IF(AND(C42<>0,C42=D42),"YES","NO") -> YES | F42: =IF(G38<=$P$12,"YES","NO") -> NO | G42: 44834 | H42: =IFERROR(VLOOKUP(Form!$B$7,Table!$A$14:$BO$616,MATCH(VALUE(YEAR(G42)),Table!$A$14:$BO$14,0),FALSE)/4,0) -> 0 | I42: =IF(G42<Form!$B$9,0,IF(AND(G42=$P$8,$P$9=1),H42/90*(30-DAY(Form!$B$9)+1),IF(AND(G42=$P$8,$P$9=2),H42/90*(60-DAY(Form!$B$9)+1),IF(AND(G42=$P$8,$P$9=3),H42/90*(90-DAY(Form!$B$9)+1),H42)))) -> 0 | S42: 44834 | T42: 42
A43: =IF(YEAR(G39)=YEAR($P$12),"YES","NO") -> NO | B43: =IF(Form!$B$9<=Calculations!G39,"YES","NO") -> YES | C43: =IF(AND(A43="YES",B43="YES"),IF(Form!$B$9<=Calculations!$H$2,1,IF(Form!$B$9<=Calculations!$H$3,2,IF(Form!$B$9<=Calculations!$H$4,3,IF(Form!$B$9<=Calculations!$H$5,4,0))))) -> FALSE | D43: =IF(AND(A43="YES",B43="YES"),IF(G39<=$H$2,1,IF(G39<=$H$3,2,IF(G39<=$H$4,3,IF(G39<=$H$5,4,0))))) -> FALSE | E43: =IF(AND(C43<>0,C43=D43),"YES","NO") -> YES | F43: =IF(G39<=$P$12,"YES","NO") -> NO | G43: 44926 | H43: =IFERROR(VLOOKUP(Form!$B$7,Table!$A$14:$BO$616,MATCH(VALUE(YEAR(G43)),Table!$A$14:$BO$14,0),FALSE)/4,0) -> 0 | I43: =IF(G43<Form!$B$9,0,IF(AND(G43=$P$8,$P$9=1),H43/90*(30-DAY(Form!$B$9)+1),IF(AND(G43=$P$8,$P$9=2),H43/90*(60-DAY(Form!$B$9)+1),IF(AND(G43=$P$8,$P$9=3),H43/90*(90-DAY(Form!$B$9)+1),H43)))) -> 0 | S43: 44926 | T43: 43
...
