Workbook

Sheet Form
A1: Housing Credit Compliance Monitoring Fees 2026
A2: 2025 Servicing Contract
A4: Updated: 3/2/2026
A5: Input information in the green cells below
A6: Name of Development
A7: Number of Set-Aside Units
A8: Number of Affordability Years
A9: First Move-In Date
A10: Final Placed In Service Date of LAST Building
A11: Fees Collected at Preliminary Allocation*
A13: Fees are based on set-aside units (includes manager units)
A15: Construction Inspection Fees: To be billed directly to the Applicant at $220 per hour
A16: not to exceed $2,125 per inspection.
A18: Total Compliance Fees Due to FHFC | B18: =IFERROR(ROUNDUP(Calculations!S10,0),0) -> 0
A20: *Applicable for Competitive 9% Housing Credits only

Sheet Table
A1: Monthly Base Fee | B1: 3% Annual Escalator | C1: =ROUND(B7*1.03,2) -> 334.75 | D1: =ROUND(C1*1.03,2) -> 344.79 | E1: =ROUND(D1*1.03,2) -> 355.13 | F1: =ROUND(E1*1.03,2) -> 365.78 | G1: =ROUND(F1*1.03,2) -> 376.75 | H1: =ROUND(G1*1.03,2) -> 388.05 | I1: =ROUND(H1*1.03,2) -> 399.69 | J1: =ROUND(I1*1.03,2) -> 411.68 | K1: =ROUND(J1*1.03,2) -> 424.03 | ... BH1: =ROUND(BG1*1.03,2) -> 1804.9
A2: Per Unit Fee | B2: 3% Annual Escalator | C2: =ROUND(B9*1.03,2) -> 12.58 | D2: =ROUND(C2*1.03,2) -> 12.96 | E2: =ROUND(D2*1.03,2) -> 13.35 | F2: =ROUND(E2*1.03,2) -> 13.75 | G2: =ROUND(F2*1.03,2) -> 14.16 | H2: =ROUND(G2*1.03,2) -> 14.58 | I2: =ROUND(H2*1.03,2) -> 15.02 | J2: =ROUND(I2*1.03,2) -> 15.47 | K2: =ROUND(J2*1.03,2) -> 15.93 | ... BH2: =ROUND(BG2*1.03,2) -> 67.77
A3: Monthly Minimum | B3: 3% Annual Escalator | C3: =ROUND(B11*1.03,2) -> 334.75 | D3: =ROUND(C3*1.03,2) -> 344.79 | E3: =ROUND(D3*1.03,2) -> 355.13 | F3: =ROUND(E3*1.03,2) -> 365.78 | G3: =ROUND(F3*1.03,2) -> 376.75 | H3: =ROUND(G3*1.03,2) -> 388.05 | I3: =ROUND(H3*1.03,2) -> 399.69 | J3: =ROUND(I3*1.03,2) -> 411.68 | K3: =ROUND(J3*1.03,2) -> 424.03 | ... BH3: =ROUND(BG3*1.03,2) -> 1804.9
A4: =Form!A4 -> Updated: 3/2/2026
A5: Beginning Date of Year | B5: 46023
A6: Annual RD Amount | B6: 450
A7: Monthly Base Fee | B7: 325 | C7: =ROUND(C1,0) -> 335 | D7: =ROUND(D1,0) -> 345 | E7: =ROUND(E1,0) -> 355 | F7: =ROUND(F1,0) -> 366 | G7: =ROUND(G1,0) -> 377 | H7: =ROUND(H1,0) -> 388 | I7: =ROUND(I1,0) -> 400 | J7: =ROUND(J1,0) -> 412 | ... BH7: =ROUND(BH1,0) -> 1805
A8: Annual Base Fee | B8: =B7*12 -> 3900 | C8: =C7*12 -> 4020 | D8: =D7*12 -> 4140 | E8: =E7*12 -> 4260 | F8: =F7*12 -> 4392 | G8: =G7*12 -> 4524 | H8: =H7*12 -> 4656 | I8: =I7*12 -> 4800 | ... BH8: =BH7*12 -> 21660
A9: Per Unit Annual Fee | B9: 12.21 | C9: =C2 -> 12.58 | D9: =D2 -> 12.96 | E9: =E2 -> 13.35 | F9: =F2 -> 13.75 | G9: =G2 -> 14.16 | H9: =H2 -> 14.58 | I9: =I2 -> 15.02 | J9: =J2 -> 15.47 | ... BH9: =BH2 -> 67.77
A10: Discount Rate | B10: 0.02
A11: Monthly Minimum Fee | B11: 325 | C11: =ROUND(C3,0) -> 335 | D11: =ROUND(D3,0) -> 345 | E11: =ROUND(E3,0) -> 355 | F11: =ROUND(F3,0) -> 366 | G11: =ROUND(G3,0) -> 377 | H11: =ROUND(H3,0) -> 388 | I11: =ROUND(I3,0) -> 400 | J11: =ROUND(J3,0) -> 412 | ... BH11: =ROUND(BH3,0) -> 1805
A12: Annual Minimum Fee | B12: =B11*12 -> 3900 | C12: =C11*12 -> 4020 | D12: =D11*12 -> 4140 | E12: =E11*12 -> 4260 | F12: =F11*12 -> 4392 | G12: =G11*12 -> 4524 | H12: =H11*12 -> 4656 | I12: =I11*12 -> 4800 | ... BH12: =BH11*12 -> 21660
B14: 2026 | C14: =B14+1 -> 2027 | D14: =C14+1 -> 2028 | E14: =D14+1 -> 2029 | F14: =E14+1 -> 2030 | G14: =F14+1 -> 2031 | H14: =G14+1 -> 2032 | I14: =H14+1 -> 2033 | J14: =I14+1 -> 2034 | ... BH14: =BG14+1 -> 2084
B15: Number of years Set-Aside
A16: # of Units
A17: 1 | B17: =IF((B$8+(B$9*$A17))<B$12,B$12,B$8+(B$9*$A17)) -> 3912.21 | C17: =IF((C$8+(C$9*$A17))<C$12,C$12,C$8+(C$9*$A17)) -> 4032.58 | D17: =IF((D$8+(D$9*$A17))<D$12,D$12,D$8+(D$9*$A17)) -> 4152.96 | E17: =IF((E$8+(E$9*$A17))<E$12,E$12,E$8+(E$9*$A17)) -> 4273.35 | F17: =IF((F$8+(F$9*$A17))<F$12,F$12,F$8+(F$9*$A17)) -> 4405.75 | G17: =IF((G$8+(G$9*$A17))<G$12,G$12,G$8+(G$9*$A17)) -> 4538.16 | H17: =IF((H$8+(H$9*$A17))<H$12,H$12,H$8+(H$9*$A17)) -> 4670.58 | I17: =IF((I$8+(I$9*$A17))<I$12,I$12,I$8+(I$9*$A17)) -> 4815.02 | ... BH17: =IF((BH$8+(BH$9*$A17))<BH$12,BH$12,BH$8+(BH$9*$A17)) -> 21727.77
A18: 2 | B18: =IF((B$8+(B$9*$A18))<B$12,B$12,B$8+(B$9*$A18)) -> 3924.42 | C18: =IF((C$8+(C$9*$A18))<C$12,C$12,C$8+(C$9*$A18)) -> 4045.16 | D18: =IF((D$8+(D$9*$A18))<D$12,D$12,D$8+(D$9*$A18)) -> 4165.92 | E18: =IF((E$8+(E$9*$A18))<E$12,E$12,E$8+(E$9*$A18)) -> 4286.7 | F18: =IF((F$8+(F$9*$A18))<F$12,F$12,F$8+(F$9*$A18)) -> 4419.5 | G18: =IF((G$8+(G$9*$A18))<G$12,G$12,G$8+(G$9*$A18)) -> 4552.32 | H18: =IF((H$8+(H$9*$A18))<H$12,H$12,H$8+(H$9*$A18)) -> 4685.16 | I18: =IF((I$8+(I$9*$A18))<I$12,I$12,I$8+(I$9*$A18)) -> 4830.04 | ... BH18: =IF((BH$8+(BH$9*$A18))<BH$12,BH$12,BH$8+(BH$9*$A18)) -> 21795.54
A19: 3 | B19: =IF((B$8+(B$9*$A19))<B$12,B$12,B$8+(B$9*$A19)) -> 3936.63 | C19: =IF((C$8+(C$9*$A19))<C$12,C$12,C$8+(C$9*$A19)) -> 4057.74 | D19: =IF((D$8+(D$9*$A19))<D$12,D$12,D$8+(D$9*$A19)) -> 4178.88 | E19: =IF((E$8+(E$9*$A19))<E$12,E$12,E$8+(E$9*$A19)) -> 4300.05 | F19: =IF((F$8+(F$9*$A19))<F$12,F$12,F$8+(F$9*$A19)) -> 4433.25 | G19: =IF((G$8+(G$9*$A19))<G$12,G$12,G$8+(G$9*$A19)) -> 4566.48 | H19: =IF((H$8+(H$9*$A19))<H$12,H$12,H$8+(H$9*$A19)) -> 4699.74 | I19: =IF((I$8+(I$9*$A19))<I$12,I$12,I$8+(I$9*$A19)) -> 4845.06 | ... BH19: =IF((BH$8+(BH$9*$A19))<BH$12,BH$12,BH$8+(BH$9*$A19)) -> 21863.31
A20: 4 | B20: =IF((B$8+(B$9*$A20))<B$12,B$12,B$8+(B$9*$A20)) -> 3948.84 | C20: =IF((C$8+(C$9*$A20))<C$12,C$12,C$8+(C$9*$A20)) -> 4070.32 | D20: =IF((D$8+(D$9*$A20))<D$12,D$12,D$8+(D$9*$A20)) -> 4191.84 | E20: =IF((E$8+(E$9*$A20))<E$12,E$12,E$8+(E$9*$A20)) -> 4313.4 | F20: =IF((F$8+(F$9*$A20))<F$12,F$12,F$8+(F$9*$A20)) -> 4447 | G20: =IF((G$8+(G$9*$A20))<G$12,G$12,G$8+(G$9*$A20)) -> 4580.64 | H20: =IF((H$8+(H$9*$A20))<H$12,H$12,H$8+(H$9*$A20)) -> 4714.32 | I20: =IF((I$8+(I$9*$A20))<I$12,I$12,I$8+(I$9*$A20)) -> 4860.08 | ... BH20: =IF((BH$8+(BH$9*$A20))<BH$12,BH$12,BH$8+(BH$9*$A20)) -> 21931.08
A21: 5 | B21: =IF((B$8+(B$9*$A21))<B$12,B$12,B$8+(B$9*$A21)) -> 3961.05 | C21: =IF((C$8+(C$9*$A21))<C$12,C$12,C$8+(C$9*$A21)) -> 4082.9 | D21: =IF((D$8+(D$9*$A21))<D$12,D$12,D$8+(D$9*$A21)) -> 4204.8 | E21: =IF((E$8+(E$9*$A21))<E$12,E$12,E$8+(E$9*$A21)) -> 4326.75 | F21: =IF((F$8+(F$9*$A21))<F$12,F$12,F$8+(F$9*$A21)) -> 4460.75 | G21: =IF((G$8+(G$9*$A21))<G$12,G$12,G$8+(G$9*$A21)) -> 4594.8 | H21: =IF((H$8+(H$9*$A21))<H$12,H$12,H$8+(H$9*$A21)) -> 4728.9 | I21: =IF((I$8+(I$9*$A21))<I$12,I$12,I$8+(I$9*$A21)) -> 4875.1 | ... BH21: =IF((BH$8+(BH$9*$A21))<BH$12,BH$12,BH$8+(BH$9*$A21)) -> 21998.85
A22: 6 | B22: =IF((B$8+(B$9*$A22))<B$12,B$12,B$8+(B$9*$A22)) -> 3973.26 | C22: =IF((C$8+(C$9*$A22))<C$12,C$12,C$8+(C$9*$A22)) -> 4095.48 | D22: =IF((D$8+(D$9*$A22))<D$12,D$12,D$8+(D$9*$A22)) -> 4217.76 | E22: =IF((E$8+(E$9*$A22))<E$12,E$12,E$8+(E$9*$A22)) -> 4340.1 | F22: =IF((F$8+(F$9*$A22))<F$12,F$12,F$8+(F$9*$A22)) -> 4474.5 | G22: =IF((G$8+(G$9*$A22))<G$12,G$12,G$8+(G$9*$A22)) -> 4608.96 | H22: =IF((H$8+(H$9*$A22))<H$12,H$12,H$8+(H$9*$A22)) -> 4743.48 | I22: =IF((I$8+(I$9*$A22))<I$12,I$12,I$8+(I$9*$A22)) -> 4890.12 | ... BH22: =IF((BH$8+(BH$9*$A22))<BH$12,BH$12,BH$8+(BH$9*$A22)) -> 22066.62
A23: 7 | B23: =IF((B$8+(B$9*$A23))<B$12,B$12,B$8+(B$9*$A23)) -> 3985.47 | C23: =IF((C$8+(C$9*$A23))<C$12,C$12,C$8+(C$9*$A23)) -> 4108.06 | D23: =IF((D$8+(D$9*$A23))<D$12,D$12,D$8+(D$9*$A23)) -> 4230.72 | E23: =IF((E$8+(E$9*$A23))<E$12,E$12,E$8+(E$9*$A23)) -> 4353.45 | F23: =IF((F$8+(F$9*$A23))<F$12,F$12,F$8+(F$9*$A23)) -> 4488.25 | G23: =IF((G$8+(G$9*$A23))<G$12,G$12,G$8+(G$9*$A23)) -> 4623.12 | H23: =IF((H$8+(H$9*$A23))<H$12,H$12,H$8+(H$9*$A23)) -> 4758.06 | I23: =IF((I$8+(I$9*$A23))<I$12,I$12,I$8+(I$9*$A23)) -> 4905.14 | ... BH23: =IF((BH$8+(BH$9*$A23))<BH$12,BH$12,BH$8+(BH$9*$A23)) -> 22134.39
A24: 8 | B24: =IF((B$8+(B$9*$A24))<B$12,B$12,B$8+(B$9*$A24)) -> 3997.68 | C24: =IF((C$8+(C$9*$A24))<C$12,C$12,C$8+(C$9*$A24)) -> 4120.64 | D24: =IF((D$8+(D$9*$A24))<D$12,D$12,D$8+(D$9*$A24)) -> 4243.68 | E24: =IF((E$8+(E$9*$A24))<E$12,E$12,E$8+(E$9*$A24)) -> 4366.8 | F24: =IF((F$8+(F$9*$A24))<F$12,F$12,F$8+(F$9*$A24)) -> 4502 | G24: =IF((G$8+(G$9*$A24))<G$12,G$12,G$8+(G$9*$A24)) -> 4637.28 | H24: =IF((H$8+(H$9*$A24))<H$12,H$12,H$8+(H$9*$A24)) -> 4772.64 | I24: =IF((I$8+(I$9*$A24))<I$12,I$12,I$8+(I$9*$A24)) -> 4920.16 | ... BH24: =IF((BH$8+(BH$9*$A24))<BH$12,BH$12,BH$8+(BH$9*$A24)) -> 22202.16
A25: 9 | B25: =IF((B$8+(B$9*$A25))<B$12,B$12,B$8+(B$9*$A25)) -> 4009.89 | C25: =IF((C$8+(C$9*$A25))<C$12,C$12,C$8+(C$9*$A25)) -> 4133.22 | D25: =IF((D$8+(D$9*$A25))<D$12,D$12,D$8+(D$9*$A25)) -> 4256.64 | E25: =IF((E$8+(E$9*$A25))<E$12,E$12,E$8+(E$9*$A25)) -> 4380.15 | F25: =IF((F$8+(F$9*$A25))<F$12,F$12,F$8+(F$9*$A25)) -> 4515.75 | G25: =IF((G$8+(G$9*$A25))<G$12,G$12,G$8+(G$9*$A25)) -> 4651.44 | H25: =IF((H$8+(H$9*$A25))<H$12,H$12,H$8+(H$9*$A25)) -> 4787.22 | I25: =IF((I$8+(I$9*$A25))<I$12,I$12,I$8+(I$9*$A25)) -> 4935.18 | ... BH25: =IF((BH$8+(BH$9*$A25))<BH$12,BH$12,BH$8+(BH$9*$A25)) -> 22269.93
A26: 10 | B26: =IF((B$8+(B$9*$A26))<B$12,B$12,B$8+(B$9*$A26)) -> 4022.1 | C26: =IF((C$8+(C$9*$A26))<C$12,C$12,C$8+(C$9*$A26)) -> 4145.8 | D26: =IF((D$8+(D$9*$A26))<D$12,D$12,D$8+(D$9*$A26)) -> 4269.6 | E26: =IF((E$8+(E$9*$A26))<E$12,E$12,E$8+(E$9*$A26)) -> 4393.5 | F26: =IF((F$8+(F$9*$A26))<F$12,F$12,F$8+(F$9*$A26)) -> 4529.5 | G26: =IF((G$8+(G$9*$A26))<G$12,G$12,G$8+(G$9*$A26)) -> 4665.6 | H26: =IF((H$8+(H$9*$A26))<H$12,H$12,H$8+(H$9*$A26)) -> 4801.8 | I26: =IF((I$8+(I$9*$A26))<I$12,I$12,I$8+(I$9*$A26)) -> 4950.2 | ... BH26: =IF((BH$8+(BH$9*$A26))<BH$12,BH$12,BH$8+(BH$9*$A26)) -> 22337.7
A27: 11 | B27: =IF((B$8+(B$9*$A27))<B$12,B$12,B$8+(B$9*$A27)) -> 4034.31 | C27: =IF((C$8+(C$9*$A27))<C$12,C$12,C$8+(C$9*$A27)) -> 4158.38 | D27: =IF((D$8+(D$9*$A27))<D$12,D$12,D$8+(D$9*$A27)) -> 4282.56 | E27: =IF((E$8+(E$9*$A27))<E$12,E$12,E$8+(E$9*$A27)) -> 4406.85 | F27: =IF((F$8+(F$9*$A27))<F$12,F$12,F$8+(F$9*$A27)) -> 4543.25 | G27: =IF((G$8+(G$9*$A27))<G$12,G$12,G$8+(G$9*$A27)) -> 4679.76 | H27: =IF((H$8+(H$9*$A27))<H$12,H$12,H$8+(H$9*$A27)) -> 4816.38 | I27: =IF((I$8+(I$9*$A27))<I$12,I$12,I$8+(I$9*$A27)) -> 4965.22 | ... BH27: =IF((BH$8+(BH$9*$A27))<BH$12,BH$12,BH$8+(BH$9*$A27)) -> 22405.47
A28: 12 | B28: =IF((B$8+(B$9*$A28))<B$12,B$12,B$8+(B$9*$A28)) -> 4046.52 | C28: =IF((C$8+(C$9*$A28))<C$12,C$12,C$8+(C$9*$A28)) -> 4170.96 | D28: =IF((D$8+(D$9*$A28))<D$12,D$12,D$8+(D$9*$A28)) -> 4295.52 | E28: =IF((E$8+(E$9*$A28))<E$12,E$12,E$8+(E$9*$A28)) -> 4420.2 | F28: =IF((F$8+(F$9*$A28))<F$12,F$12,F$8+(F$9*$A28)) -> 4557 | G28: =IF((G$8+(G$9*$A28))<G$12,G$12,G$8+(G$9*$A28)) -> 4693.92 | H28: =IF((H$8+(H$9*$A28))<H$12,H$12,H$8+(H$9*$A28)) -> 4830.96 | I28: =IF((I$8+(I$9*$A28))<I$12,I$12,I$8+(I$9*$A28)) -> 4980.24 | ... BH28: =IF((BH$8+(BH$9*$A28))<BH$12,BH$12,BH$8+(BH$9*$A28)) -> 22473.24
... A616: 600 | B616: =IF((B$8+(B$9*$A616))<B$12,B$12,B$8+(B$9*$A616)) -> 11226 | C616: =IF((C$8+(C$9*$A616))<C$12,C$12,C$8+(C$9*$A616)) -> 11568 | D616: =IF((D$8+(D$9*$A616))<D$12,D$12,D$8+(D$9*$A616)) -> 11916 | E616: =IF((E$8+(E$9*$A616))<E$12,E$12,E$8+(E$9*$A616)) -> 12270 | F616: =IF((F$8+(F$9*$A616))<F$12,F$12,F$8+(F$9*$A616)) -> 12642 | G616: =IF((G$8+(G$9*$A616))<G$12,G$12,G$8+(G$9*$A616)) -> 13020 | H616: =IF((H$8+(H$9*$A616))<H$12,H$12,H$8+(H$9*$A616)) -> 13404 | I616: =IF((I$8+(I$9*$A616))<I$12,I$12,I$8+(I$9*$A616)) -> 13812 | ... BH616: =IF((BH$8+(BH$9*$A616))<BH$12,BH$12,BH$8+(BH$9*$A616)) -> 62322

Sheet Calculations
G1: 46023 | H1: =DATE(YEAR(G5),MONTH(G5),DAY(G5)+1) -> 46388 | I1: =DATE(YEAR(H5),MONTH(H5),DAY(H5)+1) -> 46753 | J1: =DATE(YEAR(I5),MONTH(I5),DAY(I5)+1) -> 47119 | K1: =DATE(YEAR(J5),MONTH(J5),DAY(J5)+1) -> 47484 | L1: =DATE(YEAR(K5),MONTH(K5),DAY(K5)+1) -> 47849 | M1: =CONCATENATE("Calculation - By Final Allocation Quarter ",YEAR(G1)) -> Calculation - By Final Allocation Quarter 2026 | R1: =CONCATENATE("Calculation - By Final Allocation Quarter ",YEAR(H1)) -> Calculation - By Final Allocation Quarter 2027 | W1: =CONCATENATE("Calculation - By Final Allocation Quarter ",YEAR(I1)) -> Calculation - By Final Allocation Quarter 2028 | AB1: =CONCATENATE("Calculation - By Final Allocation Quarter ",YEAR(J1)) -> Calculation - By Final Allocation Quarter 2029 | AG1: =CONCATENATE("Calculation - By Final Allocation Quarter ",YEAR(K1)) -> Calculation - By Final Allocation Quarter 2030 | AL1: =CONCATENATE("Calculation - By Final Allocation Quarter ",YEAR(L1)) -> Calculation - By Final Allocation Quarter 2031
G2: =EOMONTH(G1,2) -> 46112 | H2: =EOMONTH(H1,2) -> 46477 | I2: =EOMONTH(I1,2) -> 46843 | J2: =EOMONTH(J1,2) -> 47208 | K2: =EOMONTH(K1,2) -> 47573 | L2: =EOMONTH(L1,2) -> 47938
G3: =EOMONTH(G2,3) -> 46203 | H3: =EOMONTH(H2,3) -> 46568 | I3: =EOMONTH(I2,3) -> 46934 | J3: =EOMONTH(J2,3) -> 47299 | K3: =EOMONTH(K2,3) -> 47664 | L3: =EOMONTH(L2,3) -> 48029 | M3: 1st qtr | N3: 2nd qtr | O3: 3rd qtr | P3: 4th qtr | R3: 1st qtr | S3: 2nd qtr | T3: 3rd qtr | U3: 4th qtr | W3: 1st qtr | X3: 2nd qtr | Y3: 3rd qtr | Z3: 4th qtr | AB3: 1st qtr | AC3: 2nd qtr | AD3: 3rd qtr | AE3: 4th qtr | AG3: 1st qtr | AH3: 2nd qtr | AI3: 3rd qtr | AJ3: 4th qtr | AL3: 1st qtr | AM3: 2nd qtr | AN3: 3rd qtr | AO3: 4th qtr
G4: =EOMONTH(G3,3) -> 46295 | H4: =EOMONTH(H3,3) -> 46660 | I4: =EOMONTH(I3,3) -> 47026 | J4: =EOMONTH(J3,3) -> 47391 | K4: =EOMONTH(K3,3) -> 47756 | L4: =EOMONTH(L3,3) -> 48121 | M4: =IF(OR($K$24=0,$K$25=0),"",IF($G$9=1,NPV(Table!$B$10/4,INDEX($I:$I,$K$10):INDEX($I:$I,$K$11)),"")) | N4: =IF(OR($K$24=0,$K$25=0),"",IF($G$9=2,NPV(Table!$B$10/4,INDEX($I:$I,$K$10):INDEX($I:$I,$K$11)),"")) | O4: =IF(OR($K$24=0,$K$25=0),"",IF($G$9=3,NPV(Table!$B$10/4,INDEX($I:$I,$K$10):INDEX($I:$I,$K$11)),"")) | P4: =IF(OR($K$24=0,$K$25=0),"",IF($G$9=4,NPV(Table!$B$10/4,INDEX($I:$I,$K$10):INDEX($I:$I,$K$11)),"")) | R4: =IF(OR($K$24=0,$K$25=0),"",IF($G$10=1,NPV(Table!$B$10/4,INDEX($I:$I,$K$10):INDEX($I:$I,$K$11)),"")) | S4: =IF(OR($K$24=0,$K$25=0),"",IF($G$10=2,NPV(Table!$B$10/4,INDEX($I:$I,$K$10):INDEX($I:$I,$K$11)),"")) | T4: =IF(OR($K$24=0,$K$25=0),"",IF($G$10=3,NPV(Table!$B$10/4,INDEX($I:$I,$K$10):INDEX($I:$I,$K$11)),"")) | U4: =IF(OR($K$24=0,$K$25=0),"",IF($G$10=4,NPV(Table!$B$10/4,INDEX($I:$I,$K$10):INDEX($I:$I,$K$11)),"")) | W4: =IF(OR($K$24=0,$K$25=0),"",IF($G$11=1,NPV(Table!$B$10/4,INDEX($I:$I,$K$10):INDEX($I:$I,$K$11)),"")) | X4: =IF(OR($K$24=0,$K$25=0),"",IF($G$11=2,NPV(Table!$B$10/4,INDEX($I:$I,$K$10):INDEX($I:$I,$K$11)),"")) | Y4: =IF(OR($K$24=0,$K$25=0),"",IF($G$11=3,NPV(Table!$B$10/4,INDEX($I:$I,$K$10):INDEX($I:$I,$K$11)),"")) | Z4: =IF(OR($K$24=0,$K$25=0),"",IF($G$11=4,NPV(Table!$B$10/4,INDEX($I:$I,$K$10):INDEX($I:$I,$K$11)),"")) | AB4: =IF(OR($K$24=0,$K$25=0),"",IF($G$12=1,NPV(Table!$B$10/4,INDEX($I:$I,$K$10):INDEX($I:$I,$K$11)),"")) | AC4: =IF(OR($K$24=0,$K$25=0),"",IF($G$12=2,NPV(Table!$B$10/4,INDEX($I:$I,$K$10):INDEX($I:$I,$K$11)),"")) | AD4: =IF(OR($K$24=0,$K$25=0),"",IF($G$12=3,NPV(Table!$B$10/4,INDEX($I:$I,$K$10):INDEX($I:$I,$K$11)),"")) | AE4: =IF(OR($K$24=0,$K$25=0),"",IF($G$12=4,NPV(Table!$B$10/4,INDEX($I:$I,$K$10):INDEX($I:$I,$K$11)),"")) | AG4: =IF(OR($K$24=0,$K$25=0),"",IF($G$13=1,NPV(Table!$B$10/4,INDEX($I:$I,$K$10):INDEX($I:$I,$K$11)),"")) | AH4: =IF(OR($K$24=0,$K$25=0),"",IF($G$13=2,NPV(Table!$B$10/4,INDEX($I:$I,$K$10):INDEX($I:$I,$K$11)),"")) | AI4: =IF(OR($K$24=0,$K$25=0),"",IF($G$13=3,NPV(Table!$B$10/4,INDEX($I:$I,$K$10):INDEX($I:$I,$K$11)),"")) | AJ4: =IF(OR($K$24=0,$K$25=0),"",IF($G$13=4,NPV(Table!$B$10/4,INDEX($I:$I,$K$10):INDEX($I:$I,$K$11)),"")) | AL4: =IF(OR($K$24=0,$K$25=0),"",IF($G$13=1,NPV(Table!$B$10/4,INDEX($I:$I,$K$10):INDEX($I:$I,$K$11)),"")) | AM4: =IF(OR($K$24=0,$K$25=0),"",IF($G$13=2,NPV(Table!$B$10/4,INDEX($I:$I,$K$10):INDEX($I:$I,$K$11)),"")) | AN4: =IF(OR($K$24=0,$K$25=0),"",IF($G$13=3,NPV(Table!$B$10/4,INDEX($I:$I,$K$10):INDEX($I:$I,$K$11)),"")) | AO4: =IF(OR($K$24=0,$K$25=0),"",IF($G$13=4,NPV(Table!$B$10/4,INDEX($I:$I,$K$10):INDEX($I:$I,$K$11)),""))
G5: =EOMONTH(G4,3) -> 46387 | H5: =EOMONTH(H4,3) -> 46752 | I5: =EOMONTH(I4,3) -> 47118 | J5: =EOMONTH(J4,3) -> 47483 | K5: =EOMONTH(K4,3) -> 47848 | L5: =EOMONTH(L4,3) -> 48213
M6: Interim Calculation | S6: Calculation
E7: =NPV(0.02/4,I32:I215)+SUM(#REF!) -> #REF! | G7: =Form!A4 -> Updated: 3/2/2026 | M7: =Form!B9 -> 0 | N7: First Move-In Date | S7: =IF(M7>G32,0,SUMIF(G32:G267,"<"&K9,I32:I267)) -> 0 | T7: HC CM Fees not included in NPV Calc
G8: =IF(Form!B10<>"",YEAR(Form!B10),0) -> 0 | H8: Year of Final Allocation | K8: 32 | L8: # of Rows not in NPV | M8: =EOMONTH(M7,MOD(3-MONTH(M7),3)) -> 91 | N8: End of Quarter of First Move-in | S8: =SUM(M4:AJ4) -> 0 | T8: NPV of HC CM Fees
G9: =IF(Form!B10="","",IF(G8=YEAR(G1),IF(Form!B10<=Calculations!G2,1,IF(AND(Form!B10>Calculations!G2,Form!B10<=Calculations!G3),2,IF(AND(Form!B10>Calculations!G3,Form!B10<=Calculations!G4),3,IF(Form!B10>Calculations!G4,4,"")))),"")) | H9: =CONCATENATE(YEAR(G1)," Qtr of Final Allocation") -> 2026 Qtr of Final Allocation | K9: 46203 | L9: NPV Beginning Date | M9: =MONTH(M8)-MONTH(M7)+1 -> 3 | N9: # of Months in quarter of Move-In | S9: =-Form!B11 -> 0 | T9: Fees Collected at Preliminary Allocation
G10: =IF(Form!B10="","",IF(G8=YEAR(H1),IF(Form!B10<=Calculations!H2,1,IF(AND(Form!B10>Calculations!H2,Form!B10<=Calculations!H3),2,IF(AND(Form!B10>Calculations!H3,Form!B10<=Calculations!H4),3,IF(Form!B10>Calculations!H4,4,"")))),"")) | H10: =CONCATENATE(YEAR(H1)," Qtr of Final Allocation") -> 2027 Qtr of Final Allocation | K10: {=IF(INDEX(MATCH(1,--(I56:I291<>0),),)+K8<VLOOKUP(M8,Q32:R295,2),VLOOKUP(M8,Q32:R295,2),INDEX(MATCH(1,--(I56:I291<>0),),)+K8)} -> #N/A | L10: NPV Beginning Row | M10: =Form!B10 -> 0 | N10: Final PIS Date | S10: =SUM(S7:S9) -> 0 | T10: Net Fees Due
G11: =IF(Form!B10="","",IF(G8=YEAR(I1),IF(Form!B10<=Calculations!I2,1,IF(AND(Form!B10>Calculations!I2,Form!B10<=Calculations!I3),2,IF(AND(Form!B10>Calculations!I3,Form!B10<=Calculations!I4),3,IF(Form!B10>Calculations!I4,4,"")))),"")) | H11: =CONCATENATE(YEAR(I1)," Qtr of Final Allocation") -> 2028 Qtr of Final Allocation | K11: =IF(G33>=K9,COUNTIFS(G32:G267,"<="&M12,G32:G267,">="&K9)+K8,COUNTIFS(G32:G267,"<="&M12,G32:G267,">="&K9)+K10-1) -> 32 | L11: NPV Ending Row | M11: =DATE(YEAR(Form!B10)+Form!B8,MONTH(Form!B10),DAY(Form!B10)) -> 0 | N11: Last Day of EUA
G12: =IF(Form!B$10="","",IF(G$8=YEAR(J1),IF(Form!B$10<=Calculations!J2,1,IF(AND(Form!B$10>Calculations!J2,Form!B$10<=Calculations!J3),2,IF(AND(Form!B$10>Calculations!J3,Form!B$10<=Calculations!J4),3,IF(Form!B$10>Calculations!J4,4,"")))),"")) | H12: =CONCATENATE(YEAR(J1)," Qtr of Final Allocation") -> 2029 Qtr of Final Allocation | M12: =DATE(YEAR(M11),12,31) -> 366 | N12: Last Day of EUA using "NLT" Basis
G13: =IF(Form!B$10="","",IF(G$8=YEAR(K1),IF(Form!B$10<=Calculations!K2,1,IF(AND(Form!B$10>Calculations!K2,Form!B$10<=Calculations!K3),2,IF(AND(Form!B$10>Calculations!K3,Form!B$10<=Calculations!K4),3,IF(Form!B$10>Calculations!K4,4,"")))),"")) | H13: =CONCATENATE(YEAR(K1)," Qtr of Final Allocation") -> 2030 Qtr of Final Allocation
G14: =IF(Form!B$10="","",IF(G$8=YEAR(L1),IF(Form!B$10<=Calculations!L2,1,IF(AND(Form!B$10>Calculations!L2,Form!B$10<=Calculations!L3),2,IF(AND(Form!B$10>Calculations!L3,Form!B$10<=Calculations!L4),3,IF(Form!B$10>Calculations!L4,4,"")))),"")) | H14: =CONCATENATE(YEAR(L1)," Qtr of Final Allocation") -> 2031 Qtr of Final Allocation
G15: =IF(Form!B$10="","",IF(G$8=YEAR(G$1),IF(Form!B$10<=Calculations!G$2,1,IF(AND(Form!B$10>Calculations!G$2,Form!B$10<=Calculations!G$3),2,IF(AND(Form!B$10>Calculations!G$3,Form!B$10<=Calculations!G$4),3,IF(Form!B$10>Calculations!G$4,4,"")))),""))
G16: =IF(Form!B$10="","",IF(G$8=YEAR(H$1),IF(Form!B$10<=Calculations!H$2,1,IF(AND(Form!B$10>Calculations!H$2,Form!B$10<=Calculations!H$3),2,IF(AND(Form!B$10>Calculations!H$3,Form!B$10<=Calculations!H$4),3,IF(Form!B$10>Calculations!H$4,4,"")))),""))
G17: =IF(Form!B$10="","",IF(G$8=YEAR(I$1),IF(Form!B$10<=Calculations!I$2,1,IF(AND(Form!B$10>Calculations!I$2,Form!B$10<=Calculations!I$3),2,IF(AND(Form!B$10>Calculations!I$3,Form!B$10<=Calculations!I$4),3,IF(Form!B$10>Calculations!I$4,4,"")))),""))
G19: =IF(Form!B10="","",IF(G8=YEAR(G1),MONTH(Form!B10),"")) | H19: =CONCATENATE(YEAR(G1)," Month of Final Allocation") -> 2026 Month of Final Allocation
G20: =IF(Form!B10="","",IF(G8=YEAR(H1),MONTH(Form!B10),"")) | H20: =CONCATENATE(YEAR(H1)," Month of Final Allocation") -> 2027 Month of Final Allocation
G21: =IF(Form!B10="","",IF(G8=YEAR(I1),MONTH(Form!B10),"")) | H21: =CONCATENATE(YEAR(I1)," Month of Final Allocation") -> 2028 Month of Final Allocation
G22: =IF(Form!B$10="","",IF(G$8=YEAR(J1),MONTH(Form!B$10),"")) | H22: =CONCATENATE(YEAR(J1)," Month of Final Allocation") -> 2029 Month of Final Allocation
G23: =IF(Form!B$10="","",IF(G$8=YEAR(K1),MONTH(Form!B$10),"")) | H23: =CONCATENATE(YEAR(K1)," Month of Final Allocation") -> 2030 Month of Final Allocation
G24: =IF(Form!B$10="","",IF(G$8=YEAR(L1),MONTH(Form!B$10),"")) | H24: =CONCATENATE(YEAR(L1)," Month of Final Allocation") -> 2031 Month of Final Allocation | K24: =Form!B8 -> 0 | L24: years
G25: =IF(Form!B$10="","",IF(G$8=YEAR(G$1),MONTH(Form!B$10),"")) | K25: =K24*4 -> 0 | L25: # payments
G26: =IF(Form!B$10="","",IF(G$8=YEAR(H$1),MONTH(Form!B$10),""))
G27: =IF(Form!B$10="","",IF(G$8=YEAR(I$1),MONTH(Form!B$10),""))
K29: Need to be updated when the NPV quarter changes
A31: G Year = M12 year? | B31: First Move in <G | C31: G in same qtr as first move in | D31: H Qtr | E31: Same | F31: F<=last day of EUA | G31: Payment Qtr | I31: Payment
A32: =IF(YEAR(G32)=YEAR($M$12),"YES","NO") -> NO | B32: =IF(Form!$B$9<=Calculations!G32,"YES","NO") -> YES | C32: =IF(AND(A32="YES",B32="YES"),IF(Form!$B$9<=Calculations!$H$2,1,IF(Form!$B$9<=Calculations!$H$2,2,IF(Form!$B$9<=Calculations!$H$2,3,IF(Form!$B$9<=Calculations!$H$2,4,0))))) -> FALSE | D32: =IF(AND(A32="YES",B32="YES"),IF(G32<=$H$2,1,IF(G32<=$H$3,2,IF(G32<=$H$4,3,IF(G32<=$H$5,4,0))))) -> FALSE | E32: =IF(AND(C32<>0,C32=D32),"YES","NO") -> YES | F32: =IF(G32<=$M$12,"YES","NO") -> NO | G32: 46112 | H32: =IFERROR(VLOOKUP(Form!$B$7,Table!$A$14:$BH$616,MATCH(VALUE(YEAR(G32)),Table!$A$14:$BH$14,0),FALSE)/4,0) -> 0 | I32: =IF(G32<Form!$B$9,0,IF(AND(G32=$M$8,$M$9=1),H32/90*(30-DAY(Form!$B$9)+1),IF(AND(G32=$M$8,$M$9=2),H32/90*(60-DAY(Form!$B$9)+1),IF(AND(G32=$M$8,$M$9=3),H32/90*(90-DAY(Form!$B$9)+1),H32)))) -> 0 | Q32: 46112 | R32: 32
A33: =IF(YEAR(G33)=YEAR($M$12),"YES","NO") -> NO | B33: =IF(Form!$B$9<=Calculations!G33,"YES","NO") -> YES | C33: =IF(AND(A33="YES",B33="YES"),IF(Form!$B$9<=Calculations!$H$2,1,IF(Form!$B$9<=Calculations!$H$2,2,IF(Form!$B$9<=Calculations!$H$2,3,IF(Form!$B$9<=Calculations!$H$2,4,0))))) -> FALSE | D33: =IF(AND(A33="YES",B33="YES"),IF(G33<=$H$2,1,IF(G33<=$H$3,2,IF(G33<=$H$4,3,IF(G33<=$H$5,4,0))))) -> FALSE | E33: =IF(AND(C33<>0,C33=D33),"YES","NO") -> YES | F33: =IF(G33<=$M$12,"YES","NO") -> NO | G33: 46203 | H33: =IFERROR(VLOOKUP(Form!$B$7,Table!$A$14:$BH$616,MATCH(VALUE(YEAR(G33)),Table!$A$14:$BH$14,0),FALSE)/4,0) -> 0 | I33: =IF(OR(AND(A33="NO",F33="YES"),AND(E33="NO",F33="YES",G33<=$M$12)),H33,IF((MONTH(G33)-MONTH(Form!$B$9))=0,Calculations!H33/90*(30-DAY(Form!$B$9)+1),IF((MONTH(G33)-MONTH(Form!$B$9))=1,Calculations!H33/90*(60-DAY(Form!$B$9)+1),IF((MONTH(G33)-MONTH(Form!$B$9))=2,Calculations!H33/90*(90-DAY(Form!$B$9)+1),0)))) -> 0 | Q33: 46203 | R33: 33
A34: =IF(YEAR(G34)=YEAR($M$12),"YES","NO") -> NO | B34: =IF(Form!$B$9<=Calculations!G34,"YES","NO") -> YES | C34: =IF(AND(A34="YES",B34="YES"),IF(Form!$B$9<=Calculations!$H$2,1,IF(Form!$B$9<=Calculations!$H$2,2,IF(Form!$B$9<=Calculations!$H$2,3,IF(Form!$B$9<=Calculations!$H$2,4,0))))) -> FALSE | D34: =IF(AND(A34="YES",B34="YES"),IF(G34<=$H$2,1,IF(G34<=$H$3,2,IF(G34<=$H$4,3,IF(G34<=$H$5,4,0))))) -> FALSE | E34: =IF(AND(C34<>0,C34=D34),"YES","NO") -> YES | F34: =IF(G34<=$M$12,"YES","NO") -> NO | G34: 46295 | H34: =IFERROR(VLOOKUP(Form!$B$7,Table!$A$14:$BH$616,MATCH(VALUE(YEAR(G34)),Table!$A$14:$BH$14,0),FALSE)/4,0) -> 0 | I34: =IF(OR(AND(A34="NO",F34="YES"),AND(E34="NO",F34="YES",G34<=$M$12)),H34,IF((MONTH(G34)-MONTH(Form!$B$9))=0,Calculations!H34/90*(30-DAY(Form!$B$9)+1),IF((MONTH(G34)-MONTH(Form!$B$9))=1,Calculations!H34/90*(60-DAY(Form!$B$9)+1),IF((MONTH(G34)-MONTH(Form!$B$9))=2,Calculations!H34/90*(90-DAY(Form!$B$9)+1),0)))) -> 0 | Q34: 46295 | R34: 34
A35: =IF(YEAR(G35)=YEAR($M$12),"YES","NO") -> NO | B35: =IF(Form!$B$9<=Calculations!G35,"YES","NO") -> YES | C35: =IF(AND(A35="YES",B35="YES"),IF(Form!$B$9<=Calculations!$H$2,1,IF(Form!$B$9<=Calculations!$H$2,2,IF(Form!$B$9<=Calculations!$H$2,3,IF(Form!$B$9<=Calculations!$H$2,4,0))))) -> FALSE | D35: =IF(AND(A35="YES",B35="YES"),IF(G35<=$H$2,1,IF(G35<=$H$3,2,IF(G35<=$H$4,3,IF(G35<=$H$5,4,0))))) -> FALSE | E35: =IF(AND(C35<>0,C35=D35),"YES","NO") -> YES | F35: =IF(G35<=$M$12,"YES","NO") -> NO | G35: 46387 | H35: =IFERROR(VLOOKUP(Form!$B$7,Table!$A$14:$BH$616,MATCH(VALUE(YEAR(G35)),Table!$A$14:$BH$14,0),FALSE)/4,0) -> 0 | I35: =IF(OR(AND(A35="NO",F35="YES"),AND(E35="NO",F35="YES",G35<=$M$12)),H35,IF((MONTH(G35)-MONTH(Form!$B$9))=0,Calculations!H35/90*(30-DAY(Form!$B$9)+1),IF((MONTH(G35)-MONTH(Form!$B$9))=1,Calculations!H35/90*(60-DAY(Form!$B$9)+1),IF((MONTH(G35)-MONTH(Form!$B$9))=2,Calculations!H35/90*(90-DAY(Form!$B$9)+1),0)))) -> 0 | Q35: 46387 | R35: 35
A36: =IF(YEAR(G36)=YEAR($M$12),"YES","NO") -> NO | B36: =IF(Form!$B$9<=Calculations!G36,"YES","NO") -> YES | C36: =IF(AND(A36="YES",B36="YES"),IF(Form!$B$9<=Calculations!$H$2,1,IF(Form!$B$9<=Calculations!$H$2,2,IF(Form!$B$9<=Calculations!$H$2,3,IF(Form!$B$9<=Calculations!$H$2,4,0))))) -> FALSE | D36: =IF(AND(A36="YES",B36="YES"),IF(G36<=$H$2,1,IF(G36<=$H$3,2,IF(G36<=$H$4,3,IF(G36<=$H$5,4,0))))) -> FALSE | E36: =IF(AND(C36<>0,C36=D36),"YES","NO") -> YES | F36: =IF(G36<=$M$12,"YES","NO") -> NO | G36: 46477 | H36: =IFERROR(VLOOKUP(Form!$B$7,Table!$A$14:$BH$616,MATCH(VALUE(YEAR(G36)),Table!$A$14:$BH$14,0),FALSE)/4,0) -> 0 | I36: =IF(OR(AND(A36="NO",F36="YES"),AND(E36="NO",F36="YES",G36<=$M$12)),H36,IF((MONTH(G36)-MONTH(Form!$B$9))=0,Calculations!H36/90*(30-DAY(Form!$B$9)+1),IF((MONTH(G36)-MONTH(Form!$B$9))=1,Calculations!H36/90*(60-DAY(Form!$B$9)+1),IF((MONTH(G36)-MONTH(Form!$B$9))=2,Calculations!H36/90*(90-DAY(Form!$B$9)+1),0)))) -> 0 | Q36: 46477 | R36: 36
A37: =IF(YEAR(G37)=YEAR($M$12),"YES","NO") -> NO | B37: =IF(Form!$B$9<=Calculations!G37,"YES","NO") -> YES | C37: =IF(AND(A37="YES",B37="YES"),IF(Form!$B$9<=Calculations!$H$2,1,IF(Form!$B$9<=Calculations!$H$2,2,IF(Form!$B$9<=Calculations!$H$2,3,IF(Form!$B$9<=Calculations!$H$2,4,0))))) -> FALSE | D37: =IF(AND(A37="YES",B37="YES"),IF(G37<=$H$2,1,IF(G37<=$H$3,2,IF(G37<=$H$4,3,IF(G37<=$H$5,4,0))))) -> FALSE | E37: =IF(AND(C37<>0,C37=D37),"YES","NO") -> YES | F37: =IF(G37<=$M$12,"YES","NO") -> NO | G37: 46568 | H37: =IFERROR(VLOOKUP(Form!$B$7,Table!$A$14:$BH$616,MATCH(VALUE(YEAR(G37)),Table!$A$14:$BH$14,0),FALSE)/4,0) -> 0 | I37: =IF(OR(AND(A37="NO",F37="YES"),AND(E37="NO",F37="YES",G37<=$M$12)),H37,IF((MONTH(G37)-MONTH(Form!$B$9))=0,Calculations!H37/90*(30-DAY(Form!$B$9)+1),IF((MONTH(G37)-MONTH(Form!$B$9))=1,Calculations!H37/90*(60-DAY(Form!$B$9)+1),IF((MONTH(G37)-MONTH(Form!$B$9))=2,Calculations!H37/90*(90-DAY(Form!$B$9)+1),0)))) -> 0 | Q37: 46568 | R37: 37
A38: =IF(YEAR(G38)=YEAR($M$12),"YES","NO") -> NO | B38: =IF(Form!$B$9<=Calculations!G38,"YES","NO") -> YES | C38: =IF(AND(A38="YES",B38="YES"),IF(Form!$B$9<=Calculations!$H$2,1,IF(Form!$B$9<=Calculations!$H$2,2,IF(Form!$B$9<=Calculations!$H$2,3,IF(Form!$B$9<=Calculations!$H$2,4,0))))) -> FALSE | D38: =IF(AND(A38="YES",B38="YES"),IF(G38<=$H$2,1,IF(G38<=$H$3,2,IF(G38<=$H$4,3,IF(G38<=$H$5,4,0))))) -> FALSE | E38: =IF(AND(C38<>0,C38=D38),"YES","NO") -> YES | F38: =IF(G38<=$M$12,"YES","NO") -> NO | G38: 46660 | H38: =IFERROR(VLOOKUP(Form!$B$7,Table!$A$14:$BH$616,MATCH(VALUE(YEAR(G38)),Table!$A$14:$BH$14,0),FALSE)/4,0) -> 0 | I38: =IF(OR(AND(A38="NO",F38="YES"),AND(E38="NO",F38="YES",G38<=$M$12)),H38,IF((MONTH(G38)-MONTH(Form!$B$9))=0,Calculations!H38/90*(30-DAY(Form!$B$9)+1),IF((MONTH(G38)-MONTH(Form!$B$9))=1,Calculations!H38/90*(60-DAY(Form!$B$9)+1),IF((MONTH(G38)-MONTH(Form!$B$9))=2,Calculations!H38/90*(90-DAY(Form!$B$9)+1),0)))) -> 0 | Q38: 46660 | R38: 38
A39: =IF(YEAR(G39)=YEAR($M$12),"YES","NO") -> NO | B39: =IF(Form!$B$9<=Calculations!G39,"YES","NO") -> YES | C39: =IF(AND(A39="YES",B39="YES"),IF(Form!$B$9<=Calculations!$H$2,1,IF(Form!$B$9<=Calculations!$H$2,2,IF(Form!$B$9<=Calculations!$H$2,3,IF(Form!$B$9<=Calculations!$H$2,4,0))))) -> FALSE | D39: =IF(AND(A39="YES",B39="YES"),IF(G39<=$H$2,1,IF(G39<=$H$3,2,IF(G39<=$H$4,3,IF(G39<=$H$5,4,0))))) -> FALSE | E39: =IF(AND(C39<>0,C39=D39),"YES","NO") -> YES | F39: =IF(G39<=$M$12,"YES","NO") -> NO | G39: 46752 | H39: =IFERROR(VLOOKUP(Form!$B$7,Table!$A$14:$BH$616,MATCH(VALUE(YEAR(G39)),Table!$A$14:$BH$14,0),FALSE)/4,0) -> 0 | I39: =IF(OR(AND(A39="NO",F39="YES"),AND(E39="NO",F39="YES",G39<=$M$12)),H39,IF((MONTH(G39)-MONTH(Form!$B$9))=0,Calculations!H39/90*(30-DAY(Form!$B$9)+1),IF((MONTH(G39)-MONTH(Form!$B$9))=1,Calculations!H39/90*(60-DAY(Form!$B$9)+1),IF((MONTH(G39)-MONTH(Form!$B$9))=2,Calculations!H39/90*(90-DAY(Form!$B$9)+1),0)))) -> 0 | Q39: 46752 | R39: 39
A40: =IF(YEAR(G40)=YEAR($M$12),"YES","NO") -> NO | B40: =IF(Form!$B$9<=Calculations!G40,"YES","NO") -> YES | C40: =IF(AND(A40="YES",B40="YES"),IF(Form!$B$9<=Calculations!$H$2,1,IF(Form!$B$9<=Calculations!$H$2,2,IF(Form!$B$9<=Calculations!$H$2,3,IF(Form!$B$9<=Calculations!$H$2,4,0))))) -> FALSE | D40: =IF(AND(A40="YES",B40="YES"),IF(G40<=$H$2,1,IF(G40<=$H$3,2,IF(G40<=$H$4,3,IF(G40<=$H$5,4,0))))) -> FALSE | E40: =IF(AND(C40<>0,C40=D40),"YES","NO") -> YES | F40: =IF(G40<=$M$12,"YES","NO") -> NO | G40: 46843 | H40: =IFERROR(VLOOKUP(Form!$B$7,Table!$A$14:$BH$616,MATCH(VALUE(YEAR(G40)),Table!$A$14:$BH$14,0),FALSE)/4,0) -> 0 | I40: =IF(OR(AND(A40="NO",F40="YES"),AND(E40="NO",F40="YES",G40<=$M$12)),H40,IF((MONTH(G40)-MONTH(Form!$B$9))=0,Calculations!H40/90*(30-DAY(Form!$B$9)+1),IF((MONTH(G40)-MONTH(Form!$B$9))=1,Calculations!H40/90*(60-DAY(Form!$B$9)+1),IF((MONTH(G40)-MONTH(Form!$B$9))=2,Calculations!H40/90*(90-DAY(Form!$B$9)+1),0)))) -> 0 | Q40: 46843 | R40: 40
A41: =IF(YEAR(G41)=YEAR($M$12),"YES","NO") -> NO | B41: =IF(Form!$B$9<=Calculations!G41,"YES","NO") -> YES | C41: =IF(AND(A41="YES",B41="YES"),IF(Form!$B$9<=Calculations!$H$2,1,IF(Form!$B$9<=Calculations!$H$2,2,IF(Form!$B$9<=Calculations!$H$2,3,IF(Form!$B$9<=Calculations!$H$2,4,0))))) -> FALSE | D41: =IF(AND(A41="YES",B41="YES"),IF(G41<=$H$2,1,IF(G41<=$H$3,2,IF(G41<=$H$4,3,IF(G41<=$H$5,4,0))))) -> FALSE | E41: =IF(AND(C41<>0,C41=D41),"YES","NO") -> YES | F41: =IF(G41<=$M$12,"YES","NO") -> NO | G41: 46934 | H41: =IFERROR(VLOOKUP(Form!$B$7,Table!$A$14:$BH$616,MATCH(VALUE(YEAR(G41)),Table!$A$14:$BH$14,0),FALSE)/4,0) -> 0 | I41: =IF(OR(AND(A41="NO",F41="YES"),AND(E41="NO",F41="YES",G41<=$M$12)),H41,IF((MONTH(G41)-MONTH(Form!$B$9))=0,Calculations!H41/90*(30-DAY(Form!$B$9)+1),IF((MONTH(G41)-MONTH(Form!$B$9))=1,Calculations!H41/90*(60-DAY(Form!$B$9)+1),IF((MONTH(G41)-MONTH(Form!$B$9))=2,Calculations!H41/90*(90-DAY(Form!$B$9)+1),0)))) -> 0 | Q41: 46934 | R41: 41
A42: =IF(YEAR(G42)=YEAR($M$12),"YES","NO") -> NO | B42: =IF(Form!$B$9<=Calculations!G42,"YES","NO") -> YES | C42: =IF(AND(A42="YES",B42="YES"),IF(Form!$B$9<=Calculations!$H$2,1,IF(Form!$B$9<=Calculations!$H$2,2,IF(Form!$B$9<=Calculations!$H$2,3,IF(Form!$B$9<=Calculations!$H$2,4,0))))) -> FALSE | D42: =IF(AND(A42="YES",B42="YES"),IF(G42<=$H$2,1,IF(G42<=$H$3,2,IF(G42<=$H$4,3,IF(G42<=$H$5,4,0))))) -> FALSE | E42: =IF(AND(C42<>0,C42=D42),"YES","NO") -> YES | F42: =IF(G42<=$M$12,"YES","NO") -> NO | G42: 47026 | H42: =IFERROR(VLOOKUP(Form!$B$7,Table!$A$14:$BH$616,MATCH(VALUE(YEAR(G42)),Table!$A$14:$BH$14,0),FALSE)/4,0) -> 0 | I42: =IF(OR(AND(A42="NO",F42="YES"),AND(E42="NO",F42="YES",G42<=$M$12)),H42,IF((MONTH(G42)-MONTH(Form!$B$9))=0,Calculations!H42/90*(30-DAY(Form!$B$9)+1),IF((MONTH(G42)-MONTH(Form!$B$9))=1,Calculations!H42/90*(60-DAY(Form!$B$9)+1),IF((MONTH(G42)-MONTH(Form!$B$9))=2,Calculations!H42/90*(90-DAY(Form!$B$9)+1),0)))) -> 0 | Q42: 47026 | R42: 42
A43: =IF(YEAR(G43)=YEAR($M$12),"YES","NO") -> NO | B43: =IF(Form!$B$9<=Calculations!G43,"YES","NO") -> YES | C43: =IF(AND(A43="YES",B43="YES"),IF(Form!$B$9<=Calculations!$H$2,1,IF(Form!$B$9<=Calculations!$H$2,2,IF(Form!$B$9<=Calculations!$H$2,3,IF(Form!$B$9<=Calculations!$H$2,4,0))))) -> FALSE | D43: =IF(AND(A43="YES",B43="YES"),IF(G43<=$H$2,1,IF(G43<=$H$3,2,IF(G43<=$H$4,3,IF(G43<=$H$5,4,0))))) -> FALSE | E43: =IF(AND(C43<>0,C43=D43),"YES","NO") -> YES | F43: =IF(G43<=$M$12,"YES","NO") -> NO | G43: 47118 | H43: =IFERROR(VLOOKUP(Form!$B$7,Table!$A$14:$BH$616,MATCH(VALUE(YEAR(G43)),Table!$A$14:$BH$14,0),FALSE)/4,0) -> 0 | I43: =IF(OR(AND(A43="NO",F43="YES"),AND(E43="NO",F43="YES",G43<=$M$12)),H43,IF((MONTH(G43)-MONTH(Form!$B$9))=0,Calculations!H43/90*(30-DAY(Form!$B$9)+1),IF((MONTH(G43)-MONTH(Form!$B$9))=1,Calculations!H43/90*(60-DAY(Form!$B$9)+1),IF((MONTH(G43)-MONTH(Form!$B$9))=2,Calculations!H43/90*(90-DAY(Form!$B$9)+1),0)))) -> 0 | Q43: 47118 | R43: 43
...
