Workbook
Name AddOns: Data!$P$3:$DZ$5
Name AddOns2: Data!$P$7:$DZ$9
Name AppDue: Data!$C$44:$M$61
Name Base01: Data!$P$38:$DZ$45
Name Counties: Data!$A$13:$A$80
Name Descriptions: Data!$C$64:$M$81
Name EscalationFactor: Data!$P$47:$DZ$54
Name Identify: RFA!$C$15:$G$32
Name Max_Acq_DF_Bond_w_AR_Units: CUR!$D$124
Name Max_DF_Bond_w_AR_Units: CUR!$D$127
Name MultiplierNames: Data!$P$11:$DZ$18
Name MultiplierNumbers: Data!$P$20:$DZ$27
Name RFAs: Data!$C$3:$M$20
Name SoftCostMultiplier: Data!$P$56:$DZ$63
Name TDC_Table: RFA!$A$51:$H$57
Name Types: Data!$P$29:$DZ$36
Name Year: RFA!$D$9
Name Years: Data!$A$3:$A$8
Name YesNo: Data!$A$82:$A$84

Sheet RFA
A1: TOTAL DEVELOPMENT COST LIMITATION TEST TEMPLATE - Version 09-30-2026
A2: (This TDC Template applies to all RFA's beginning with the 2023/2024 RFA Cycle)
B4: Identify the Development
C5: Application #
C6: Name
C7: County | D7: <select from menu> | F7: =IF(D7="","STOP: Please select a County","")
B9: What year was the RFA issued? | D9: <select from menu>
B11: Questions below will ask to identify certain criteria. This can be done by entering a "1" in the cell to the left of the appropriate criteria.
B13: ="Identify which"&IF(N(D9)>2012," "&D9,"")&" RFA under which the Development was funded." -> Identify which RFA under which the Development was funded.
D14: RFA | E14: RFA Cycle | F14: Application Deadline | H14: RFA Description
D15: =IFERROR(IF(Year=Data!A$3," ",CHOOSE(Year-2022,Data!M3,Data!L3,Data!K3,Data!J3,Data!I3,Data!H3,Data!G3,Data!F3,Data!E3,Data!D3,Data!C3)),"") | E15: =IFERROR(IF(Year=Data!A$3," ",CHOOSE(Year-2022,Data!M24,Data!L24,Data!K24,Data!J24,Data!I24,Data!H24,Data!G24,Data!F24,Data!E24,Data!D24,Data!C24)),"") | F15: =IFERROR(IF(Year=Data!A$3," ",CHOOSE(Year-2022,Data!M44,Data!L44,Data!K44,Data!J44,Data!I44,Data!H44,Data!G44,Data!F44,Data!E44,Data!D44,Data!C44)),"") | H15: =IFERROR(IF(Year=Data!A$3," ",CHOOSE(Year-2022,Data!M64,Data!L64,Data!K64,Data!J64,Data!I64,Data!H64,Data!G64,Data!F64,Data!E64,Data!D64,Data!C64)),"") | U15: =IF(COUNTIF(D15,"*TDC*"),"Yes","No") -> No
D16: =IFERROR(IF(Year=Data!A$3," ",CHOOSE(Year-2022,Data!M4,Data!L4,Data!K4,Data!J4,Data!I4,Data!H4,Data!G4,Data!F4,Data!E4,Data!D4,Data!C4)),"") | E16: =IFERROR(IF(Year=Data!A$3," ",CHOOSE(Year-2022,Data!M25,Data!L25,Data!K25,Data!J25,Data!I25,Data!H25,Data!G25,Data!F25,Data!E25,Data!D25,Data!C25)),"") | F16: =IFERROR(IF(Year=Data!A$3," ",CHOOSE(Year-2022,Data!M45,Data!L45,Data!K45,Data!J45,Data!I45,Data!H45,Data!G45,Data!F45,Data!E45,Data!D45,Data!C45)),"") | H16: =IFERROR(IF(Year=Data!A$3," ",CHOOSE(Year-2022,Data!M65,Data!L65,Data!K65,Data!J65,Data!I65,Data!H65,Data!G65,Data!F65,Data!E65,Data!D65,Data!C65)),"") | U16: =IF(COUNTIF(D16,"*TDC*"),"Yes","No") -> No
D17: =IFERROR(IF(Year=Data!A$3," ",CHOOSE(Year-2022,Data!M5,Data!L5,Data!K5,Data!J5,Data!I5,Data!H5,Data!G5,Data!F5,Data!E5,Data!D5,Data!C5)),"") | E17: =IFERROR(IF(Year=Data!A$3," ",CHOOSE(Year-2022,Data!M26,Data!L26,Data!K26,Data!J26,Data!I26,Data!H26,Data!G26,Data!F26,Data!E26,Data!D26,Data!C26)),"") | F17: =IFERROR(IF(Year=Data!A$3," ",CHOOSE(Year-2022,Data!M46,Data!L46,Data!K46,Data!J46,Data!I46,Data!H46,Data!G46,Data!F46,Data!E46,Data!D46,Data!C46)),"") | H17: =IFERROR(IF(Year=Data!A$3," ",CHOOSE(Year-2022,Data!M66,Data!L66,Data!K66,Data!J66,Data!I66,Data!H66,Data!G66,Data!F66,Data!E66,Data!D66,Data!C66)),"") | U17: =IF(COUNTIF(D17,"*TDC*"),"Yes","No") -> No
D18: =IFERROR(IF(Year=Data!A$3," ",CHOOSE(Year-2022,Data!M6,Data!L6,Data!K6,Data!J6,Data!I6,Data!H6,Data!G6,Data!F6,Data!E6,Data!D6,Data!C6)),"") | E18: =IFERROR(IF(Year=Data!A$3," ",CHOOSE(Year-2022,Data!M27,Data!L27,Data!K27,Data!J27,Data!I27,Data!H27,Data!G27,Data!F27,Data!E27,Data!D27,Data!C27)),"") | F18: =IFERROR(IF(Year=Data!A$3," ",CHOOSE(Year-2022,Data!M47,Data!L47,Data!K47,Data!J47,Data!I47,Data!H47,Data!G47,Data!F47,Data!E47,Data!D47,Data!C47)),"") | H18: =IFERROR(IF(Year=Data!A$3," ",CHOOSE(Year-2022,Data!M67,Data!L67,Data!K67,Data!J67,Data!I67,Data!H67,Data!G67,Data!F67,Data!E67,Data!D67,Data!C67)),"") | U18: =IF(COUNTIF(D18,"*TDC*"),"Yes","No") -> No
D19: =IFERROR(IF(Year=Data!A$3," ",CHOOSE(Year-2022,Data!M7,Data!L7,Data!K7,Data!J7,Data!I7,Data!H7,Data!G7,Data!F7,Data!E7,Data!D7,Data!C7)),"") | E19: =IFERROR(IF(Year=Data!A$3," ",CHOOSE(Year-2022,Data!M28,Data!L28,Data!K28,Data!J28,Data!I28,Data!H28,Data!G28,Data!F28,Data!E28,Data!D28,Data!C28)),"") | F19: =IFERROR(IF(Year=Data!A$3," ",CHOOSE(Year-2022,Data!M48,Data!L48,Data!K48,Data!J48,Data!I48,Data!H48,Data!G48,Data!F48,Data!E48,Data!D48,Data!C48)),"") | H19: =IFERROR(IF(Year=Data!A$3," ",CHOOSE(Year-2022,Data!M68,Data!L68,Data!K68,Data!J68,Data!I68,Data!H68,Data!G68,Data!F68,Data!E68,Data!D68,Data!C68)),"") | U19: =IF(COUNTIF(D19,"*TDC*"),"Yes","No") -> No
D20: =IFERROR(IF(Year=Data!A$3," ",CHOOSE(Year-2022,Data!M8,Data!L8,Data!K8,Data!J8,Data!I8,Data!H8,Data!G8,Data!F8,Data!E8,Data!D8,Data!C8)),"") | E20: =IFERROR(IF(Year=Data!A$3," ",CHOOSE(Year-2022,Data!M29,Data!L29,Data!K29,Data!J29,Data!I29,Data!H29,Data!G29,Data!F29,Data!E29,Data!D29,Data!C29)),"") | F20: =IFERROR(IF(Year=Data!A$3," ",CHOOSE(Year-2022,Data!M49,Data!L49,Data!K49,Data!J49,Data!I49,Data!H49,Data!G49,Data!F49,Data!E49,Data!D49,Data!C49)),"") | H20: =IFERROR(IF(Year=Data!A$3," ",CHOOSE(Year-2022,Data!M69,Data!L69,Data!K69,Data!J69,Data!I69,Data!H69,Data!G69,Data!F69,Data!E69,Data!D69,Data!C69)),"") | U20: =IF(COUNTIF(D20,"*TDC*"),"Yes","No") -> No
D21: =IFERROR(IF(Year=Data!A$3," ",CHOOSE(Year-2022,Data!M9,Data!L9,Data!K9,Data!J9,Data!I9,Data!H9,Data!G9,Data!F9,Data!E9,Data!D9,Data!C9)),"") | E21: =IFERROR(IF(Year=Data!A$3," ",CHOOSE(Year-2022,Data!M30,Data!L30,Data!K30,Data!J30,Data!I30,Data!H30,Data!G30,Data!F30,Data!E30,Data!D30,Data!C30)),"") | F21: =IFERROR(IF(Year=Data!A$3," ",CHOOSE(Year-2022,Data!M50,Data!L50,Data!K50,Data!J50,Data!I50,Data!H50,Data!G50,Data!F50,Data!E50,Data!D50,Data!C50)),"") | H21: =IFERROR(IF(Year=Data!A$3," ",CHOOSE(Year-2022,Data!M70,Data!L70,Data!K70,Data!J70,Data!I70,Data!H70,Data!G70,Data!F70,Data!E70,Data!D70,Data!C70)),"") | U21: =IF(COUNTIF(D21,"*TDC*"),"Yes","No") -> No
D22: =IFERROR(IF(Year=Data!A$3," ",CHOOSE(Year-2022,Data!M10,Data!L10,Data!K10,Data!J10,Data!I10,Data!H10,Data!G10,Data!F10,Data!E10,Data!D10,Data!C10)),"") | E22: =IFERROR(IF(Year=Data!A$3," ",CHOOSE(Year-2022,Data!M31,Data!L31,Data!K31,Data!J31,Data!I31,Data!H31,Data!G31,Data!F31,Data!E31,Data!D31,Data!C31)),"") | F22: =IFERROR(IF(Year=Data!A$3," ",CHOOSE(Year-2022,Data!M51,Data!L51,Data!K51,Data!J51,Data!I51,Data!H51,Data!G51,Data!F51,Data!E51,Data!D51,Data!C51)),"") | H22: =IFERROR(IF(Year=Data!A$3," ",CHOOSE(Year-2022,Data!M71,Data!L71,Data!K71,Data!J71,Data!I71,Data!H71,Data!G71,Data!F71,Data!E71,Data!D71,Data!C71)),"") | U22: =IF(COUNTIF(D22,"*TDC*"),"Yes","No") -> No
D23: =IFERROR(IF(Year=Data!A$3," ",CHOOSE(Year-2022,Data!M11,Data!L11,Data!K11,Data!J11,Data!I11,Data!H11,Data!G11,Data!F11,Data!E11,Data!D11,Data!C11)),"") | E23: =IFERROR(IF(Year=Data!A$3," ",CHOOSE(Year-2022,Data!M32,Data!L32,Data!K32,Data!J32,Data!I32,Data!H32,Data!G32,Data!F32,Data!E32,Data!D32,Data!C32)),"") | F23: =IFERROR(IF(Year=Data!A$3," ",CHOOSE(Year-2022,Data!M52,Data!L52,Data!K52,Data!J52,Data!I52,Data!H52,Data!G52,Data!F52,Data!E52,Data!D52,Data!C52)),"") | H23: =IFERROR(IF(Year=Data!A$3," ",CHOOSE(Year-2022,Data!M72,Data!L72,Data!K72,Data!J72,Data!I72,Data!H72,Data!G72,Data!F72,Data!E72,Data!D72,Data!C72)),"") | U23: =IF(COUNTIF(D23,"*TDC*"),"Yes","No") -> No
D24: =IFERROR(IF(Year=Data!A$3," ",CHOOSE(Year-2022,Data!M12,Data!L12,Data!K12,Data!J12,Data!I12,Data!H12,Data!G12,Data!F12,Data!E12,Data!D12,Data!C12)),"") | E24: =IFERROR(IF(Year=Data!A$3," ",CHOOSE(Year-2022,Data!M33,Data!L33,Data!K33,Data!J33,Data!I33,Data!H33,Data!G33,Data!F33,Data!E33,Data!D33,Data!C33)),"") | F24: =IFERROR(IF(Year=Data!A$3," ",CHOOSE(Year-2022,Data!M53,Data!L53,Data!K53,Data!J53,Data!I53,Data!H53,Data!G53,Data!F53,Data!E53,Data!D53,Data!C53)),"") | H24: =IFERROR(IF(Year=Data!A$3," ",CHOOSE(Year-2022,Data!M73,Data!L73,Data!K73,Data!J73,Data!I73,Data!H73,Data!G73,Data!F73,Data!E73,Data!D73,Data!C73)),"") | U24: =IF(COUNTIF(D24,"*TDC*"),"Yes","No") -> No
D25: =IFERROR(IF(Year=Data!A$3," ",CHOOSE(Year-2022,Data!M13,Data!L13,Data!K13,Data!J13,Data!I13,Data!H13,Data!G13,Data!F13,Data!E13,Data!D13,Data!C13)),"") | E25: =IFERROR(IF(Year=Data!A$3," ",CHOOSE(Year-2022,Data!M34,Data!L34,Data!K34,Data!J34,Data!I34,Data!H34,Data!G34,Data!F34,Data!E34,Data!D34,Data!C34)),"") | F25: =IFERROR(IF(Year=Data!A$3," ",CHOOSE(Year-2022,Data!M54,Data!L54,Data!K54,Data!J54,Data!I54,Data!H54,Data!G54,Data!F54,Data!E54,Data!D54,Data!C54)),"") | H25: =IFERROR(IF(Year=Data!A$3," ",CHOOSE(Year-2022,Data!M74,Data!L74,Data!K74,Data!J74,Data!I74,Data!H74,Data!G74,Data!F74,Data!E74,Data!D74,Data!C74)),"") | U25: =IF(COUNTIF(D25,"*TDC*"),"Yes","No") -> No
D26: =IFERROR(IF(Year=Data!A$3," ",CHOOSE(Year-2022,Data!M14,Data!L14,Data!K14,Data!J14,Data!I14,Data!H14,Data!G14,Data!F14,Data!E14,Data!D14,Data!C14)),"") | E26: =IFERROR(IF(Year=Data!A$3," ",CHOOSE(Year-2022,Data!M35,Data!L35,Data!K35,Data!J35,Data!I35,Data!H35,Data!G35,Data!F35,Data!E35,Data!D35,Data!C35)),"") | F26: =IFERROR(IF(Year=Data!A$3," ",CHOOSE(Year-2022,Data!M55,Data!L55,Data!K55,Data!J55,Data!I55,Data!H55,Data!G55,Data!F55,Data!E55,Data!D55,Data!C55)),"") | H26: =IFERROR(IF(Year=Data!A$3," ",CHOOSE(Year-2022,Data!M75,Data!L75,Data!K75,Data!J75,Data!I75,Data!H75,Data!G75,Data!F75,Data!E75,Data!D75,Data!C75)),"") | U26: =IF(COUNTIF(D26,"*TDC*"),"Yes","No") -> No
... D32: =IFERROR(IF(Year=Data!A$3," ",CHOOSE(Year-2022,Data!M20,Data!L20,Data!K20,Data!J20,Data!I20,Data!H20,Data!G20,Data!F20,Data!E20,Data!D20,Data!C20)),"") | E32: =IFERROR(IF(Year=Data!A$3," ",CHOOSE(Year-2022,Data!M41,Data!L41,Data!K41,Data!J41,Data!I41,Data!H41,Data!G41,Data!F41,Data!E41,Data!D41,Data!C41)),"") | F32: =IFERROR(IF(Year=Data!A$3," ",CHOOSE(Year-2022,Data!M61,Data!L61,Data!K61,Data!J61,Data!I61,Data!H61,Data!G61,Data!F61,Data!E61,Data!D61,Data!C61)),"") | H32: =IFERROR(IF(Year=Data!A$3," ",CHOOSE(Year-2022,Data!M81,Data!L81,Data!K81,Data!J81,Data!I81,Data!H81,Data!G81,Data!F81,Data!E81,Data!D81,Data!C81)),"") | U32: =IF(COUNTIF(D32,"*TDC*"),"Yes","No") -> No
C33: =IF(OR(AND(C15=1,U15="Yes"),(AND(C16=1,U16="Yes")),(AND(C17=1,U17="Yes")),(AND(C18=1,U18="Yes")),(AND(C19=1,U19="Yes")),(AND(C20=1,U20="Yes")),(AND(C21=1,U21="Yes")),(AND(C22=1,U22="Yes")),(AND(C23=1,U23="Yes")),(AND(C24=1,U24="Yes")),(AND(C25=1,U25="Yes")),(AND(C26=1,U26="Yes")),(AND(C27=1,U27="Yes")),(AND(C28=1,U28="Yes")),(AND(C29=1,U29="Yes")),(AND(C30=1,U30="Yes")),(AND(C31=1,U31="Yes")),(AND(C32=1,U32="Yes"))),"STOP: This TDC Template does NOT Apply to this RFA.","")
W34: Need to hide or delete eventually?
B35: ="Identify the appropriate TDC Add-Ons"&IF(ISERROR(VLOOKUP(1,Identify,2)),""," for"&RIGHT(VLOOKUP(1,Identify,2),LEN(VLOOKUP(1,Identify,2))-1)&". Select mutliple choices if applicable.") -> Identify the appropriate TDC Add-Ons | W35: Automatically Applies
B36: =IFERROR(HLOOKUP(IFERROR(VLOOKUP(1,Identify,2)&IF(OR($D$7="Broward",$D$7="Miami-Dade",$D$7="Palm Beach"),"SF","")," "),AddOns2,2+COUNTA(D$35:D35))," ") | D36: =IFERROR(HLOOKUP(IFERROR(VLOOKUP(1,Identify,2)&IF(OR($D$7="Broward",$D$7="Miami-Dade",$D$7="Palm Beach"),"SF","")," "),AddOns,2+COUNTA(D$35:D35))," ") | W36: =IF(OR(AND($D36="Tax-Exempt Bonds Boost (Automatic Boost)"),AND($D36="PHA Boost (Automatic Boost)")),1,"")
B37: =IFERROR(HLOOKUP(IFERROR(VLOOKUP(1,Identify,2)&IF(OR($D$7="Broward",$D$7="Miami-Dade",$D$7="Palm Beach"),"SF","")," "),AddOns2,2+COUNTA(D$35:D36))," ") | D37: =IFERROR(HLOOKUP(IFERROR(VLOOKUP(1,Identify,2)&IF(OR($D$7="Broward",$D$7="Miami-Dade",$D$7="Palm Beach"),"SF","")," "),AddOns,2+COUNTA(D$35:D36))," ") | W37: =IF(OR(AND($D37="Tax-Exempt Bonds Boost (Automatic Boost)"),AND($D37="PHA Boost (Automatic Boost)")),1,"")
D38: Board Approved One-Off Modification
B40: ="Identify the appropriate TDC Multipliers"&IF(ISERROR(VLOOKUP(1,Identify,2)),""," for"&RIGHT(VLOOKUP(1,Identify,2),LEN(VLOOKUP(1,Identify,2))-1)&". Select mutliple choices if applicable.") -> Identify the appropriate TDC Multipliers
B41: =IFERROR(HLOOKUP(IFERROR(VLOOKUP(1,Identify,2)&IF(OR($D$7="Broward",$D$7="Miami-Dade",$D$7="Palm Beach"),"SF","")," "),MultiplierNumbers,2+COUNTA(D$40:D40))," ") | D41: =IFERROR(HLOOKUP(IFERROR(VLOOKUP(1,Identify,2)&IF(OR($D$7="Broward",$D$7="Miami-Dade",$D$7="Palm Beach"),"SF","")," "),MultiplierNames,2+COUNTA(D$40:D40))," ") | W41: =IF(OR(,D41="PSN Demographic multiplier",D41="Homeless Demographic (Automatic Multiplier)",D41="Homeless Demographic & PDC",D41="Homeless Demographic (Automatic Multiplier)",D41="High Utilizer Demographic (Automatic Multiplier)"),1,"")
B42: =IFERROR(HLOOKUP(IFERROR(VLOOKUP(1,Identify,2)&IF(OR($D$7="Broward",$D$7="Miami-Dade",$D$7="Palm Beach"),"SF","")," "),MultiplierNumbers,2+COUNTA(D$40:D41))," ") | D42: =IFERROR(HLOOKUP(IFERROR(VLOOKUP(1,Identify,2)&IF(OR($D$7="Broward",$D$7="Miami-Dade",$D$7="Palm Beach"),"SF","")," "),MultiplierNames,2+COUNTA(D$40:D41))," ") | W42: =IF(OR(D42="DD Demo. in a Large Dev.",D42="PSN Demographic multiplier",D42="Homeless Demographic (Automatic Multiplier)",D42="Homeless Demographic & PDC",D42="Homeless Demographic (Automatic Multiplier)",D42="High Utilizer Demographic (Automatic Multiplier)"),1,"")
B43: =IFERROR(HLOOKUP(IFERROR(VLOOKUP(1,Identify,2)&IF(OR($D$7="Broward",$D$7="Miami-Dade",$D$7="Palm Beach"),"SF","")," "),MultiplierNumbers,2+COUNTA(D$40:D42))," ") | D43: =IFERROR(HLOOKUP(IFERROR(VLOOKUP(1,Identify,2)&IF(OR($D$7="Broward",$D$7="Miami-Dade",$D$7="Palm Beach"),"SF","")," "),MultiplierNames,2+COUNTA(D$40:D42))," ") | W43: =IF(OR(D43="DD Demo. in a Large Dev.",D43="PSN Demographic multiplier",D43="Homeless Demographic (Automatic Multiplier)",D43="Homeless Demographic & PDC",D43="Homeless Demographic (Automatic Multiplier)",D43="High Utilizer Demographic (Automatic Multiplier)"),1,"")
B44: =IFERROR(HLOOKUP(IFERROR(VLOOKUP(1,Identify,2)&IF(OR($D$7="Broward",$D$7="Miami-Dade",$D$7="Palm Beach"),"SF","")," "),MultiplierNumbers,2+COUNTA(D$40:D43))," ") | D44: =IFERROR(HLOOKUP(IFERROR(VLOOKUP(1,Identify,2)&IF(OR($D$7="Broward",$D$7="Miami-Dade",$D$7="Palm Beach"),"SF","")," "),MultiplierNames,2+COUNTA(D$40:D43))," ") | W44: =IF(OR(D44="DD Demo. in a Large Dev.",D44="PSN Demographic multiplier",D44="Homeless Demographic (Automatic Multiplier)",D44="Homeless Demographic & PDC",D44="Homeless Demographic (Automatic Multiplier)",D44="High Utilizer Demographic (Automatic Multiplier)"),1,"")
B45: =IFERROR(HLOOKUP(IFERROR(VLOOKUP(1,Identify,2)&IF(OR($D$7="Broward",$D$7="Miami-Dade",$D$7="Palm Beach"),"SF","")," "),MultiplierNumbers,2+COUNTA(D$40:D44))," ") | D45: =IFERROR(HLOOKUP(IFERROR(VLOOKUP(1,Identify,2)&IF(OR($D$7="Broward",$D$7="Miami-Dade",$D$7="Palm Beach"),"SF","")," "),MultiplierNames,2+COUNTA(D$40:D44))," ") | W45: =IF(OR(D45="DD Demo. in a Large Dev.",D45="PSN Demographic multiplier",D45="Homeless Demographic (Automatic Multiplier)",D45="Homeless Demographic & PDC",D45="Homeless Demographic (Automatic Multiplier)",D45="High Utilizer Demographic (Automatic Multiplier)"),1,"")
B46: =IFERROR(HLOOKUP(IFERROR(VLOOKUP(1,Identify,2)&IF(OR($D$7="Broward",$D$7="Miami-Dade",$D$7="Palm Beach"),"SF","")," "),MultiplierNumbers,2+COUNTA(D$40:D45))," ") | D46: =IFERROR(HLOOKUP(IFERROR(VLOOKUP(1,Identify,2)&IF(OR($D$7="Broward",$D$7="Miami-Dade",$D$7="Palm Beach"),"SF","")," "),MultiplierNames,2+COUNTA(D$40:D45))," ") | G46: NC: (f) = { [ (a) / 75% ] + (c) } / (d) * [ 1 + (e) ] | W46: =IF(OR(D46="DD Demo. in a Large Dev.",D46="PSN Demographic multiplier",D46="Homeless Demographic (Automatic Multiplier)",D46="Homeless Demographic & PDC",D46="Homeless Demographic (Automatic Multiplier)",D46="High Utilizer Demographic (Automatic Multiplier)"),1,"")
B47: =IFERROR(HLOOKUP(IFERROR(VLOOKUP(1,Identify,2)&IF(OR($D$7="Broward",$D$7="Miami-Dade",$D$7="Palm Beach"),"SF","")," "),MultiplierNumbers,2+COUNTA(D$40:D46))," ") | D47: =IFERROR(HLOOKUP(IFERROR(VLOOKUP(1,Identify,2)&IF(OR($D$7="Broward",$D$7="Miami-Dade",$D$7="Palm Beach"),"SF","")," "),MultiplierNames,2+COUNTA(D$40:D46))," ") | G47: Rehab (prior to 2026/2027 RFA Cycle): (f) = { [ (a) / 75% ] + (c) } / (d) * [ 1 + (e) ]
G48: Rehab (starting 2026/2027 RFA Cycle): (f) = { [ (a) / 70% ] + (c) } / (d) * [ 1 + (e) ] | AA48: Need to hide or delete eventually
B49: Enter the number of Units for the Development Type (if there are multiple development types, # of units should be entered on each line accordingly) | E49: (a) | F49: (b) | G49: (c) | H49: (d) | I49: (e) | J49: (f) | AA49: Prorata Distribution | AB49: Unit Values | AC49: TDC Rank | AD49: Combo # | AE49: Rank
E50: Hard Cost Factor Per Unit | F50: Maximum of Hard & Soft Costs PU | G50: ="Add-On"&IF(SUM(C36:C38)>1,"s","") -> Add-On | H50: ="Multiplier"&IF(SUM(C41:C47)>1,"s","") -> Multiplier | I50: Escalation Factor | J50: Max Non-Acquisition Development Cost for Developer Fee | K50: Hard | L50: Soft | AA50: of Multiple Dev Types | AB50: =COUNTIF(AB51:AB57,MAX(AB51:AB57)) -> 7 | AC50: =COUNTIF(AB51:AB57,">0") -> 0 | AE50: =IFERROR(RANK(AD50,AD$51:AD$57,0),8) -> 8
...

Sheet Data
L1: Peach = Actual; Blue = Draft; Yellow = TBD | AF1: **ALL RFA YYYY-NNN headers must have 2 spaces in front of the R. | DU1: May be an ITP | DV1: May be an ITP - also 217 is in question ITP or RFA?
C2: RFAs | Z2: **Yellow means RFA not issued yet - info taken from past year(s) - need to verify info | AQ2: Confirm once issued | AR2: Confirm once issued | DK2: 9.15.26 draft | DL2: 9.15.26 draft | DQ2: 9.18.26 draft | DR2: 9.18.26 draft | DS2: 9.30.26 draft | DT2: 9.30.26 draft | DW2: 9.17.26 draft | DX2: 9.17.26 draft | DY2: 9.10.26 draft | DZ2: 9.10.26 draft
A3: <select from menu> | I3: RFA 2027-103 | J3: RFA 2026-102 | K3: RFA 2025-102 | L3: RFA 2024-102 | M3: RFA 2023-102 - This TDC Template does not apply to this RFA | O3: AddOns | P3: RFA 2023-102 | Q3: RFA 2023-102SF | R3: RFA 2023-103 | S3: RFA 2023-103SF | T3: RFA 2023-104 | U3: RFA 2023-104SF | V3: RFA 2023-105 | W3: RFA 2023-106 | X3: RFA 2023-106SF | Y3: RFA 2023-108 | Z3: RFA 2023-201 | AA3: RFA 2023-202 | AB3: RFA 2023-202SF | AC3: RFA 2023-203SF | AD3: RFA 2023-204 | AE3: RFA 2023-204SF | AF3: RFA 2023-205 | AG3: RFA 2023-205SF | AH3: RFA 2023-211 | AI3: RFA 2023-212 | AJ3: RFA 2023-213 | AK3: RFA 2023-213SF | AL3: RFA 2023-304 | AM3: RFA 2024-102 | AN3: RFA 2024-102SF | AO3: RFA 2024-103 | AP3: RFA 2024-103SF | AQ3: RFA 2024-104 | AR3: RFA 2024-104SF | AS3: RFA 2024-105 | AT3: RFA 2024-106 | AU3: RFA 2024-106SF | AV3: RFA 2024-201 | AW3: RFA 2024-202 | AX3: RFA 2024-202SF | AY3: RFA 2024-203 | AZ3: RFA 2024-204 | BA3: RFA 2024-204SF | BB3: RFA 2024-205 | BC3: RFA 2024-205SF | BD3: RFA 2024-206 | BE3: RFA 2024-206SF | BF3: RFA 2024-213 | BG3: RFA 2024-213SF | BH3: RFA 2024-214 | BI3: RFA 2024-214SF | BJ3: RFA 2024-215 | BK3: RFA 2024-215SF | BL3: RFA 2024-216 | BM3: RFA 2024-216SF | BN3: RFA 2024-305 | BO3: RFA 2024-305SF | BP3: RFA 2024-306 | BQ3: RFA 2024-306SF | BR3: RFA 2025-102 | BS3: RFA 2025-102SF | BT3: RFA 2025-103 | BU3: RFA 2025-103SF | BV3: RFA 2025-104 | BW3: RFA 2025-104SF | BX3: RFA 2025-106 | BY3: RFA 2025-106SF | BZ3: RFA 2025-108 | CA3: RFA 2025-108SF | CB3: RFA 2025-201 | CC3: RFA 2025-202 | CD3: RFA 2025-202SF | CE3: RFA 2025-203 | CF3: RFA 2025-204 | CG3: RFA 2025-204SF | CH3: RFA 2025-205 | CI3: RFA 2025-205SF | CJ3: RFA 2025-206 | CK3: RFA 2025-206SF | CL3: RFA 2025-212 | CM3: RFA 2025-212SF | CN3: RFA 2025-213 | CO3: RFA 2025-213SF | CP3: RFA 2025-214 | CQ3: RFA 2025-214SF | CR3: RFA 2025-215 | CS3: RFA 2025-215SF | CT3: RFA 2025-216 | CU3: RFA 2025-216SF | CV3: RFA 2026-102 | CW3: RFA 2026-102SF | CX3: RFA 2026-103 | CY3: RFA 2026-103SF | CZ3: RFA 2026-104 | DA3: RFA 2026-104SF | DB3: RFA 2026-105 | DC3: RFA 2026-106 | DD3: RFA 2026-106SF | DE3: RFA 2026-108 | DF3: RFA 2026-108SF | DG3: RFA 2026-201 | DH3: RFA 2026-202 | DI3: RFA 2026-202SF | DJ3: RFA 2026-203 | DK3: RFA 2026-204 | DL3: RFA 2026-204SF | DM3: RFA 2026-205 | DN3: RFA 2026-205SF | DO3: RFA 2026-206 | DP3: RFA 2026-206SF | DQ3: RFA 2026-212 | DR3: RFA 2026-212SF | DS3: RFA 2026-216 | DT3: RFA 2026-216SF | DU3: RFA 2026-218 | DV3: RFA 2026-218SF | DW3: RFA 2027-103 | DX3: RFA 2027-103SF | DY3: RFA 2027-106 | DZ3: RFA 2027-106SF
A4: 2023 | I4: RFA 2027-106 | J4: RFA 2026-103 | K4: RFA 2025-103 | L4: RFA 2024-103 | M4: RFA 2023-103 - This TDC Template does not apply to this RFA | Z4: PHA Boost | AA4: PHA Boost | AB4: PHA Boost | AC4: PHA Boost | AD4: PHA Boost | AE4: PHA Boost | AF4: PHA Boost | AG4: PHA Boost | AI4: PHA Boost | AJ4: PHA Boost | AK4: PHA Boost | AM4: PHA Boost | AN4: PHA Boost | AO4: PHA Boost | AP4: PHA Boost | AQ4: PHA Boost | AR4: PHA Boost | AT4: PHA Boost | AU4: PHA Boost | AZ4: Tax-Exempt Bonds Boost | BA4: Tax-Exempt Bonds Boost | BB4: Tax-Exempt Bonds Boost | BC4: Tax-Exempt Bonds Boost | BD4: PHA Boost | BE4: PHA Boost | BF4: Tax-Exempt Bonds Boost | BG4: Tax-Exempt Bonds Boost | BH4: PHA Boost | BI4: PHA Boost | BJ4: Tax-Exempt Bonds Boost | BK4: Tax-Exempt Bonds Boost | BL4: Tax-Exempt Bonds Boost | BM4: Tax-Exempt Bonds Boost | BN4: PHA/Davis Bacon Boost | BO4: PHA/Davis Bacon Boost | BP4: Tax-Exempt Bonds Boost | BQ4: Tax-Exempt Bonds Boost | CF4: Tax-Exempt Bonds Boost | CG4: Tax-Exempt Bonds Boost | CH4: Tax-Exempt Bonds Boost | CI4: Tax-Exempt Bonds Boost | CN4: Tax-Exempt Bonds Boost | CO4: Tax-Exempt Bonds Boost | CP4: Tax-Exempt Bonds Boost | CQ4: Tax-Exempt Bonds Boost | CR4: Tax-Exempt Bonds Boost | CS4: Tax-Exempt Bonds Boost | CT4: Tax-Exempt Bonds Boost | CU4: Tax-Exempt Bonds Boost | DK4: Tax-Exempt Bonds Boost | DL4: Tax-Exempt Bonds Boost | DM4: Tax-Exempt Bonds Boost | DN4: Tax-Exempt Bonds Boost | DS4: Tax-Exempt Bonds Boost | DT4: Tax-Exempt Bonds Boost | DU4: TBD | DV4: TBD
A5: 2024 | J5: RFA 2026-104 | K5: RFA 2025-104 | L5: RFA 2024-104 | M5: RFA 2023-104 - This TDC Template does not apply to this RFA | Z5: Tax-Exempt Bonds Boost | AA5: Tax-Exempt Bonds Boost | AB5: Tax-Exempt Bonds Boost | AC5: Tax-Exempt Bonds Boost | AD5: Tax-Exempt Bonds Boost | AE5: Tax-Exempt Bonds Boost | AF5: Tax-Exempt Bonds Boost | AG5: Tax-Exempt Bonds Boost | AI5: Tax-Exempt Bonds Boost | AJ5: Tax-Exempt Bonds Boost | AK5: Tax-Exempt Bonds Boost | BD5: Tax-Exempt Bonds Boost | BE5: Tax-Exempt Bonds Boost | BH5: Tax-Exempt Bonds Boost | BI5: Tax-Exempt Bonds Boost | BN5: Tax-Exempt Bonds Boost | BO5: Tax-Exempt Bonds Boost
A6: 2025 | J6: RFA 2026-105 | K6: RFA 2025-106 | L6: RFA 2024-105 | M6: RFA 2023-105 - This TDC Template does not apply to this RFA | EG6: Hard Cost Per Unit Factor:
A7: 2026 | J7: RFA 2026-106 | K7: RFA 2025-108 | L7: RFA 2024-106 | M7: RFA 2023-106 - This TDC Template does not apply to this RFA | O7: AddOns2 | P7: =$P$3 -> RFA 2023-102 | Q7: =$Q$3 -> RFA 2023-102SF | R7: =$R$3 -> RFA 2023-103 | S7: =$S$3 -> RFA 2023-103SF | T7: =$T$3 -> RFA 2023-104 | U7: =$U$3 -> RFA 2023-104SF | V7: =$V$3 -> RFA 2023-105 | W7: =$W$3 -> RFA 2023-106 | X7: =$X$3 -> RFA 2023-106SF | Y7: =$Y$3 -> RFA 2023-108 | Z7: =$Z$3 -> RFA 2023-201 | AA7: =$AA$3 -> RFA 2023-202 | AB7: =$AB$3 -> RFA 2023-202SF | AC7: =$AC$3 -> RFA 2023-203SF | AD7: RFA 2023-204 | AE7: RFA 2023-204SF | AF7: =$AF$3 -> RFA 2023-205 | AG7: =$AG$3 -> RFA 2023-205SF | AH7: =$AH$3 -> RFA 2023-211 | AI7: =$AI$3 -> RFA 2023-212 | AJ7: =$AJ$3 -> RFA 2023-213 | AK7: =AK$3 -> RFA 2023-213SF | AL7: =$AL$3 -> RFA 2023-304 | AM7: =$AM$3 -> RFA 2024-102 | AN7: =$AN$3 -> RFA 2024-102SF | AO7: =$AO$3 -> RFA 2024-103 | AP7: =$AP$3 -> RFA 2024-103SF | AQ7: =$AQ$3 -> RFA 2024-104 | AR7: =$AR$3 -> RFA 2024-104SF | AS7: =$AS$3 -> RFA 2024-105 | AT7: =AT3 -> RFA 2024-106 | AU7: =AU3 -> RFA 2024-106SF | AV7: =AV3 -> RFA 2024-201 | AW7: =AW3 -> RFA 2024-202 | AX7: =AX3 -> RFA 2024-202SF | AY7: =AY3 -> RFA 2024-203 | AZ7: =AZ3 -> RFA 2024-204 | BA7: =BA3 -> RFA 2024-204SF | ... BC7: =BC3 -> RFA 2024-205SF | BD7: =$BD$3 -> RFA 2024-206 | BE7: =BE3 -> RFA 2024-206SF | BF7: =$BF$3 -> RFA 2024-213 | BG7: =$BG$3 -> RFA 2024-213SF | BH7: =BH3 -> RFA 2024-214 | BI7: =BI3 -> RFA 2024-214SF | BJ7: =BJ3 -> RFA 2024-215 | BK7: =BK3 -> RFA 2024-215SF | BL7: =BL3 -> RFA 2024-216 | BM7: =BM3 -> RFA 2024-216SF | BN7: =BN3 -> RFA 2024-305 | BO7: =BO3 -> RFA 2024-305SF | ... BY7: =BY3 -> RFA 2025-106SF | BZ7: =$BZ$3 -> RFA 2025-108 | CA7: =$CA$3 -> RFA 2025-108SF | CB7: =CB3 -> RFA 2025-201 | CC7: =CC3 -> RFA 2025-202 | CD7: =CD3 -> RFA 2025-202SF | CE7: =CE3 -> RFA 2025-203 | CF7: =CF3 -> RFA 2025-204 | CG7: =CG3 -> RFA 2025-204SF | CH7: =CH3 -> RFA 2025-205 | CI7: =CI3 -> RFA 2025-205SF | ... DD7: =DD3 -> RFA 2026-106SF | DE7: =$DE$3 -> RFA 2026-108 | DF7: =$DF$3 -> RFA 2026-108SF | DG7: =DG3 -> RFA 2026-201 | DH7: =DH3 -> RFA 2026-202 | DI7: =DI3 -> RFA 2026-202SF | DJ7: =DJ3 -> RFA 2026-203 | DK7: =DK3 -> RFA 2026-204 | DL7: =DL3 -> RFA 2026-204SF | DM7: RFA 2026-205 | DN7: RFA 2026-205SF | DO7: =DO3 -> RFA 2026-206 | DP7: =DP3 -> RFA 2026-206SF | DQ7: =DQ3 -> RFA 2026-212 | DR7: =DR3 -> RFA 2026-212SF | DS7: =DS3 -> RFA 2026-216 | DT7: =DT3 -> RFA 2026-216SF | DU7: =DU3 -> RFA 2026-218 | DV7: =DV3 -> RFA 2026-218SF | DW7: =$DW$3 -> RFA 2027-103 | DX7: =$DX$3 -> RFA 2027-103SF | DY7: =$DY$3 -> RFA 2027-106 | DZ7: =$DZ$3 -> RFA 2027-106SF | EG7: RFA Cycle | EH7: 2023/2024 | EI7: 2023/2024 | EJ7: 2024/2025 | EK7: 2024/2025 | EL7: 2025/2026 | EM7: 2025/2026 | EN7: 2026/2027 | EO7: 2026/2027
A8: 2027 | J8: RFA 2026-108 | K8: RFA 2025-201 | L8: RFA 2024-201 | M8: RFA 2023-108 - This TDC Template does not apply to this RFA | Z8: 7500 | AA8: 7500 | AB8: 7500 | AC8: 7500 | AD8: 7500 | AE8: 7500 | AF8: 7500 | AG8: 7500 | AI8: 7500 | AJ8: 7500 | AK8: 7500 | AM8: 7500 | AN8: 7500 | AO8: 7500 | AP8: 7500 | AQ8: 7500 | AR8: 7500 | AT8: 7500 | AU8: 7500 | AZ8: 7500 | BA8: 7500 | BB8: 7500 | BC8: 7500 | BD8: 7500 | BE8: 7500 | BF8: 7500 | BG8: 7500 | BH8: 7500 | BI8: 7500 | BJ8: 7500 | BK8: 7500 | BL8: 7500 | BM8: 7500 | BN8: 7500 | BO8: 7500 | BP8: 7500 | BQ8: 7500 | CF8: 7500 | CG8: 7500 | CH8: 7500 | CI8: 7500 | CN8: 7500 | CO8: 7500 | CP8: 7500 | CQ8: 7500 | CR8: 7500 | CS8: 7500 | CT8: 7500 | CU8: 7500 | DK8: 7500 | DL8: 7500 | DM8: 7500 | DN8: 7500 | DS8: 7500 | DT8: 7500 | DU8: TBD | DV8: TBD | EG8: Counties | EH8: Except BMP | EI8: BMP | EJ8: Except BMP | EK8: BMP | EL8: Except BMP | EM8: BMP | EN8: Except BMP | EO8: BMP
J9: RFA 2026-201 | K9: RFA 2025-202 | L9: RFA 2024-202 | M9: RFA 2023-201 | Z9: 7500 | AA9: 7500 | AB9: 7500 | AC9: 7500 | AD9: 7500 | AE9: 7500 | AF9: 7500 | AG9: 7500 | AI9: 7500 | AJ9: 7500 | AK9: 7500 | BD9: 7500 | BE9: 7500 | BH9: 7500 | BI9: 7500 | BN9: 7500 | BO9: 7500 | EG9: Garden-Non ESSC (NC) | EH9: 220000 | EI9: 240000 | EJ9: 233000 | EK9: 258000 | EL9: 247000 | EM9: 275000 | EN9: 256000 | EO9: 284000
J10: RFA 2026-202 | K10: RFA 2025-203 | L10: RFA 2024-203 | M10: RFA 2023-202 | EG10: Garden-ESSC (NC) | EH10: 240000 | EI10: 260000 | EJ10: 258000 | EK10: 283000 | EL10: 275000 | EM10: 300000 | EN10: 284000 | EO10: 312000
J11: RFA 2026-203 | K11: RFA 2025-204 | L11: RFA 2024-204 | M11: RFA 2023-203 | O11: MultiplierNames | P11: =$P$3 -> RFA 2023-102 | Q11: =$Q$3 -> RFA 2023-102SF | R11: =$R$3 -> RFA 2023-103 | S11: =$S$3 -> RFA 2023-103SF | T11: =$T$3 -> RFA 2023-104 | U11: =$U$3 -> RFA 2023-104SF | V11: =$V$3 -> RFA 2023-105 | W11: =$W$3 -> RFA 2023-106 | X11: =$X$3 -> RFA 2023-106SF | Y11: =$Y$3 -> RFA 2023-108 | Z11: =$Z$3 -> RFA 2023-201 | AA11: =$AA$3 -> RFA 2023-202 | AB11: =$AB$3 -> RFA 2023-202SF | AC11: =$AC$3 -> RFA 2023-203SF | AD11: RFA 2023-204 | AE11: RFA 2023-204SF | AF11: =$AF$3 -> RFA 2023-205 | AG11: =$AG$3 -> RFA 2023-205SF | AH11: =$AH$3 -> RFA 2023-211 | AI11: =$AI$3 -> RFA 2023-212 | AJ11: =$AJ$3 -> RFA 2023-213 | AK11: =AK$3 -> RFA 2023-213SF | AL11: =$AL$3 -> RFA 2023-304 | AM11: =$AM$3 -> RFA 2024-102 | AN11: =$AN$3 -> RFA 2024-102SF | AO11: =$AO$3 -> RFA 2024-103 | AP11: =$AP$3 -> RFA 2024-103SF | AQ11: =$AQ$3 -> RFA 2024-104 | AR11: =$AR$3 -> RFA 2024-104SF | AS11: =$AS$3 -> RFA 2024-105 | AT11: =AT3 -> RFA 2024-106 | AU11: =AU3 -> RFA 2024-106SF | AV11: =AV3 -> RFA 2024-201 | AW11: =AW3 -> RFA 2024-202 | AX11: =AX3 -> RFA 2024-202SF | AY11: =AY3 -> RFA 2024-203 | AZ11: =AZ3 -> RFA 2024-204 | BA11: =BA3 -> RFA 2024-204SF | ... BC11: =BC3 -> RFA 2024-205SF | BD11: =$BD$3 -> RFA 2024-206 | BE11: =BE3 -> RFA 2024-206SF | BF11: =$BF$3 -> RFA 2024-213 | BG11: =$BG$3 -> RFA 2024-213SF | BH11: =BH3 -> RFA 2024-214 | BI11: =BI3 -> RFA 2024-214SF | BJ11: =BJ3 -> RFA 2024-215 | BK11: =BK3 -> RFA 2024-215SF | BL11: =BL3 -> RFA 2024-216 | BM11: =BM3 -> RFA 2024-216SF | BN11: =BN3 -> RFA 2024-305 | BO11: =BO3 -> RFA 2024-305SF | ... BY11: =BY3 -> RFA 2025-106SF | BZ11: =$BZ$3 -> RFA 2025-108 | CA11: =$CA$3 -> RFA 2025-108SF | CB11: =CB3 -> RFA 2025-201 | CC11: =CC3 -> RFA 2025-202 | CD11: =CD3 -> RFA 2025-202SF | CE11: =CE3 -> RFA 2025-203 | CF11: =CF3 -> RFA 2025-204 | CG11: =CG3 -> RFA 2025-204SF | CH11: =CH3 -> RFA 2025-205 | CI11: =CI3 -> RFA 2025-205SF | ... CK11: =CK3 -> RFA 2025-206SF | CL11: =CL7 -> RFA 2025-212 | CM11: =CM7 -> RFA 2025-212SF | CN11: =CN7 -> RFA 2025-213 | CO11: =CO7 -> RFA 2025-213SF | CP11: =CP3 -> RFA 2025-214 | CQ11: =CQ3 -> RFA 2025-214SF | CR11: =CR3 -> RFA 2025-215 | CS11: =CS3 -> RFA 2025-215SF | CT11: =CT3 -> RFA 2025-216 | CU11: =CU3 -> RFA 2025-216SF | CV11: =CV3 -> RFA 2026-102 | CW11: =CW3 -> RFA 2026-102SF | ... CY11: =CY3 -> RFA 2026-103SF | CZ11: =CZ7 -> RFA 2026-104 | DA11: =DA7 -> RFA 2026-104SF | DB11: =DB7 -> RFA 2026-105 | DC11: =DC3 -> RFA 2026-106 | DD11: =DD7 -> RFA 2026-106SF | DE11: =$DE$3 -> RFA 2026-108 | DF11: =$DF$3 -> RFA 2026-108SF | DG11: =DG7 -> RFA 2026-201 | DH11: =DH7 -> RFA 2026-202 | DI11: =DI7 -> RFA 2026-202SF | DJ11: =DJ7 -> RFA 2026-203 | DK11: =DK3 -> RFA 2026-204 | DL11: =DL3 -> RFA 2026-204SF | DM11: RFA 2026-205 | DN11: RFA 2026-205SF | DO11: =DO3 -> RFA 2026-206 | DP11: =DP3 -> RFA 2026-206SF | DQ11: =DQ3 -> RFA 2026-212 | DR11: =DR3 -> RFA 2026-212SF | DS11: =DS3 -> RFA 2026-216 | DT11: =DT3 -> RFA 2026-216SF | DU11: =DU3 -> RFA 2026-218 | DV11: =DV3 -> RFA 2026-218SF | DW11: =$DW$3 -> RFA 2027-103 | DX11: =$DX$3 -> RFA 2027-103SF | DY11: =$DY$3 -> RFA 2027-106 | DZ11: =$DZ$3 -> RFA 2027-106SF | EG11: Mid-Rise-Non ESSC (NC) | EH11: 240000 | EI11: 260000 | EJ11: 258000 | EK11: 283000 | EL11: 275000 | EM11: 300000 | EN11: 284000 | EO11: 312000
J12: RFA 2026-204 | K12: RFA 2025-205 | L12: RFA 2024-205 | M12: RFA 2023-204 | Z12: Homeless Demographic (or) | AA12: Homeless Demographic (or) | AB12: Homeless Demographic (or) | AC12: Homeless Demographic (or) | AD12: North Florida Keys Area (or) | AE12: Elderly ALF Demographic | AF12: Homeless Demographic (or) | AG12: Homeless Demographic (or) | AI12: Homeless Demographic (or) | AJ12: Homeless Demographic (or) | AK12: Homeless Demographic (or) | AM12: North Florida Keys Area (or) | AN12: PSN Demographic multiplier | AO12: Homeless Demographic (or) | AP12: Homeless Demographic (or) | AQ12: North Florida Keys Area (or) | AT12: Homeless Demographic (or) | AU12: Homeless Demographic (or) | AV12: PHA multiplier (or) | AW12: PHA multiplier (or) | AX12: PHA multiplier (or) | AY12: PHA multiplier (or) | AZ12: PHA multiplier | BA12: PHA multiplier | BB12: PHA multiplier (or) | BC12: PHA multiplier (or) | BD12: North Florida Keys Area (or) | BF12: PHA multiplier (or) | BG12: PHA multiplier (or) | BH12: Elderly ALF Demographic | BI12: Elderly ALF Demographic | BJ12: PHA multiplier (or) | BK12: PHA multiplier (or) | BL12: North Florida Keys Area (or) | BM12: PHA multiplier | BN12: North Florida Keys Area (or) | BP12: PHA multiplier (or) | BQ12: PHA multiplier (or) | BR12: PHA multiplier | BS12: PHA multiplier | BT12: PHA multiplier | BU12: PHA multiplier | BV12: PHA multiplier | BW12: PHA multiplier | BX12: PHA multiplier | BY12: PHA multiplier | BZ12: PHA multiplier | CA12: PHA multiplier | CB12: PHA multiplier (or) | CC12: PHA multiplier (or) | CD12: PHA multiplier (or) | CE12: PHA multiplier (or) | CF12: PHA multiplier | CG12: PHA multiplier | CH12: PHA multiplier | CI12: PHA multiplier | CJ12: PHA multiplier | CK12: PHA multiplier | CL12: PHA multiplier | CM12: PHA multiplier | CN12: PHA multiplier | CO12: PHA multiplier | CP12: PHA multiplier | CQ12: PHA multiplier | CR12: PHA multiplier | CS12: PHA multiplier | CT12: PHA multiplier | CU12: PHA multiplier | CV12: PHA multiplier (or) | CW12: PHA multiplier (or) | CX12: PHA multiplier (or) | CY12: PHA multiplier (or) | CZ12: PHA multiplier (or) | DA12: PHA multiplier (or) | DC12: PHA multiplier (or) | DD12: PHA multiplier (or) | DE12: PHA multiplier | DF12: PHA multiplier | DG12: PHA multiplier (or) | DH12: PHA multiplier (or) | DI12: PHA multiplier (or) | DJ12: PHA multiplier (or) | DK12: PHA multiplier (or) | DL12: PHA multiplier (or) | DM12: PHA multiplier (or) | DN12: PHA multiplier (or) | DO12: Davis-Bacon multiplier | DP12: Davis-Bacon multiplier | DQ12: PHA multiplier (or) | DR12: PHA multiplier (or) | DS12: PHA multiplier (or) | DT12: PHA multiplier (or) | DU12: TBD | DV12: TBD | DW12: PHA multiplier (or) | DX12: PHA multiplier (or) | DY12: PHA multiplier (or) | DZ12: PHA multiplier (or) | EG12: Mid-Rise-ESSC (NC) | EH12: 270000 | EI12: 290000 | EJ12: 285000 | EK12: 310000 | EL12: 302000 | EM12: 330000 | EN12: 311000 | EO12: 339000
A13: <select from menu> | J13: RFA 2026-205 | K13: RFA 2025-206 | L13: RFA 2024-206 | M13: RFA 2023-205 | Z13: PDC/PDD Demographic multiplier | AA13: PDC/PDD Demographic multiplier | AB13: PDC/PDD Demographic multiplier | AC13: PDC/PDD Demographic multiplier | AD13: South Florida Keys Area | AF13: PDC/PDD Demographic multiplier | AG13: PDC/PDD Demographic multiplier | AI13: PDC/PDD Demographic multiplier | AJ13: PDC/PDD Demographic multiplier | AK13: PDC/PDD Demographic multiplier | AM13: South Florida Keys Area | AO13: PDC/PDD Demographic multiplier | AP13: PDC/PDD Demographic multiplier | AQ13: South Florida Keys Area | AT13: PDC/PDD Demographic multiplier | AU13: PDC/PDD Demographic multiplier | AV13: Davis-Bacon multiplier | AW13: Davis-Bacon multiplier | AX13: Davis-Bacon multiplier | AY13: Davis-Bacon multiplier | BB13: Davis-Bacon multiplier | BC13: Davis-Bacon multiplier | BD13: South Florida Keys Area | BF13: Davis-Bacon multiplier | BG13: Davis-Bacon multiplier | BH13: North Florida Keys Area (or) | BJ13: Davis-Bacon multiplier | BK13: Davis-Bacon multiplier | BL13: South Florida Keys Area | BN13: South Florida Keys Area | BP13: Davis-Bacon multiplier | BQ13: Davis-Bacon multiplier | CB13: Davis-Bacon multiplier | CC13: Davis-Bacon multiplier | CD13: Davis-Bacon multiplier | CE13: Davis-Bacon multiplier | CV13: Davis-Bacon multiplier | CW13: Davis-Bacon multiplier | CX13: Davis-Bacon multiplier | CY13: Davis-Bacon multiplier | CZ13: Davis-Bacon multiplier | DA13: Davis-Bacon multiplier | DC13: Davis-Bacon multiplier | DD13: Davis-Bacon multiplier | DG13: Davis-Bacon multiplier | DH13: Davis-Bacon multiplier | DI13: Davis-Bacon multiplier | DJ13: Davis-Bacon multiplier | DK13: Davis-Bacon multiplier | DL13: Davis-Bacon multiplier | DM13: Davis-Bacon multiplier | DN13: Davis-Bacon multiplier | DQ13: Davis-Bacon multiplier | DR13: Davis-Bacon multiplier | DS13: Davis-Bacon multiplier | DT13: Davis-Bacon multiplier | DW13: Davis-Bacon multiplier | DX13: Davis-Bacon multiplier | DY13: Davis-Bacon multiplier | DZ13: Davis-Bacon multiplier | EG13: High-Rise (NC) | EH13: 290000 | EI13: 310000 | EJ13: 310000 | EK13: 335000 | EL13: 330000 | EM13: 355000 | EN13: 338000 | EO13: 366000
A14: Alachua | J14: RFA 2026-206 | K14: RFA 2025-212 | L14: RFA 2024-213 | M14: RFA 2023-211 - This TDC Template does not apply to this RFA | Z14: 9%, NC, =<50 Units, not in Keys (or) | AA14: 9%, NC, =<50 Units, not in Keys (or) | AB14: 9%, NC, =<50 Units, not in Keys (or) | AC14: 9%, NC, =<50 Units, not in Keys (or) | AD14: Elderly ALF Demographic | AF14: 9%, NC, =<50 Units, not in Keys (or) | AG14: 9%, NC, =<50 Units, not in Keys (or) | AI14: 9%, NC, =<50 Units, not in Keys (or) | AJ14: 9%, NC, =<50 Units, not in Keys (or) | AK14: 9%, NC, =<50 Units, not in Keys (or) | AM14: PSN Demographic multiplier | AO14: 9%, NC, =<50 Units, not in Keys (or) | AP14: 9%, NC, =<50 Units, not in Keys (or) | AT14: 9%, NC, =<50 Units, not in Keys (or) | AU14: 9%, NC, =<50 Units, not in Keys (or) | AV14: North Florida Keys Area (or) | AW14: Elderly ALF Demographic | AX14: Elderly ALF Demographic | AY14: Elderly ALF Demographic | AZ14: North Florida Keys Area (or) | BA14: Elderly ALF Demographic | BB14: North Florida Keys Area (or) | BC14: Elderly ALF Demographic | BF14: North Florida Keys Area (or) | BH14: South Florida Keys Area | BJ14: North Florida Keys Area (or) | BL14: PHA multiplier | BR14: North Florida Keys Area (or) | BS14: PSN Demographic multiplier | BT14: 9%, NC, =<50 Units, not in Keys (or) | BU14: 9%, NC, =<50 Units, not in Keys (or) | BV14: North Florida Keys Area (or) | BX14: 9%, NC, =<50 Units, not in Keys (or) | BY14: 9%, NC, =<50 Units, not in Keys (or) | BZ14: 9%, NC, =<50 Units, not in Keys (or) | CA14: 9%, NC, =<50 Units, not in Keys (or) | CB14: North Florida Keys Area (or) | CC14: Elderly ALF Demographic | CD14: Elderly ALF Demographic | CE14: Elderly ALF Demographic | CF14: North Florida Keys Area (or) | CG14: Elderly ALF Demographic | CH14: North Florida Keys Area (or) | CI14: Elderly ALF Demographic | CJ14: North Florida Keys Area (or) | CL14: North Florida Keys Area (or) | CN14: North Florida Keys Area (or) | CP14: North Florida Keys Area (or) | CQ14: BABA Multiplier | CR14: North Florida Keys Area (or) | CT14: North Florida Keys Area (or) | CV14: North Florida Keys Area (or) | CW14: PSN Demographic multiplier | CX14: 9%, NC, =<50 Units, not in Keys (or) | CY14: 9%, NC, =<50 Units, not in Keys (or) | CZ14: North Florida Keys Area (or) | DC14: 9%, NC, =<50 Units, not in Keys (or) | DD14: 9%, NC, =<50 Units, not in Keys (or) | DE14: North Florida Keys Area (or) | DF14: North Florida Keys Area (or) | DG14: North Florida Keys Area (or) | DH14: Elderly ALF Demographic | DI14: Elderly ALF Demographic | DJ14: Elderly ALF Demographic | DK14: North Florida Keys Area (or) | DL14: Elderly ALF Demographic | DM14: North Florida Keys Area (or) | DN14: Elderly ALF Demographic | DO14: BABA Multiplier | DP14: BABA Multiplier | DQ14: North Florida Keys Area (or) | DS14: North Florida Keys Area (or) | DW14: 9%, NC, =<50 Units, not in Keys (or) | DX14: 9%, NC, =<50 Units, not in Keys (or) | DY14: 9%, NC, =<50 Units, not in Keys (or) | DZ14: 9%, NC, =<50 Units, not in Keys (or) | EG14: Garden (Rehab) | EH14: 100000 | EI14: 110000 | EJ14: 106000 | EK14: 121000 | EL14: 115000 | EM14: 131000 | EN14: 122000 | EO14: 160000
A15: Baker | J15: RFA 2026-212 | K15: RFA 2025-213 | L15: RFA 2024-214 | M15: RFA 2023-212 | Z15: 9%, NC, 51-80 Units, not in Keys | AA15: 9%, NC, 51-80 Units, not in Keys | AB15: 9%, NC, 51-80 Units, not in Keys | AC15: 9%, NC, 51-80 Units, not in Keys | AF15: 9%, NC, 51-80 Units, not in Keys | AG15: 9%, NC, 51-80 Units, not in Keys | AI15: 9%, NC, 51-80 Units, not in Keys | AJ15: 9%, NC, 51-80 Units, not in Keys | AK15: 9%, NC, 51-80 Units, not in Keys | AO15: 9%, NC, 51-80 Units, not in Keys | AP15: 9%, NC, 51-80 Units, not in Keys | AT15: 9%, NC, 51-80 Units, not in Keys | AU15: 9%, NC, 51-80 Units, not in Keys | AV15: South Florida Keys Area | AZ15: South Florida Keys Area | BB15: South Florida Keys Area | BF15: South Florida Keys Area | BJ15: South Florida Keys Area | BR15: South Florida Keys Area | BT15: 9%, NC, 51-80 Units, not in Keys | BU15: 9%, NC, 51-80 Units, not in Keys | BV15: South Florida Keys Area | BX15: 9%, NC, 51-80 Units, not in Keys | BY15: 9%, NC, 51-80 Units, not in Keys | BZ15: 9%, NC, 51-80 Units, not in Keys | CA15: 9%, NC, 51-80 Units, not in Keys | CB15: South Florida Keys Area | CF15: South Florida Keys Area | CH15: South Florida Keys Area | CJ15: South Florida Keys Area | CL15: South Florida Keys Area | CN15: South Florida Keys Area | CP15: South Florida Keys Area | CR15: South Florida Keys Area | CT15: South Florida Keys Area | CV15: South Florida Keys Area | CX15: 9%, NC, 51-80 Units, not in Keys | CY15: 9%, NC, 51-80 Units, not in Keys | CZ15: South Florida Keys Area | DC15: 9%, NC, 51-80 Units, not in Keys | DD15: 9%, NC, 51-80 Units, not in Keys | DE15: South Florida Keys Area | DF15: South Florida Keys Area | DG15: South Florida Keys Area | DK15: South Florida Keys Area | DM15: South Florida Keys Area | DQ15: South Florida Keys Area | DS15: South Florida Keys Area | DW15: 9%, NC, 51-80 Units, not in Keys | DX15: 9%, NC, 51-80 Units, not in Keys | DY15: 9%, NC, 51-80 Units, not in Keys | DZ15: 9%, NC, 51-80 Units, not in Keys | EG15: Non-Garden (Rehab) | EH15: 130000 | EI15: 140000 | EJ15: 146000 | EK15: 161000 | EL15: 160000 | EM15: 177000 | EN15: 147000 | EO15: 177000
A16: Bay | J16: RFA 2026-216 | K16: RFA 2025-214 | L16: RFA 2024-215 | M16: RFA 2023-213 | Z16: North Florida Keys Area (or) | AA16: North Florida Keys Area (or) | AB16: Elderly ALF Demographic | AC16: Elderly ALF Demographic | AF16: North Florida Keys Area (or) | AG16: Elderly ALF Demographic | AI16: North Florida Keys Area (or) | AJ16: North Florida Keys Area (or) | AK16: Elderly ALF Demographic | AV16: Elderly ALF Demographic | AZ16: Elderly ALF Demographic | BB16: Elderly ALF Demographic | BR16: PSN Demographic multiplier | BT16: Homeless Demographic multiplier | BU16: Homeless Demographic multiplier | BX16: PDC/PDD Demographic multiplier | BY16: PDC/PDD Demographic multiplier | BZ16: PDC/PDD Demographic multiplier | CA16: PDC/PDD Demographic multiplier | CB16: Elderly ALF Demographic | CF16: Elderly ALF Demographic | CH16: Elderly ALF Demographic | CV16: PSN Demographic multiplier | CX16: Homeless Demographic multiplier | CY16: Homeless Demographic multiplier | DC16: PDC/PDD Demographic multiplier | DD16: PDC/PDD Demographic multiplier | DE16: PDC/PDD Demographic multiplier | DF16: PDC/PDD Demographic multiplier | DG16: Elderly ALF Demographic | DK16: Elderly ALF Demographic | DM16: Elderly ALF Demographic | DW16: Homeless Demographic multiplier | DX16: Homeless Demographic multiplier | DY16: Homeless Demographic multiplier | DZ16: Homeless Demographic multiplier
A17: Bradford | J17: RFA 2026-218 | K17: RFA 2025-215 | L17: RFA 2024-216 | M17: RFA 2023-304 - This TDC Template does not apply to this RFA | Z17: South Florida Keys Area | AA17: South Florida Keys Area | AF17: South Florida Keys Area | AI17: South Florida Keys Area | AJ17: South Florida Keys Area
A18: Brevard | K18: RFA 2025-216 | L18: RFA 2024-305 | Z18: Elderly ALF Demographic | AA18: Elderly ALF Demographic | AF18: Elderly ALF Demographic | AI18: Elderly ALF Demographic | AJ18: Elderly ALF Demographic | CB18: BABA Multiplier | CC18: BABA Multiplier | CD18: BABA Multiplier | CE18: BABA Multiplier | CF18: BABA Multiplier | CG18: BABA Multiplier | CH18: BABA Multiplier | CI18: BABA Multiplier | CL18: BABA Multiplier | CM18: BABA Multiplier | CP18: BABA Multiplier | CV18: BABA Multiplier | CW18: BABA Multiplier | CX18: BABA Multiplier | CY18: BABA Multiplier | CZ18: BABA Multiplier | DA18: BABA Multiplier | DC18: BABA Multiplier | DD18: BABA Multiplier | DE18: BABA Multiplier | DF18: BABA Multiplier | DG18: BABA Multiplier | DH18: BABA Multiplier | DI18: BABA Multiplier | DJ18: BABA Multiplier | DK18: BABA Multiplier | DL18: BABA Multiplier | DM18: BABA Multiplier | DN18: BABA Multiplier | DQ18: BABA Multiplier | DR18: BABA Multiplier | DS18: BABA Multiplier | DT18: BABA Multiplier | DW18: BABA Multiplier | DX18: BABA Multiplier | DY18: BABA Multiplier | DZ18: BABA Multiplier | EG18: Available TDC Add-Ons | EH18: 2023/2024 | EI18: 2024/2025 | EJ18: 2025/2026 | EK18: 2026/2027
A19: Broward | L19: RFA 2024-306 | CB19: BABA | CC19: BABA | CD19: BABA | CE19: BABA | CF19: BABA | CG19: BABA | CH19: BABA | CI19: BABA | CL19: BABA | CM19: BABA | CP19: BABA | CQ19: BABA | CV19: BABA | CW19: BABA | CX19: BABA | CY19: BABA | CZ19: BABA | DA19: BABA | DC19: BABA | DD19: BABA | DE19: BABA | DF19: BABA | DG19: BABA | DH19: BABA | DI19: BABA | DJ19: BABA | DK19: BABA | DL19: BABA | DM19: BABA | DN19: BABA | DO19: BABA | DP19: BABA | DQ19: BABA | DR19: BABA | DS19: BABA | DT19: BABA | DU19: BABA | DV19: BABA | DW19: BABA | DX19: BABA | DY19: BABA | DZ19: BABA | EG19: PHA Add-On | EH19: 7500 | EI19: 7500 | EJ19: N/A | EK19: N/A
A20: Calhoun | O20: MultiplierNumbers | P20: =$P$3 -> RFA 2023-102 | Q20: =$Q$3 -> RFA 2023-102SF | R20: =$R$3 -> RFA 2023-103 | S20: =$S$3 -> RFA 2023-103SF | T20: =$T$3 -> RFA 2023-104 | U20: =$U$3 -> RFA 2023-104SF | V20: =$V$3 -> RFA 2023-105 | W20: =$W$3 -> RFA 2023-106 | X20: =$X$3 -> RFA 2023-106SF | Y20: =$Y$3 -> RFA 2023-108 | Z20: =$Z$3 -> RFA 2023-201 | AA20: =$AA$3 -> RFA 2023-202 | AB20: =$AB$3 -> RFA 2023-202SF | AC20: =$AC$3 -> RFA 2023-203SF | AD20: RFA 2023-204 | AE20: RFA 2023-204SF | AF20: =$AF$3 -> RFA 2023-205 | AG20: =$AG$3 -> RFA 2023-205SF | AH20: =$AH$3 -> RFA 2023-211 | AI20: =$AI$3 -> RFA 2023-212 | AJ20: =$AJ$3 -> RFA 2023-213 | AK20: =AK$3 -> RFA 2023-213SF | AL20: =$AL$3 -> RFA 2023-304 | AM20: =$AM$3 -> RFA 2024-102 | AN20: =$AN$3 -> RFA 2024-102SF | AO20: =$AO$3 -> RFA 2024-103 | AP20: =$AP$3 -> RFA 2024-103SF | AQ20: =$AQ$3 -> RFA 2024-104 | AR20: =$AR$3 -> RFA 2024-104SF | AS20: =$AS$3 -> RFA 2024-105 | AT20: =AT3 -> RFA 2024-106 | AU20: =AU3 -> RFA 2024-106SF | AV20: =AV3 -> RFA 2024-201 | AW20: =AW3 -> RFA 2024-202 | AX20: =AX3 -> RFA 2024-202SF | AY20: =AY3 -> RFA 2024-203 | AZ20: =AZ3 -> RFA 2024-204 | BA20: =BA3 -> RFA 2024-204SF | ... BC20: =BC3 -> RFA 2024-205SF | BD20: =$BD$3 -> RFA 2024-206 | BE20: =BE3 -> RFA 2024-206SF | BF20: =$BF$3 -> RFA 2024-213 | BG20: =$BG$3 -> RFA 2024-213SF | BH20: =BH3 -> RFA 2024-214 | BI20: =BI3 -> RFA 2024-214SF | BJ20: =BJ3 -> RFA 2024-215 | BK20: =BK3 -> RFA 2024-215SF | BL20: =BL3 -> RFA 2024-216 | BM20: =BM3 -> RFA 2024-216SF | BN20: =BN3 -> RFA 2024-305 | BO20: =BO3 -> RFA 2024-305SF | ... BY20: =BY3 -> RFA 2025-106SF | BZ20: =$BZ$3 -> RFA 2025-108 | CA20: =$CA$3 -> RFA 2025-108SF | CB20: =CB3 -> RFA 2025-201 | CC20: =CC3 -> RFA 2025-202 | CD20: =CD3 -> RFA 2025-202SF | CE20: =CE3 -> RFA 2025-203 | CF20: =CF3 -> RFA 2025-204 | CG20: =CG3 -> RFA 2025-204SF | CH20: =CH3 -> RFA 2025-205 | CI20: =CI3 -> RFA 2025-205SF | ... CK20: =CK3 -> RFA 2025-206SF | CL20: =CL11 -> RFA 2025-212 | CM20: =CM11 -> RFA 2025-212SF | CN20: =CN11 -> RFA 2025-213 | CO20: =CO11 -> RFA 2025-213SF | CP20: =CP3 -> RFA 2025-214 | CQ20: =CQ3 -> RFA 2025-214SF | CR20: =CR3 -> RFA 2025-215 | CS20: =CS3 -> RFA 2025-215SF | CT20: =CT3 -> RFA 2025-216 | CU20: =CU3 -> RFA 2025-216SF | CV20: =CV3 -> RFA 2026-102 | CW20: =CW3 -> RFA 2026-102SF | ... CY20: =CY3 -> RFA 2026-103SF | CZ20: =CZ11 -> RFA 2026-104 | DA20: =DA11 -> RFA 2026-104SF | DB20: =DB11 -> RFA 2026-105 | DC20: =DC3 -> RFA 2026-106 | DD20: =DD3 -> RFA 2026-106SF | DE20: =$DE$3 -> RFA 2026-108 | DF20: =$DF$3 -> RFA 2026-108SF | DG20: =DG3 -> RFA 2026-201 | DH20: =DH3 -> RFA 2026-202 | DI20: =DI3 -> RFA 2026-202SF | DJ20: =DJ3 -> RFA 2026-203 | DK20: =DK3 -> RFA 2026-204 | DL20: =DL3 -> RFA 2026-204SF | DM20: RFA 2026-205 | DN20: RFA 2026-205SF | DO20: =DO3 -> RFA 2026-206 | DP20: =DP3 -> RFA 2026-206SF | DQ20: =DQ3 -> RFA 2026-212 | DR20: =DR3 -> RFA 2026-212SF | DS20: =DS3 -> RFA 2026-216 | DT20: =DT3 -> RFA 2026-216SF | DU20: =DU3 -> RFA 2026-218 | DV20: =DV3 -> RFA 2026-218SF | DW20: =$DW$3 -> RFA 2027-103 | DX20: =$DX$3 -> RFA 2027-103SF | DY20: =$DY$3 -> RFA 2027-106 | DZ20: =$DZ$3 -> RFA 2027-106SF | EG20: Tax Exempt Bonds Add-On | EH20: 7500 | EI20: 7500 | EJ20: 7500 | EK20: 7500
A21: Charlotte | Z21: 0.9 | AA21: 0.9 | AB21: 0.9 | AC21: 0.9 | AD21: 0.65 | AE21: 0.95 | AF21: 0.9 | AG21: 0.9 | AI21: 0.9 | AJ21: 0.9 | AK21: 0.9 | AM21: 0.65 | AN21: 0.9 | AO21: 0.9 | AP21: 0.9 | AQ21: 0.65 | AT21: 0.9 | AU21: 0.9 | AV21: 0.89 | AW21: 0.89 | AX21: 0.89 | AY21: 0.89 | AZ21: 0.89 | BA21: 0.89 | BB21: 0.89 | BC21: 0.89 | BD21: 0.65 | BF21: 0.89 | BG21: 0.89 | BH21: 0.95 | BI21: 0.95 | BJ21: 0.89 | BK21: 0.89 | BL21: 0.65 | BM21: 0.89 | BN21: 0.65 | BP21: 0.89 | BQ21: 0.89 | BR21: 0.89 | BS21: 0.89 | BT21: 0.89 | BU21: 0.89 | BV21: 0.89 | BW21: 0.89 | BX21: 0.89 | BY21: 0.89 | BZ21: 0.89 | CA21: 0.89 | CB21: 0.89 | CC21: 0.89 | CD21: 0.89 | CE21: 0.89 | CF21: 0.89 | CG21: 0.89 | CH21: 0.89 | CI21: 0.89 | CJ21: 0.89 | CK21: 0.89 | CL21: 0.89 | CM21: 0.89 | CN21: 0.89 | CO21: 0.89 | CP21: 0.89 | CQ21: 0.89 | CR21: 0.89 | CS21: 0.89 | CT21: 0.89 | CU21: 0.89 | CV21: 0.89 | CW21: 0.89 | CX21: 0.89 | CY21: 0.89 | CZ21: 0.89 | DA21: 0.89 | DC21: 0.89 | DD21: 0.89 | DE21: 0.89 | DF21: 0.89 | DG21: 0.89 | DH21: 0.89 | DI21: 0.89 | DJ21: 0.89 | DK21: 0.89 | DL21: 0.89 | DM21: 0.89 | DN21: 0.89 | DO21: 0.89 | DP21: 0.89 | DQ21: 0.89 | DR21: 0.89 | DS21: 0.89 | DT21: 0.89 | DU21: TBD | DV21: TBD | DW21: 0.89 | DX21: 0.89 | DY21: 0.89 | DZ21: 0.89 | EG21: Available TDC Multipliers
A22: Citrus | Z22: 0.9 | AA22: 0.9 | AB22: 0.9 | AC22: 0.9 | AD22: 0.5 | AF22: 0.9 | AG22: 0.9 | AI22: 0.9 | AJ22: 0.9 | AK22: 0.9 | AM22: 0.5 | AO22: 0.9 | AP22: 0.9 | AQ22: 0.5 | AT22: 0.9 | AU22: 0.9 | AV22: 0.89 | AW22: 0.89 | AX22: 0.89 | AY22: 0.89 | BB22: 0.89 | BC22: 0.89 | BD22: 0.5 | BF22: 0.89 | BG22: 0.89 | BH22: 0.65 | BJ22: 0.89 | BK22: 0.89 | BL22: 0.5 | BN22: 0.5 | BP22: 0.89 | BQ22: 0.89 | CB22: 0.89 | CC22: 0.89 | CD22: 0.89 | CE22: 0.89 | CV22: 0.89 | CW22: 0.89 | CX22: 0.89 | CY22: 0.89 | CZ22: 0.89 | DA22: 0.89 | DC22: 0.89 | DD22: 0.89 | DG22: 0.89 | DH22: 0.89 | DI22: 0.89 | DJ22: 0.89 | DK22: 0.89 | DL22: 0.89 | DM22: 0.89 | DN22: 0.89 | DQ22: 0.89 | DR22: 0.89 | DS22: 0.89 | DT22: 0.89 | DW22: 0.89 | DX22: 0.89 | DY22: 0.89 | DZ22: 0.89 | EG22: Non-Geographic TDC Multiplier – Elderly-ALF Developments | EH22: 0.95 | EI22: 0.95 | EJ22: 0.95 | EK22: 0.95
A23: Clay | C23: RFA Cycle | Z23: 0.9 | AA23: 0.9 | AB23: 0.9 | AC23: 0.9 | AD23: 0.95 | AF23: 0.9 | AG23: 0.9 | AI23: 0.9 | AJ23: 0.9 | AK23: 0.9 | AM23: 0.9 | AO23: 0.9 | AP23: 0.9 | AT23: 0.9 | AU23: 0.9 | AV23: 0.65 | AW23: 0.95 | AX23: 0.95 | AY23: 0.95 | AZ23: 0.65 | BA23: 0.95 | BB23: 0.65 | BC23: 0.95 | BF23: 0.65 | BH23: 0.5 | BJ23: 0.65 | BL23: 0.89 | BR23: 0.65 | BS23: 0.85 | BT23: 0.85 | BU23: 0.85 | BV23: 0.65 | BX23: 0.85 | BY23: 0.85 | BZ23: 0.85 | CA23: 0.85 | CB23: 0.65 | CC23: 0.95 | CD23: 0.95 | CE23: 0.95 | CF23: 0.65 | CG23: 0.95 | CH23: 0.65 | CI23: 0.95 | CJ23: 0.65 | CL23: 0.65 | CN23: 0.65 | CP23: 0.65 | CQ23: 0.89 | CR23: 0.65 | CT23: 0.65 | CV23: 0.65 | CW23: 0.85 | CX23: 0.85 | CY23: 0.85 | CZ23: 0.65 | DC23: 0.85 | DD23: 0.85 | DE23: 0.65 | DF23: 0.65 | DG23: 0.65 | DH23: 0.95 | DI23: 0.95 | DJ23: 0.95 | DK23: 0.65 | DL23: 0.95 | DM23: 0.65 | DN23: 0.95 | DO23: 0.89 | DP23: 0.89 | DQ23: 0.65 | DS23: 0.65 | DW23: 0.85 | DX23: 0.85 | DY23: 0.85 | DZ23: 0.85 | EG23: Non-Geographic TDC Multiplier – Homeless Demographic | EH23: 0.9 | EI23: 0.85 | EJ23: 0.85 | EK23: 0.85
A24: Collier | I24: 2026/2027 | J24: 2025/2026 | K24: 2024/2025 | L24: 2023/2024 | M24: 2022/2023 | Z24: 0.95 | AA24: 0.95 | AB24: 0.95 | AC24: 0.95 | AF24: 0.95 | AG24: 0.95 | AI24: 0.95 | AJ24: 0.95 | AK24: 0.95 | AO24: 0.95 | AP24: 0.95 | AT24: 0.95 | AU24: 0.95 | AV24: 0.5 | AZ24: 0.5 | BB24: 0.5 | BF24: 0.5 | BJ24: 0.5 | BR24: 0.5 | BT24: 0.9 | BU24: 0.9 | BV24: 0.5 | BX24: 0.9 | BY24: 0.9 | BZ24: 0.9 | CA24: 0.9 | CB24: 0.5 | CF24: 0.5 | CH24: 0.5 | CJ24: 0.5 | CL24: 0.5 | CN24: 0.5 | CP24: 0.5 | CR24: 0.5 | CT24: 0.5 | CV24: 0.5 | CX24: 0.9 | CY24: 0.9 | CZ24: 0.5 | DC24: 0.9 | DD24: 0.9 | DE24: 0.5 | DF24: 0.5 | DG24: 0.5 | DK24: 0.5 | DM24: 0.5 | DQ24: 0.5 | DS24: 0.5 | DW24: 0.9 | DX24: 0.9 | DY24: 0.9 | DZ24: 0.9 | EG24: Non-Geographic TDC Multiplier – Demographic Commitment of either Persons with a Disabling Condition or Persons with Developmental Disabilities | EH24: 0.9 | EI24: 0.85 | EJ24: 0.85 | EK24: 0.85
A25: Columbia | I25: 2026/2027 | J25: 2025/2026 | K25: 2024/2025 | L25: 2023/2024 | M25: 2022/2023 | Z25: 0.65 | AA25: 0.65 | AB25: 0.95 | AC25: 0.95 | AE25: ` | AF25: 0.65 | AG25: 0.95 | AI25: 0.65 | AJ25: 0.65 | AK25: 0.95 | AV25: 0.95 | AZ25: 0.95 | BB25: 0.95 | BR25: 0.85 | BT25: 0.85 | BU25: 0.85 | BX25: 0.85 | BY25: 0.85 | BZ25: 0.85 | CA25: 0.85 | CB25: 0.95 | CF25: 0.95 | CH25: 0.95 | CV25: 0.85 | CX25: 0.85 | CY25: 0.85 | DC25: 0.85 | DD25: 0.85 | DE25: 0.85 | DF25: 0.85 | DG25: 0.95 | DK25: 0.95 | DM25: 0.95 | DW25: 0.85 | DX25: 0.85 | DY25: 0.85 | DZ25: 0.85 | EG25: Non-Geographic TDC Multiplier – All Developments that consist of 50 total units or less and not located in the Florida Keys Area (reserved for Homeless Demographic serving PDC or PDD) | EH25: 0.9 | EI25: 0.85 | EJ25: 0.85 | EK25: 0.85
A26: DeSoto | J26: 2025/2026 | K26: 2024/2025 | L26: 2023/2024 | M26: 2022/2023 | Z26: 0.5 | AA26: 0.5 | AF26: 0.5 | AI26: 0.5 | AJ26: 0.5 | EG26: Non-Geographic TDC Multiplier – All Developments that consist of more than 50 total units, but not more than 80 total units and not located in the Florida Keys Area (reserved for Homeless Demographic serving PDC or PDD) | EH26: 0.95 | EI26: 0.9 | EJ26: 0.9 | EK26: 0.9
A27: Dixie | J27: 2025/2026 | K27: 2024/2025 | L27: 2023/2024 | M27: 2022/2023 | Z27: 0.95 | AA27: 0.95 | AF27: 0.95 | AI27: 0.95 | AJ27: 0.95 | CB27: 0.89 | CC27: 0.89 | CD27: 0.89 | CE27: 0.89 | CF27: 0.89 | CG27: 0.89 | CH27: 0.89 | CI27: 0.89 | CL27: 0.89 | CM27: 0.89 | CP27: 0.89 | CV27: 0.89 | CW27: 0.89 | CX27: 0.89 | CY27: 0.89 | CZ27: 0.89 | DA27: 0.89 | DC27: 0.89 | DD27: 0.89 | DE27: 0.89 | DF27: 0.89 | DG27: 0.89 | DH27: 0.89 | DI27: 0.89 | DJ27: 0.89 | DK27: 0.89 | DL27: 0.89 | DM27: 0.89 | DN27: 0.89 | DQ27: 0.89 | DR27: 0.89 | DS27: 0.89 | DT27: 0.89 | DW27: 0.89 | DX27: 0.89 | DY27: 0.89 | DZ27: 0.89 | EG27: Non-Geographic TDC Multiplier – Any Applicant which (i) either has a land lease with a PHA for the proposed Development’s location or the Applicant provided an Option to Enter into a Ground Lease Agreement on property where the proposed Development is to be located; AND the property which has a Declaration of Trust between the PHA and HUD; or (ii) has a PHA or an instrumentality of a PHA as a Principal | EH27: N/A | EI27: 0.89 | EJ27: 0.89 | EK27: 0.89
A28: Duval | J28: 2025/2026 | K28: 2024/2025 | L28: 2023/2024 | M28: 2022/2023 | EG28: Non-Geographic TDC Multiplier – For Applications that do not qualify for the PHA Multiplier and are receiving funding from the Corporation which are directly generating expenses related to Davis-Bacon costs, if applicable | EH28: N/A | EI28: 0.89 | EJ28: 0.89 | EK28: 0.89
A29: Escambia | J29: 2026/2027 | K29: 2025/2026 | L29: 2024/2025 | M29: 2022/2023 | O29: Types | P29: =$P$3 -> RFA 2023-102 | Q29: =$Q$3 -> RFA 2023-102SF | R29: =$R$3 -> RFA 2023-103 | S29: =$S$3 -> RFA 2023-103SF | T29: =$T$3 -> RFA 2023-104 | U29: =$U$3 -> RFA 2023-104SF | V29: =$V$3 -> RFA 2023-105 | W29: =$W$3 -> RFA 2023-106 | X29: =$X$3 -> RFA 2023-106SF | Y29: =$Y$3 -> RFA 2023-108 | Z29: =$Z$3 -> RFA 2023-201 | AA29: =$AA$3 -> RFA 2023-202 | AB29: =$AB$3 -> RFA 2023-202SF | AC29: =$AC$3 -> RFA 2023-203SF | AD29: RFA 2023-204 | AE29: RFA 2023-204SF | AF29: =$AF$3 -> RFA 2023-205 | AG29: =$AG$3 -> RFA 2023-205SF | AH29: =$AH$3 -> RFA 2023-211 | AI29: =$AI$3 -> RFA 2023-212 | AJ29: =$AJ$3 -> RFA 2023-213 | AK29: =AK$3 -> RFA 2023-213SF | AL29: =$AL$3 -> RFA 2023-304 | AM29: =$AM$3 -> RFA 2024-102 | AN29: =$AN$3 -> RFA 2024-102SF | AO29: =$AO$3 -> RFA 2024-103 | AP29: =$AP$3 -> RFA 2024-103SF | AQ29: =$AQ$3 -> RFA 2024-104 | AR29: =$AR$3 -> RFA 2024-104SF | AS29: =$AS$3 -> RFA 2024-105 | AT29: =AT3 -> RFA 2024-106 | AU29: =AU3 -> RFA 2024-106SF | AV29: =AV3 -> RFA 2024-201 | AW29: =AW3 -> RFA 2024-202 | AX29: =AX3 -> RFA 2024-202SF | AY29: =AY3 -> RFA 2024-203 | AZ29: =AZ3 -> RFA 2024-204 | BA29: =BA3 -> RFA 2024-204SF | ... BC29: =BC3 -> RFA 2024-205SF | BD29: =$BD$3 -> RFA 2024-206 | BE29: =BE3 -> RFA 2024-206SF | BF29: =$BF$3 -> RFA 2024-213 | BG29: =$BG$3 -> RFA 2024-213SF | BH29: =BH3 -> RFA 2024-214 | BI29: =BI3 -> RFA 2024-214SF | BJ29: =BJ3 -> RFA 2024-215 | BK29: =BK3 -> RFA 2024-215SF | BL29: =BL3 -> RFA 2024-216 | BM29: =BM3 -> RFA 2024-216SF | BN29: =BN3 -> RFA 2024-305 | BO29: =BO3 -> RFA 2024-305SF | ... BY29: =BY3 -> RFA 2025-106SF | BZ29: =$BZ$3 -> RFA 2025-108 | CA29: =$CA$3 -> RFA 2025-108SF | CB29: =CB3 -> RFA 2025-201 | CC29: =CC3 -> RFA 2025-202 | CD29: =CD3 -> RFA 2025-202SF | CE29: =CE3 -> RFA 2025-203 | CF29: =CF3 -> RFA 2025-204 | CG29: =CG3 -> RFA 2025-204SF | CH29: =CH3 -> RFA 2025-205 | CI29: =CI3 -> RFA 2025-205SF | ... CK29: =CK3 -> RFA 2025-206SF | CL29: =CL20 -> RFA 2025-212 | CM29: =CM20 -> RFA 2025-212SF | CN29: =CN20 -> RFA 2025-213 | CO29: =CO20 -> RFA 2025-213SF | CP29: =CP3 -> RFA 2025-214 | CQ29: =CQ3 -> RFA 2025-214SF | CR29: =CR3 -> RFA 2025-215 | CS29: =CS3 -> RFA 2025-215SF | CT29: =CT3 -> RFA 2025-216 | CU29: =CU3 -> RFA 2025-216SF | CV29: =CV3 -> RFA 2026-102 | CW29: =CW3 -> RFA 2026-102SF | ... CY29: =CY3 -> RFA 2026-103SF | CZ29: =CZ20 -> RFA 2026-104 | DA29: =DA20 -> RFA 2026-104SF | DB29: =DB20 -> RFA 2026-105 | DC29: =DC3 -> RFA 2026-106 | DD29: =DD3 -> RFA 2026-106SF | DE29: =$DE$3 -> RFA 2026-108 | DF29: =$DF$3 -> RFA 2026-108SF | DG29: =DG3 -> RFA 2026-201 | DH29: =DH3 -> RFA 2026-202 | DI29: =DI3 -> RFA 2026-202SF | DJ29: =DJ3 -> RFA 2026-203 | DK29: =DK3 -> RFA 2026-204 | DL29: =DL3 -> RFA 2026-204SF | DM29: RFA 2026-205 | DN29: RFA 2026-205SF | DO29: =DO3 -> RFA 2026-206 | DP29: =DP3 -> RFA 2026-206SF | DQ29: =DQ3 -> RFA 2026-212 | DR29: =DR3 -> RFA 2026-212SF | DS29: =DS3 -> RFA 2026-216 | DT29: =DT3 -> RFA 2026-216SF | DU29: =DU3 -> RFA 2026-218 | DV29: =DV3 -> RFA 2026-218SF | DW29: =$DW$3 -> RFA 2027-103 | DX29: =$DX$3 -> RFA 2027-103SF | DY29: =$DY$3 -> RFA 2027-106 | DZ29: =$DZ$3 -> RFA 2027-106SF | EG29: Non-Geographic TDC Multiplier – For Applications receiving funding from the Corporation which are directly generating expenses related to Build America, Buy America (BABA) costs, if applicable | EH29: N/A | EI29: N/A | EJ29: 0.89 | EK29: 0.89
