Workbook
Name AddOns: Data!$P$2:$JC$4
Name AddOns2: Data!$P$6:$JC$8
Name AppDue: Data!$C$22:$M$39
Name Base01: Data!$P$36:$JC$44
Name Base02: Data!$P$46:$JC$54
Name Base03: Data!$P$56:$JC$64
Name Base04: Data!$P$66:$JC$74
Name Counties: Data!$A$16:$A$83
Name Descriptions: Data!$C$42:$M$59
Name Escalate01: Data!$P$76:$JC$84
Name Escalate02: Data!$P$86:$JC$94
Name Escalate03: Data!$P$96:$JC$104
Name Escalate04: Data!$P$106:$JC$114
Name Escalate05: Data!$P$116:$JC$124
Name Identify: RFA!$C$21:$D$38
Name MultiplierNames: Data!$P$10:$JC$16
Name MultiplierNumbers: Data!$P$18:$JC$24
Name RFAs: Data!$C$2:$M$19
Name SF_RFAs: Data!$C$62:$E$501
Name TDC_Table: RFA!$A$65:$K$72
Name Types: Data!$P$26:$JC$34
Name Year: RFA!$D$15
Name Years: Data!$A$2:$A$13
Name YesNo: Data!$A$85:$A$87

Sheet RFA
A1: TOTAL DEVELOPMENT COST PER UNIT TEMPLATE - Version 04-24-2023_v6
B3: Identify the TDC PU Limitation qualifying date | H3: =IF(H4+H5+H6+H7+H8=0,"STOP: Please select a TDC PU Limitation qualifying date","")
C4: Use the original RFA TDC PU Limitations in effect prior to 6/15/18 Board Meeting | I4: (This option includes all RFAs, but does not incorporate any edits approved by the Board on 06/15/2018)
C5: Use the modified TDC PU Limitation in affect as of the 6/15/18 Board Meeting, or thereafter | I5: (This option includes all RFAs and incorporates the edits approved by the Board on 06/15/2018 for RFA 2014-111 through RFA 2018-108)
C6: Inlcude the 2% increase approved at the 3/6/20 Board Meeting. Must be used joint with above line. | I6: (This option includes all RFAs and incorporates the edits approved by the Board on 03/6/2020 for RFA 2014-111 through RFA 2020-106 & 208 & 302)
C7: Use the modified TDC PU Limitation in affect as of the 7/30/21 Board Meeting, or thereafter | I7: (This option includes all RFAs beginning with 2021-2022 RFA Cycle and incorporates the edits approved by the Board on 07/30/2021 for the 2017/2018 RFA Cycle through the 2020/2021 RFA Cycle - RFA 2017-106 through RFA 2021-108 & 208)
C8: Use the modified TDC PU Limitation in affect as of the 4/1/22 Telephonic Board Meeting, or thereafter | H8: 1 | I8: (This option includes all RFAs beginning with 2019-2020 RFA Cycle and incorporates the edits approved by the Board on 04/01/2022 for the 2019/2020 RFA Cycle through the 2021/2022 RFA Cycle - RFA 2019-101 through RFA 2019-103 & RFA 2019-111 through the 2021/2022 RFA Cycle final RFA. It also incorporates the edits approved by the Board on 04/29/2022 for the Hurricane Recovery RFA's 2018-115, 2019-109 & 2019-110)
B10: Identify the Development
C11: Application #
C12: Name
C13: County | D13: <select from menu> | F13: =IF(D13="","STOP: Please select a County","")
B15: What year was the RFA issued? | D15: <select from menu>
B17: Questions below will ask to identify certain criteria. This can be done by entering a "1" in the cell to the left of the appropriate criteria.
B19: ="Identify which"&IF(N(D15)>2012," "&D15,"")&" RFA under which the Development was funded." -> Identify which RFA under which the Development was funded.
D20: RFA | E20: Application Deadline | G20: RFA Description
D21: =IFERROR(IF(Year=Data!A$2," ",CHOOSE(Year-2012,Data!M2,Data!L2,Data!K2,Data!J2,Data!I2,Data!H2,Data!G2,Data!F2,Data!E2,Data!D2,Data!C2)),"") | E21: =IFERROR(IF(Year=Data!A$2," ",CHOOSE(Year-2012,Data!M22,Data!L22,Data!K22,Data!J22,Data!I22,Data!H22,Data!G22,Data!F22,Data!E22,Data!D22,Data!C22)),"") | G21: =IFERROR(IF(Year=Data!A$2," ",CHOOSE(Year-2012,Data!M42,Data!L42,Data!K42,Data!J42,Data!I42,Data!H42,Data!G42,Data!F42,Data!E42,Data!D42,Data!C42)),"")
D22: =IFERROR(IF(Year=Data!A$2," ",CHOOSE(Year-2012,Data!M3,Data!L3,Data!K3,Data!J3,Data!I3,Data!H3,Data!G3,Data!F3,Data!E3,Data!D3,Data!C3)),"") | E22: =IFERROR(IF(Year=Data!A$2," ",CHOOSE(Year-2012,Data!M23,Data!L23,Data!K23,Data!J23,Data!I23,Data!H23,Data!G23,Data!F23,Data!E23,Data!D23,Data!C23)),"") | G22: =IFERROR(IF(Year=Data!A$2," ",CHOOSE(Year-2012,Data!M43,Data!L43,Data!K43,Data!J43,Data!I43,Data!H43,Data!G43,Data!F43,Data!E43,Data!D43,Data!C43)),"")
D23: =IFERROR(IF(Year=Data!A$2," ",CHOOSE(Year-2012,Data!M4,Data!L4,Data!K4,Data!J4,Data!I4,Data!H4,Data!G4,Data!F4,Data!E4,Data!D4,Data!C4)),"") | E23: =IFERROR(IF(Year=Data!A$2," ",CHOOSE(Year-2012,Data!M24,Data!L24,Data!K24,Data!J24,Data!I24,Data!H24,Data!G24,Data!F24,Data!E24,Data!D24,Data!C24)),"") | G23: =IFERROR(IF(Year=Data!A$2," ",CHOOSE(Year-2012,Data!M44,Data!L44,Data!K44,Data!J44,Data!I44,Data!H44,Data!G44,Data!F44,Data!E44,Data!D44,Data!C44)),"")
D24: =IFERROR(IF(Year=Data!A$2," ",CHOOSE(Year-2012,Data!M5,Data!L5,Data!K5,Data!J5,Data!I5,Data!H5,Data!G5,Data!F5,Data!E5,Data!D5,Data!C5)),"") | E24: =IFERROR(IF(Year=Data!A$2," ",CHOOSE(Year-2012,Data!M25,Data!L25,Data!K25,Data!J25,Data!I25,Data!H25,Data!G25,Data!F25,Data!E25,Data!D25,Data!C25)),"") | G24: =IFERROR(IF(Year=Data!A$2," ",CHOOSE(Year-2012,Data!M45,Data!L45,Data!K45,Data!J45,Data!I45,Data!H45,Data!G45,Data!F45,Data!E45,Data!D45,Data!C45)),"")
D25: =IFERROR(IF(Year=Data!A$2," ",CHOOSE(Year-2012,Data!M6,Data!L6,Data!K6,Data!J6,Data!I6,Data!H6,Data!G6,Data!F6,Data!E6,Data!D6,Data!C6)),"") | E25: =IFERROR(IF(Year=Data!A$2," ",CHOOSE(Year-2012,Data!M26,Data!L26,Data!K26,Data!J26,Data!I26,Data!H26,Data!G26,Data!F26,Data!E26,Data!D26,Data!C26)),"") | G25: =IFERROR(IF(Year=Data!A$2," ",CHOOSE(Year-2012,Data!M46,Data!L46,Data!K46,Data!J46,Data!I46,Data!H46,Data!G46,Data!F46,Data!E46,Data!D46,Data!C46)),"")
D26: =IFERROR(IF(Year=Data!A$2," ",CHOOSE(Year-2012,Data!M7,Data!L7,Data!K7,Data!J7,Data!I7,Data!H7,Data!G7,Data!F7,Data!E7,Data!D7,Data!C7)),"") | E26: =IFERROR(IF(Year=Data!A$2," ",CHOOSE(Year-2012,Data!M27,Data!L27,Data!K27,Data!J27,Data!I27,Data!H27,Data!G27,Data!F27,Data!E27,Data!D27,Data!C27)),"") | G26: =IFERROR(IF(Year=Data!A$2," ",CHOOSE(Year-2012,Data!M47,Data!L47,Data!K47,Data!J47,Data!I47,Data!H47,Data!G47,Data!F47,Data!E47,Data!D47,Data!C47)),"")
D27: =IFERROR(IF(Year=Data!A$2," ",CHOOSE(Year-2012,Data!M8,Data!L8,Data!K8,Data!J8,Data!I8,Data!H8,Data!G8,Data!F8,Data!E8,Data!D8,Data!C8)),"") | E27: =IFERROR(IF(Year=Data!A$2," ",CHOOSE(Year-2012,Data!M28,Data!L28,Data!K28,Data!J28,Data!I28,Data!H28,Data!G28,Data!F28,Data!E28,Data!D28,Data!C28)),"") | G27: =IFERROR(IF(Year=Data!A$2," ",CHOOSE(Year-2012,Data!M48,Data!L48,Data!K48,Data!J48,Data!I48,Data!H48,Data!G48,Data!F48,Data!E48,Data!D48,Data!C48)),"")
D28: =IFERROR(IF(Year=Data!A$2," ",CHOOSE(Year-2012,Data!M9,Data!L9,Data!K9,Data!J9,Data!I9,Data!H9,Data!G9,Data!F9,Data!E9,Data!D9,Data!C9)),"") | E28: =IFERROR(IF(Year=Data!A$2," ",CHOOSE(Year-2012,Data!M29,Data!L29,Data!K29,Data!J29,Data!I29,Data!H29,Data!G29,Data!F29,Data!E29,Data!D29,Data!C29)),"") | G28: =IFERROR(IF(Year=Data!A$2," ",CHOOSE(Year-2012,Data!M49,Data!L49,Data!K49,Data!J49,Data!I49,Data!H49,Data!G49,Data!F49,Data!E49,Data!D49,Data!C49)),"")
D29: =IFERROR(IF(Year=Data!A$2," ",CHOOSE(Year-2012,Data!M10,Data!L10,Data!K10,Data!J10,Data!I10,Data!H10,Data!G10,Data!F10,Data!E10,Data!D10,Data!C10)),"") | E29: =IFERROR(IF(Year=Data!A$2," ",CHOOSE(Year-2012,Data!M30,Data!L30,Data!K30,Data!J30,Data!I30,Data!H30,Data!G30,Data!F30,Data!E30,Data!D30,Data!C30)),"") | G29: =IFERROR(IF(Year=Data!A$2," ",CHOOSE(Year-2012,Data!M50,Data!L50,Data!K50,Data!J50,Data!I50,Data!H50,Data!G50,Data!F50,Data!E50,Data!D50,Data!C50)),"")
D30: =IFERROR(IF(Year=Data!A$2," ",CHOOSE(Year-2012,Data!M11,Data!L11,Data!K11,Data!J11,Data!I11,Data!H11,Data!G11,Data!F11,Data!E11,Data!D11,Data!C11)),"") | E30: =IFERROR(IF(Year=Data!A$2," ",CHOOSE(Year-2012,Data!M31,Data!L31,Data!K31,Data!J31,Data!I31,Data!H31,Data!G31,Data!F31,Data!E31,Data!D31,Data!C31)),"") | G30: =IFERROR(IF(Year=Data!A$2," ",CHOOSE(Year-2012,Data!M51,Data!L51,Data!K51,Data!J51,Data!I51,Data!H51,Data!G51,Data!F51,Data!E51,Data!D51,Data!C51)),"")
D31: =IFERROR(IF(Year=Data!A$2," ",CHOOSE(Year-2012,Data!M12,Data!L12,Data!K12,Data!J12,Data!I12,Data!H12,Data!G12,Data!F12,Data!E12,Data!D12,Data!C12)),"") | E31: =IFERROR(IF(Year=Data!A$2," ",CHOOSE(Year-2012,Data!M32,Data!L32,Data!K32,Data!J32,Data!I32,Data!H32,Data!G32,Data!F32,Data!E32,Data!D32,Data!C32)),"") | G31: =IFERROR(IF(Year=Data!A$2," ",CHOOSE(Year-2012,Data!M52,Data!L52,Data!K52,Data!J52,Data!I52,Data!H52,Data!G52,Data!F52,Data!E52,Data!D52,Data!C52)),"")
D32: =IFERROR(IF(Year=Data!A$2," ",CHOOSE(Year-2012,Data!M13,Data!L13,Data!K13,Data!J13,Data!I13,Data!H13,Data!G13,Data!F13,Data!E13,Data!D13,Data!C13)),"") | E32: =IFERROR(IF(Year=Data!A$2," ",CHOOSE(Year-2012,Data!M33,Data!L33,Data!K33,Data!J33,Data!I33,Data!H33,Data!G33,Data!F33,Data!E33,Data!D33,Data!C33)),"") | G32: =IFERROR(IF(Year=Data!A$2," ",CHOOSE(Year-2012,Data!M53,Data!L53,Data!K53,Data!J53,Data!I53,Data!H53,Data!G53,Data!F53,Data!E53,Data!D53,Data!C53)),"")
... D38: =IFERROR(IF(Year=Data!A$2," ",CHOOSE(Year-2012,Data!M19,Data!L19,Data!K19,Data!J19,Data!I19,Data!H19,Data!G19,Data!F19,Data!E19,Data!D19,Data!C19)),"") | E38: =IFERROR(IF(Year=Data!A$2," ",CHOOSE(Year-2012,Data!M39,Data!L39,Data!K39,Data!J39,Data!I39,Data!H39,Data!G39,Data!F39,Data!E39,Data!D39,Data!C39)),"") | G38: =IFERROR(IF(Year=Data!A$2," ",CHOOSE(Year-2012,Data!M59,Data!L59,Data!K59,Data!J59,Data!I59,Data!H59,Data!G59,Data!F59,Data!E59,Data!D59,Data!C59)),"")
B40: ="Identify the appropriate TDC Add-Ons"&IF(ISERROR(VLOOKUP(1,Identify,2)),""," for"&RIGHT(VLOOKUP(1,Identify,2),LEN(VLOOKUP(1,Identify,2))-1)&". Select mutliple choices if applicable.") -> Identify the appropriate TDC Add-Ons | G40: Automatically Applies
B41: =IFERROR(IFERROR(HLOOKUP(IFERROR(VLOOKUP(1,Identify,2)&IF(OR(AND(OR($D$13="Broward",$D$13="Miami-Dade"),VLOOKUP(VLOOKUP(1,Identify,2),SF_RFAs,2)="Y"),AND(OR($D$13="Broward",$D$13="Miami-Dade",$D$13="Palm Beach"),VLOOKUP(VLOOKUP(1,Identify,2),SF_RFAs,3)="Y")),"SF","")," "),AddOns2,2+COUNTA(D$40:D40)),"")-IFERROR(OR(AND((HLOOKUP((VLOOKUP(1,Identify,2)),AddOns2,2+COUNTA(D$40:D40))=7500),H4=1),AND((HLOOKUP((VLOOKUP(1,Identify,2)),AddOns2,2+COUNTA(D$40:D40))=7500),H5=1),AND((HLOOKUP((VLOOKUP(1,Identify,2)),AddOns2,2+COUNTA(D$40:D40))=7500),H5=1,H6=1),AND((HLOOKUP((VLOOKUP(1,Identify,2)),AddOns2,2+COUNTA(D$40:D40))=7500),H6=1))*2500,""),"") | D41: =IFERROR(HLOOKUP(IFERROR(VLOOKUP(1,Identify,2)&IF(OR(AND(OR($D$13="Broward",$D$13="Miami-Dade"),VLOOKUP(VLOOKUP(1,Identify,2),SF_RFAs,2)="Y"),AND(OR($D$13="Broward",$D$13="Miami-Dade",$D$13="Palm Beach"),VLOOKUP(VLOOKUP(1,Identify,2),SF_RFAs,3)="Y")),"SF","")," "),AddOns,2+COUNTA(D$40:D40))," ") | G41: =IF(OR(AND($D41="HOME Boost (Post 6/15/2018 Board Meeting Only)",SUM($H$5+$H$6+$H$7>0)),AND($D41="Tax-Exempt Bonds Boost (Post 6/15/2018 Board Meeting Only)",SUM($H$5+$H$6+$H$7>0)),AND($D41="Tax-Exempt Bonds Boost (Automatic Boost)"),AND($D41="Federal Programs Boost"),AND($D41="HOME Boost (Automatic Boost)")),1,"")
B42: =IFERROR(IFERROR(HLOOKUP(IFERROR(VLOOKUP(1,Identify,2)&IF(OR(AND(OR($D$13="Broward",$D$13="Miami-Dade"),VLOOKUP(VLOOKUP(1,Identify,2),SF_RFAs,2)="Y"),AND(OR($D$13="Broward",$D$13="Miami-Dade",$D$13="Palm Beach"),VLOOKUP(VLOOKUP(1,Identify,2),SF_RFAs,3)="Y")),"SF","")," "),AddOns2,2+COUNTA(D$40:D41)),"")-IFERROR(OR(AND((HLOOKUP((VLOOKUP(1,Identify,2)),AddOns2,2+COUNTA(D$40:D41))=7500),H4=1),AND((HLOOKUP((VLOOKUP(1,Identify,2)),AddOns2,2+COUNTA(D$40:D41))=7500),H5=1),AND((HLOOKUP((VLOOKUP(1,Identify,2)),AddOns2,2+COUNTA(D$40:D41))=7500),H5=1,H6=1),AND((HLOOKUP((VLOOKUP(1,Identify,2)),AddOns2,2+COUNTA(D$40:D41))=7500),H6=1))*2500,""),"") | D42: =IFERROR(HLOOKUP(IFERROR(VLOOKUP(1,Identify,2)&IF(OR(AND(OR($D$13="Broward",$D$13="Miami-Dade"),VLOOKUP(VLOOKUP(1,Identify,2),SF_RFAs,2)="Y"),AND(OR($D$13="Broward",$D$13="Miami-Dade",$D$13="Palm Beach"),VLOOKUP(VLOOKUP(1,Identify,2),SF_RFAs,3)="Y")),"SF","")," "),AddOns,2+COUNTA(D$40:D41))," ") | G42: =IF(OR(AND($D42="HOME Boost (Post 6/15/2018 Board Meeting Only)",SUM($H$5+$H$6+$H$7>0)),AND($D42="Tax-Exempt Bonds Boost (Post 6/15/2018 Board Meeting Only)",SUM($H$5+$H$6+$H$7>0)),AND($D42="Tax-Exempt Bonds Boost (Automatic Boost)"),AND($D42="Federal Programs Boost"),AND($D42="HOME Boost (Automatic Boost)")),1,"")
D43: Board Approved One-Off Modification
B45: ="Identify the appropriate TDC Multipliers"&IF(ISERROR(VLOOKUP(1,Identify,2)),""," for"&RIGHT(VLOOKUP(1,Identify,2),LEN(VLOOKUP(1,Identify,2))-1)&". Select mutliple choices if applicable.") -> Identify the appropriate TDC Multipliers
B46: =IFERROR(HLOOKUP(IFERROR(VLOOKUP(1,Identify,2)&IF(OR(AND(OR($D$13="Broward",$D$13="Miami-Dade"),VLOOKUP(VLOOKUP(1,Identify,2),SF_RFAs,2)="Y"),AND(OR($D$13="Broward",$D$13="Miami-Dade",$D$13="Palm Beach"),VLOOKUP(VLOOKUP(1,Identify,2),SF_RFAs,3)="Y")),"SF","")," "),MultiplierNumbers,2+COUNTA(D$45:D45))," ") | D46: =IFERROR(HLOOKUP(IFERROR(VLOOKUP(1,Identify,2)&IF(OR(AND(OR($D$13="Broward",$D$13="Miami-Dade"),VLOOKUP(VLOOKUP(1,Identify,2),SF_RFAs,2)="Y"),AND(OR($D$13="Broward",$D$13="Miami-Dade",$D$13="Palm Beach"),VLOOKUP(VLOOKUP(1,Identify,2),SF_RFAs,3)="Y")),"SF","")," "),MultiplierNames,2+COUNTA(D$45:D45))," ") | G46: =IF(OR(D46="DD Demo. in a Large Dev.",D46="PSN Demographic multiplier",D46="Homeless Demographic (Automatic Multiplier)",D46="Homeless Demographic & PDC",D46="Homeless Demographic (Automatic Multiplier)",D46="High Utilizer Demographic (Automatic Multiplier)"),1,"")
B47: =IFERROR(HLOOKUP(IFERROR(VLOOKUP(1,Identify,2)&IF(OR(AND(OR($D$13="Broward",$D$13="Miami-Dade"),VLOOKUP(VLOOKUP(1,Identify,2),SF_RFAs,2)="Y"),AND(OR($D$13="Broward",$D$13="Miami-Dade",$D$13="Palm Beach"),VLOOKUP(VLOOKUP(1,Identify,2),SF_RFAs,3)="Y")),"SF","")," "),MultiplierNumbers,2+COUNTA(D$45:D46))," ") | D47: =IFERROR(HLOOKUP(IFERROR(VLOOKUP(1,Identify,2)&IF(OR(AND(OR($D$13="Broward",$D$13="Miami-Dade"),VLOOKUP(VLOOKUP(1,Identify,2),SF_RFAs,2)="Y"),AND(OR($D$13="Broward",$D$13="Miami-Dade",$D$13="Palm Beach"),VLOOKUP(VLOOKUP(1,Identify,2),SF_RFAs,3)="Y")),"SF","")," "),MultiplierNames,2+COUNTA(D$45:D46))," ") | G47: =IF(OR(D47="DD Demo. in a Large Dev.",D47="PSN Demographic multiplier",D47="Homeless Demographic (Automatic Multiplier)",D47="Homeless Demographic & PDC",D47="Homeless Demographic (Automatic Multiplier)",D47="High Utilizer Demographic (Automatic Multiplier)"),1,"")
B48: =IFERROR(HLOOKUP(IFERROR(VLOOKUP(1,Identify,2)&IF(OR(AND(OR($D$13="Broward",$D$13="Miami-Dade"),VLOOKUP(VLOOKUP(1,Identify,2),SF_RFAs,2)="Y"),AND(OR($D$13="Broward",$D$13="Miami-Dade",$D$13="Palm Beach"),VLOOKUP(VLOOKUP(1,Identify,2),SF_RFAs,3)="Y")),"SF","")," "),MultiplierNumbers,2+COUNTA(D$45:D47))," ") | D48: =IFERROR(HLOOKUP(IFERROR(VLOOKUP(1,Identify,2)&IF(OR(AND(OR($D$13="Broward",$D$13="Miami-Dade"),VLOOKUP(VLOOKUP(1,Identify,2),SF_RFAs,2)="Y"),AND(OR($D$13="Broward",$D$13="Miami-Dade",$D$13="Palm Beach"),VLOOKUP(VLOOKUP(1,Identify,2),SF_RFAs,3)="Y")),"SF","")," "),MultiplierNames,2+COUNTA(D$45:D47))," ") | G48: =IF(OR(D48="DD Demo. in a Large Dev.",D48="PSN Demographic multiplier",D48="Homeless Demographic (Automatic Multiplier)",D48="Homeless Demographic & PDC",D48="Homeless Demographic (Automatic Multiplier)",D48="High Utilizer Demographic (Automatic Multiplier)"),1,"")
B49: =IFERROR(HLOOKUP(IFERROR(VLOOKUP(1,Identify,2)&IF(OR(AND(OR($D$13="Broward",$D$13="Miami-Dade"),VLOOKUP(VLOOKUP(1,Identify,2),SF_RFAs,2)="Y"),AND(OR($D$13="Broward",$D$13="Miami-Dade",$D$13="Palm Beach"),VLOOKUP(VLOOKUP(1,Identify,2),SF_RFAs,3)="Y")),"SF","")," "),MultiplierNumbers,2+COUNTA(D$45:D48))," ") | D49: =IFERROR(HLOOKUP(IFERROR(VLOOKUP(1,Identify,2)&IF(OR(AND(OR($D$13="Broward",$D$13="Miami-Dade"),VLOOKUP(VLOOKUP(1,Identify,2),SF_RFAs,2)="Y"),AND(OR($D$13="Broward",$D$13="Miami-Dade",$D$13="Palm Beach"),VLOOKUP(VLOOKUP(1,Identify,2),SF_RFAs,3)="Y")),"SF","")," "),MultiplierNames,2+COUNTA(D$45:D48))," ") | G49: =IF(OR(D49="DD Demo. in a Large Dev.",D49="PSN Demographic multiplier",D49="Homeless Demographic (Automatic Multiplier)",D49="Homeless Demographic & PDC",D49="Homeless Demographic (Automatic Multiplier)",D49="High Utilizer Demographic (Automatic Multiplier)"),1,"")
B50: =IFERROR(HLOOKUP(IFERROR(VLOOKUP(1,Identify,2)&IF(OR(AND(OR($D$13="Broward",$D$13="Miami-Dade"),VLOOKUP(VLOOKUP(1,Identify,2),SF_RFAs,2)="Y"),AND(OR($D$13="Broward",$D$13="Miami-Dade",$D$13="Palm Beach"),VLOOKUP(VLOOKUP(1,Identify,2),SF_RFAs,3)="Y")),"SF","")," "),MultiplierNumbers,2+COUNTA(D$45:D49))," ") | D50: =IFERROR(HLOOKUP(IFERROR(VLOOKUP(1,Identify,2)&IF(OR(AND(OR($D$13="Broward",$D$13="Miami-Dade"),VLOOKUP(VLOOKUP(1,Identify,2),SF_RFAs,2)="Y"),AND(OR($D$13="Broward",$D$13="Miami-Dade",$D$13="Palm Beach"),VLOOKUP(VLOOKUP(1,Identify,2),SF_RFAs,3)="Y")),"SF","")," "),MultiplierNames,2+COUNTA(D$45:D49))," ") | G50: =IF(OR(D50="DD Demo. in a Large Dev.",D50="PSN Demographic multiplier",D50="Homeless Demographic (Automatic Multiplier)",D50="Homeless Demographic & PDC",D50="Homeless Demographic (Automatic Multiplier)",D50="High Utilizer Demographic (Automatic Multiplier)"),1,"")
B51: =IFERROR(HLOOKUP(IFERROR(VLOOKUP(1,Identify,2)&IF(OR(AND(OR($D$13="Broward",$D$13="Miami-Dade"),VLOOKUP(VLOOKUP(1,Identify,2),SF_RFAs,2)="Y"),AND(OR($D$13="Broward",$D$13="Miami-Dade",$D$13="Palm Beach"),VLOOKUP(VLOOKUP(1,Identify,2),SF_RFAs,3)="Y")),"SF","")," "),MultiplierNumbers,2+COUNTA(D$45:D50))," ") | D51: =IFERROR(HLOOKUP(IFERROR(VLOOKUP(1,Identify,2)&IF(OR(AND(OR($D$13="Broward",$D$13="Miami-Dade"),VLOOKUP(VLOOKUP(1,Identify,2),SF_RFAs,2)="Y"),AND(OR($D$13="Broward",$D$13="Miami-Dade",$D$13="Palm Beach"),VLOOKUP(VLOOKUP(1,Identify,2),SF_RFAs,3)="Y")),"SF","")," "),MultiplierNames,2+COUNTA(D$45:D50))," ") | G51: =IF(OR(D51="DD Demo. in a Large Dev.",D51="PSN Demographic multiplier",D51="Homeless Demographic (Automatic Multiplier)",D51="Homeless Demographic & PDC",D51="Homeless Demographic (Automatic Multiplier)",D51="High Utilizer Demographic (Automatic Multiplier)"),1,"")
B53: Identify the number and Development Category of all residential units | G53: =IF(OR(H57="Not In Balance",I57="Not In Balance"),"STOP: The unit mix is not in balance","")
...

Sheet CUR
B1: DF=Developer Fee; NC=New Construction; TDC=Total Development Cost; CUR=Credit Underwriting Report; CU=Credit Underwriter; Cells with a yellow background are input cells. Each input cell includes a comment to assist with the input. | D1: TDC Review
D2: At CUR
B4: Application # of Subject Development | D4: =IF(CELL("type",RFA!D11)="b","",RFA!D11)
B5: Name of Subject Development | D5: =IF(CELL("type",RFA!D12)="b","",RFA!D12)
B6: Applicable Competitive Application | D6: =IFERROR(VLOOKUP(1,RFA!C21:D38,2,FALSE),"")
B7: NC Units | D7: =RFA!B55+RFA!B57 -> 0 | G7: =RFA!H57
B8: Rehab Units | D8: =RFA!C56+RFA!C57 -> 0 | G8: =RFA!I57
B9: Maximum Developer Fee (%) | D9: 0.16 | G9: (16%, 18%, 21%, 10% and a Board Approved option)
B10: TDC Per Unit Limitiation, Inclusive of Add-on, Multiplier, and Escalation Adjustment | D10: =RFA!I73 -> 0 | G10: =IF(N(D10)=0,"",IF(RFA!L64=1,"[ ( "&TEXT(_xlfn.XLOOKUP(1,RFA!N65:N72,RFA!E65:E72),"$#,##0")&" Base + "&TEXT(_xlfn.XLOOKUP(1,RFA!N65:N72,RFA!F65:F72),"$#,##0")&" Add-On ) x ( 1+ "&TEXT(N(_xlfn.XLOOKUP(1,RFA!N65:N72,RFA!H65:H72)),"0.00%")&" Escalation Rate ) ÷ "&TEXT(IF(_xlfn.XLOOKUP(1,RFA!N65:N72,RFA!G65:G72)=0,100%,_xlfn.XLOOKUP(1,RFA!N65:N72,RFA!G65:G72)),"0%")&" Multiplier ]","[ ( [ ( "&TEXT(_xlfn.XLOOKUP(1,RFA!N65:N72,RFA!E65:E72),"$#,##0")&" Base + "&TEXT(_xlfn.XLOOKUP(1,RFA!N65:N72,RFA!F65:F72),"$#,##0")&" Add-On ) x "&TEXT(_xlfn.XLOOKUP(1,RFA!N65:N72,RFA!C65:C72),"0")&" Units x ( 1 + "&TEXT(N(_xlfn.XLOOKUP(1,RFA!N65:N72,RFA!H65:H72)),"0.00%")&" Escalation Rate ) + ( "&TEXT(_xlfn.XLOOKUP(2,RFA!N65:N72,RFA!E65:E72),"$#,##0")&" Base + "&TEXT(_xlfn.XLOOKUP(1,RFA!N65:N72,RFA!F65:F72),"$#,##0")&" Add-On ) x "&TEXT(_xlfn.XLOOKUP(2,RFA!N65:N72,RFA!C65:C72),"0")&" Units x ( 1+ "&TEXT(N(_xlfn.XLOOKUP(2,RFA!N65:N72,RFA!H65:H72)),"0.00%")&" Escalation Rate ) "&IF(RFA!L64>2,"+ ( "&TEXT(_xlfn.XLOOKUP(3,RFA!N65:N72,RFA!E65:E72),"$#,##0")&" Base + "&TEXT(_xlfn.XLOOKUP(3,RFA!N65:N72,RFA!F65:F72),"$#,##0")&" Add-On ) x "&TEXT(_xlfn.XLOOKUP(3,RFA!N65:N72,RFA!C65:C72),"0")&" Units x ( 1+ "&TEXT(N(_xlfn.XLOOKUP(3,RFA!N65:N72,RFA!H65:H72)),"0.00%")&" Escalation Rate )","")&" ] ÷ "&TEXT(RFA!E55,"0")&" Units ) ÷ "&TEXT(IF(_xlfn.XLOOKUP(1,RFA!N65:N72,RFA!G65:G72)=0,100%,_xlfn.XLOOKUP(1,RFA!N65:N72,RFA!G65:G72)),"0%")&" Multiplier ] "))
B11: Total Number of Units | D11: =D7+D8 -> 0
B12: TDC $ Limitiation, Inclusive of Add-on, Multiplier, and Escalation Adjustment | D12: =ROUNDDOWN(D10*D11,$J$12)+G12 -> 0 | G12: =J96*0 -> 0 | H12: =IF(AND(H86>0,H87>0,I86>0,I87>0),"Workout Adjustment","") | J12: 0 | K12: Rounddown to how many decimals? (Default=0)
B13: The lesser of actual cost or appraised value of the Building Allocation | D13: =-D26 -> 0
B14: ="Demolition Costs "&IF(OR(D6=" RFA 2019-101",D6=" RFA 2019-102",D6=" RFA 2019-103",D6=" RFA 2019-111",D6=" RFA 2019-117",D6=" RFA 2019-112",D6=" RFA 2019-113",D6=" RFA 2019-114",D6=" RFA 2019-115",D6=" RFA 2019-116",D6=" RFA 2019-118",LEFT(D6,10)=" RFA 2020",LEFT(D6,10)=" RFA 2021",LEFT(D6,10)=" RFA 2022",LEFT(D6,10)=" RFA 2023"),"(if applicable)","(if PHA and if applicable)") -> Demolition Costs (if PHA and if applicable) | D14: =-D28 -> 0
B15: ="Relocation Costs "&IF(OR(D6=" RFA 2019-101",D6=" RFA 2019-102",D6=" RFA 2019-103",D6=" RFA 2019-111",D6=" RFA 2019-117",D6=" RFA 2019-112",D6=" RFA 2019-113",D6=" RFA 2019-114",D6=" RFA 2019-115",D6=" RFA 2019-116",D6=" RFA 2019-118",LEFT(D6,10)=" RFA 2020",LEFT(D6,10)=" RFA 2021",LEFT(D6,10)=" RFA 2022",LEFT(D6,10)=" RFA 2023"),"(if applicable)","(if PHA and if applicable)") -> Relocation Costs (if PHA and if applicable) | D15: =-D29 -> 0
B16: Retail/Commerical Space | D16: =-D30 -> 0
B17: Other Costs that are subject to a Developer Fee | D17: =IF(D32=1,D31,0) -> 0
B18: Maximum Development Costs and Developer Fee | D18: =SUM(D12:D17) -> 0
B19: ="Development Costs to which a "&TEXT(D9,IF(AND(D9=B90,B90<>TRUNC(B90,2)),"0.00000000%","0%"))&" Developer Fee is calculated using above maximum and other actual costs" -> Development Costs to which a 16% Developer Fee is calculated using above maximum and other actual costs | D19: =D12+D13+D14+D15+D16+D17-ROUNDDOWN((D12+D13+D14+D15+D16+D17)/(1+D9)*D9,0) -> 0 | G19: =IF(D9>18%,"(Inclusive of the ODR portion of the Dev Fee)","")
B20: ="Above line multiplied by "&TEXT(D9,IF(AND(D9=B90,B90<>TRUNC(B90,2)),"0.00000000%","0%"))&" to determine gross maximum allowable Dev Fee (DF)" -> Above line multiplied by 16% to determine gross maximum allowable Dev Fee (DF) | D20: =ROUNDDOWN(D19*D9,0) -> 0
B21: =IF(OR(D9=21%,AND(H88>0,H89>0,I88>0,I89>0,D9=B90)),"The maximum non-ODR DF portion of the "&TEXT(D9,IF(AND(D9=B90,B90<>TRUNC(B90,2)),"0.00000000%","0%"))&" DF above that IS subject to DF adjustments","") | D21: =IF(OR(D9>$B$88,AND(H88>0,H89>0,I88>0,I89>0,D9=B90)),ROUNDDOWN(D19*(D9-5%),0),"")
B22: =IF(OR(D9=21%,AND(H88>0,H89>0,I88>0,I89>0,D9=B90)),"The maximum ODR DF portion of the "&TEXT(D9,IF(AND(D9=B90,B90<>TRUNC(B90,2)),"0.00000000%","0%"))&" DF above that is NOT subject to any DF adjustments","") | D22: =IF(OR(D9>$B$88,AND(H88>0,H89>0,I88>0,I89>0,D9=B90)),D20-D21,"") | G22: =IF(D9>18%,"(Verify in CUR and FCCAP, if applicable)","")
B24: Actual Overall Total Development Costs | D24: 0 | H24: To assist with the allocation of a 21% Developer fee.
B25: Less Land Allocation (Not DF Eligible) | D25: 0 | G25: Enter as a negative # | H25: ------- CUR Adjustments ------- | J25: ------- CUR Adjustments -------
B26: Less Building Allocation (DF Eligible) | D26: 0 | G26: Enter as a negative # | H26: DF Portion | I26: + ODR | J26: = Total DF | K26: Applicant TDC | L26: Description for Columns F & G
B27: Less ODR (Not DF Eligible) | D27: 0 | G27: Enter as a negative # | H27: =D36-I27 -> 0 | I27: =IF(OR($D$9>$B$88,AND($H$88>0,$H$89>0,$I$88>0,$I$89>0,D9=B90))=FALSE,0,MIN(N(D22),ROUNDDOWN(D33*5%,0))) -> 0 | J27: =H27+I27 -> 0 | K27: =$D34 -> 0 | L27: Inputs for Developer stated allocation of DF and ODR
B28: ="Less Demolition Costs "&IF(OR(D6=" RFA 2019-101",D6=" RFA 2019-102",D6=" RFA 2019-103",D6=" RFA 2019-111",D6=" RFA 2019-117",D6=" RFA 2019-112",D6=" RFA 2019-113",D6=" RFA 2019-114",D6=" RFA 2019-115",D6=" RFA 2019-116",D6=" RFA 2019-118",LEFT(D6,10)=" RFA 2020",LEFT(D6,10)=" RFA 2021",LEFT(D6,10)=" RFA 2022",LEFT(D6,10)=" RFA 2023"),"(if applicable) (DF Eligible)","(if PHA and if applicable) (DF Eligible)") -> Less Demolition Costs (if PHA and if applicable) (DF Eligible) | D28: 0 | G28: Enter as a negative # | J28: (above should match cell D36) | K28: (above should match cell D34)
B29: ="Less Relocation Costs "&IF(OR(D6=" RFA 2019-101",D6=" RFA 2019-102",D6=" RFA 2019-103",D6=" RFA 2019-111",D6=" RFA 2019-117",D6=" RFA 2019-112",D6=" RFA 2019-113",D6=" RFA 2019-114",D6=" RFA 2019-115",D6=" RFA 2019-116",D6=" RFA 2019-118",LEFT(D6,10)=" RFA 2020",LEFT(D6,10)=" RFA 2021",LEFT(D6,10)=" RFA 2022",LEFT(D6,10)=" RFA 2023"),"(if applicable) (DF Eligible)","(if PHA and if applicable) (DF Eligible)") -> Less Relocation Costs (if PHA and if applicable) (DF Eligible) | D29: 0 | G29: Enter as a negative #
B30: Less Retail/Commercial Space (DF Eligible) | D30: 0 | G30: Enter as a negative # | H30: =IF(OR(H27=0,ISERR(H31-H27)=TRUE),0,H31-H27) -> 0 | I30: =IF(OR(I27=0,ISERR(I31-I27)=TRUE),0,I31-I27) -> 0 | J30: =H30+I30 -> 0 | K30: =J30 -> 0 | L30: Developer fee $ reduced at initial cost reduction step
B31: Less Other Allowed Cost Deductions (or Add Other Needed Costs not yet included) for Limitation Testing | D31: 0 | G31: Enter as a negative or positive # | H31: =IF(H27=0,0,MIN(H27,IF($D$9>$B88,MIN($D21,D39-I31),MIN($D20,D39)))) -> 0 | I31: =IF(I27=0,0,IF($D$9>$B88,MIN(I27,N($D22)),0)) -> 0 | J31: =H31+I31 -> 0 | K31: =K27+K30 -> 0 | L31: Developer fee after initial cost reduction step
B32: Enter a "1" if the amount in cell D31 is a development cost eligible to earn a DF | D32: 0 | G32: =IF(D31<>0,"("&TEXT(ABS(D31),"$#,##0")&" is "&IF(D32=1,"","NOT ")&"eligible to earn a Dev Fee)","") | J32: (above should match cell D39) | K32: (above should match cell D41)
B33: Stated Development Costs (total costs eligible to earn a Developer Fee) | D33: =D24+D25+D27+IF(D32=1,D31,0)-D36 -> 0
B34: Development's Stated net TDC, applicable to TDC Limits, provided by Applicant/CU pre-adjustment | D34: =SUM(D24:D31) -> 0
B35: ="Development's Stated net TDC in excess of TDC $ Limitation for "&TEXT(D11,"0")&" units" -> Development's Stated net TDC in excess of TDC $ Limitation for 0 units | D35: =IF(OR(D34<1,D$12<1),0,MAX(0,D34-$D12)) -> 0 | G35: (If excess exists, D34 less D12)
B36: Stated DF within Stated net TDC | D36: 0 | G36: (i)
B37: Stated DF, as a percent of Stated Development Cost | D37: =IF(N(D33)=0,0,D36/D33) -> 0
B38: ="Maximum DF based on Stated Development Costs and the Maximum Developer Fee Percentage ("&TEXT(D9,"0.00%")&")" -> Maximum DF based on Stated Development Costs and the Maximum Developer Fee Percentage (16.00%) | D38: =ROUNDDOWN(D33*D9,0) -> 0 | H38: =-IF(H27=0,0,$D48) -> 0 | I38: 0 | J38: =H38+I38 -> 0 | K38: =J38 -> 0 | L38: Developer fee $ reduced at second cost reduction step
B39: ="Lesser of CUR Stated DF ("&TEXT(D36,"$#,##0")&"), Gross Max Allowable DF ("&TEXT(D20,"$#,##0")&"), or Max per "&IF(OR(D9=B86,D9=B87,D9=B88,D9=B89),"RFA "&TEXT(D9,"0%"),"Board "&TEXT(D9,"0.00000000%"))&" ("&TEXT(ROUNDDOWN(D33*D9,0),"$#,##0")&")" -> Lesser of CUR Stated DF ($0), Gross Max Allowable DF ($0), or Max per RFA 16% ($0) | D39: =MIN(N(D36),D20,ROUNDDOWN(D33*D9,0),IF(OR(D9>B88,AND(H88>0,H89>0,I88>0,I89>0,D9=B90)),N(D21)+MIN(N(D22),I31),ROUNDDOWN(D33*D9,0))) -> 0 | H39: =IF(OR(H27=0,ISERR(H31-$D48)=TRUE),0,H31-$D48) -> 0 | I39: =I31 -> 0 | J39: =H39+I39 -> 0 | K39: =K31+K38 -> 0 | L39: Developer fee after second cost reduction step
B40: Stated DF in excess of Maximum DF after 1st Adjustment ($ DF Reduction) | D40: =D36-D39 -> 0 | J40: (above should match cell D49) | K40: (above should match cell D50)
B41: Development's interim TDC incoporating an adjustment for Maximum Allowable DF after 1st Adjustment | D41: =D34-D40 -> 0
B42: Development's interim TDC in excess of RFA's TDC Limitation | D42: =IF(D41-D12<0,0,D41-D12) -> 0 | G42: (a)
...

Sheet Data
C1: RFAs | P1: NOTE: ANY BOX WITH THE GREY HASHING NEEDS TO HAVE A SPACE BAR SPACE IN EACH BLANK CELL to properly format on the RFA tab. | JD1: **FYI, when adding a new RFA you need to copy and paste the RFA YYYY-NNN format (just copy and paste special)from columns under RFAs in columns C-M to the left.
A2: <select from menu> | C2: RFA 2023-101 | D2: RFA 2022-101 | E2: RFA 2021-101 | F2: RFA 2020-101 | G2: RFA 2019-101 | H2: RFA 2018-101 | I2: RFA 2017-101 | J2: RFA 2016-101 | K2: RFA 2015-101 | L2: RFA 2014-101 | M2: RFA 2013-001 | O2: AddOns | P2: RFA 2013-001 | Q2: RFA 2013-002 | R2: RFA 2013-003 | S2: RFA 2013-004 | T2: RFA 2013-005 | U2: RFA 2013-006 | V2: RFA 2013-07 | W2: RFA 2013-08 | X2: RFA 2013-010 | Y2: RFA 2014-101 | Z2: RFA 2014-102 | AA2: RFA 2014-103 | AB2: RFA 2014-104 | AC2: RFA 2014-105 | AD2: RFA 2014-106 | AE2: RFA 2014-107 | AF2: RFA 2014-109 | AG2: RFA 2014-111 | AH2: RFA 2014-112 | AI2: RFA 2014-113 | AJ2: RFA 2014-114 | AK2: RFA 2014-115 | AL2: RFA 2014-115SF | AM2: RFA 2014-116 | AN2: RFA 2014-117 | AO2: RFA 2015-101 | AP2: RFA 2015-101SF | AQ2: RFA 2015-102 | AR2: RFA 2015-103 | AS2: RFA 2015-103SF | AT2: RFA 2015-104 | AU2: RFA 2015-104SF | AV2: RFA 2015-105 | AW2: RFA 2015-106 | AX2: RFA 2015-107 | AY2: RFA 2015-107SF | AZ2: RFA 2015-108 | BA2: RFA 2015-109 | BB2: RFA 2015-109SF | BC2: RFA 2015-110 | BD2: RFA 2015-110 | BE2: RFA 2015-111 | BF2: RFA 2015-111SF | BG2: RFA 2015-112 | BH2: RFA 2015-112SF | BI2: RFA 2015-113 | BJ2: RFA 2015-113SF | BK2: RFA 2015-114 | BL2: RFA 2016-101 | BM2: RFA 2016-102 | BN2: RFA 2016-102SF | BO2: RFA 2016-103 | BP2: RFA 2016-103SF | BQ2: RFA 2016-104 | BR2: RFA 2016-105 | BS2: RFA 2016-106 | BT2: RFA 2016-107 | BU2: RFA 2016-108 | BV2: RFA 2016-109 | BW2: RFA 2016-109SF | BX2: RFA 2016-110 | BY2: RFA 2016-111 | BZ2: RFA 2016-112 | CA2: RFA 2016-112SF | CB2: RFA 2016-113 | CC2: RFA 2016-113SF | CD2: RFA 2016-114 | CE2: RFA 2016-115 | CF2: RFA 2016-115SF | CG2: RFA 2016-116 | CH2: RFA 2016-116SF | CI2: RFA 2017-101 | CJ2: RFA 2017-102 | CK2: RFA 2017-102SF | CL2: RFA 2017-103 | CM2: RFA 2017-103SF | CN2: RFA 2017-104 | CO2: RFA 2017-105 | CP2: RFA 2017-106 | CQ2: RFA 2017-107 | CR2: RFA 2017-107SF | CS2: RFA 2017-108 | CT2: RFA 2017-108SF | CU2: RFA 2017-109 | CV2: RFA 2017-110 | CW2: RFA 2017-111 | CX2: RFA 2017-112 | CY2: RFA 2017-113 | CZ2: RFA 2017-113SF | DA2: RFA 2017-114 | DB2: RFA 2017-114SF | DC2: RFA 2018-101 | DD2: RFA 2018-101SF | DE2: RFA 2018-102 | DF2: RFA 2018-102SF | DG2: RFA 2018-103 | DH2: RFA 2018-103SF | DI2: RFA 2018-104 | DJ2: RFA 2018-104SF | DK2: RFA 2018-105 | DL2: RFA 2018-106 | DM2: RFA 2018-107 | DN2: RFA 2018-108 | DO2: RFA 2018-108SF | DP2: RFA 2018-109 | DQ2: RFA 2018-110 | DR2: RFA 2018-111 | DS2: RFA 2018-112 | DT2: RFA 2018-112SF | DU2: RFA 2018-113 | DV2: RFA 2018-113SF | DW2: RFA 2018-114 | DX2: RFA 2018-114SF | DY2: RFA 2018-115 | DZ2: RFA 2018-116 | EA2: RFA 2018-116SF | EB2: RFA 2018-117 | EC2: RFA 2018-118 | ED2: RFA 2019-101 | EE2: RFA 2019-102 | EF2: RFA 2019-102SF | EG2: RFA 2019-103 | EH2: RFA 2019-104 | EI2: RFA 2019-104SF | EJ2: RFA 2019-105 | EK2: RFA 2019-105SF | EL2: RFA 2019-106 | EM2: RFA 2019-106SF | EN2: RFA 2019-107 | EO2: RFA 2019-107SF | EP2: RFA 2019-108 | EQ2: RFA 2019-108SF | ER2: RFA 2019-109 | ES2: RFA 2019-109SF | ET2: RFA 2019-110 | EU2: RFA 2019-111 | EV2: RFA 2019-112 | EW2: RFA 2019-113 | EX2: RFA 2019-114 | EY2: RFA 2019-114SF | EZ2: RFA 2019-115 | FA2: RFA 2019-115SF | FB2: RFA 2019-116 | FC2: RFA 2019-116SF | FD2: RFA 2019-117 | FE2: RFA 2019-118 | FF2: RFA 2020-101 | FG2: RFA 2020-102 | FH2: RFA 2020-102SF | FI2: RFA 2020-103 | FJ2: RFA 2020-103SF | FK2: RFA 2020-104 | FL2: RFA 2020-104SF | FM2: RFA 2020-105 | FN2: RFA 2020-106 | FO2: RFA 2020-106SF | FP2: RFA 2020-201 | FQ2: RFA 2020-202 | FR2: RFA 2020-202SF | FS2: RFA 2020-203 | FT2: RFA 2020-204 | FU2: RFA 2020-204SF | FV2: RFA 2020-205 | FW2: RFA 2020-205SF | FX2: RFA 2020-206 | FY2: RFA 2020-206SF | FZ2: RFA 2020-208 | GA2: RFA 2020-208SF | GB2: RFA 2020-211 | GC2: RFA 2020-302 | GD2: RFA 2021-101 | GE2: RFA 2021-102 | GF2: RFA 2021-102SF | GG2: RFA 2021-103 | GH2: RFA 2021-103SF | GI2: RFA 2021-104 | GJ2: RFA 2021-104SF | GK2: RFA 2021-105 | GL2: RFA 2021-106 | GM2: RFA 2021-106SF | GN2: RFA 2021-108 | GO2: RFA 2021-108SF | GP2: RFA 2021-201 | GQ2: RFA 2021-202 | GR2: RFA 2021-202SF | GS2: RFA 2021-203 | GT2: RFA 2021-204 | GU2: RFA 2021-204SF | GV2: RFA 2021-205 | GW2: RFA 2021-205SF | GX2: RFA 2021-206 | GY2: RFA 2021-206SF | GZ2: RFA 2021-208 | HA2: RFA 2021-208SF | HB2: RFA 2021-211 | HC2: RFA 2022-101 | HD2: RFA 2022-101SF | HE2: RFA 2022-102 | HF2: RFA 2022-102SF | HG2: RFA 2022-103 | HH2: RFA 2022-103SF | HI2: RFA 2022-104 | HJ2: RFA 2022-104SF | HK2: RFA 2022-105 | HL2: RFA 2022-106 | HM2: RFA 2022-106SF | HN2: RFA 2022-109 | HO2: RFA 2022-109SF | HP2: RFA 2022-201 | HQ2: RFA 2022-202 | HR2: RFA 2022-202SF | HS2: RFA 2022-203 | HT2: RFA 2022-204 | HU2: RFA 2022-204SF | HV2: RFA 2022-205 | HW2: RFA 2022-205SF | HX2: RFA 2022-206 | HY2: RFA 2022-206SF | HZ2: RFA 2022-208 | IA2: RFA 2022-210 | IB2: RFA 2022-210SF | IC2: RFA 2022-301 | ID2: RFA 2023-101 | IE2: RFA 2023-101SF | IF2: RFA 2023-102 | IG2: RFA 2023-102SF | IH2: RFA 2023-103 | II2: RFA 2023-103SF | IJ2: RFA 2023-104 | IK2: RFA 2023-104SF | IL2: RFA 2023-105 | IM2: RFA 2023-106 | IN2: RFA 2023-106SF | IO2: RFA 2023-108 | IP2: RFA 2023-201 | IQ2: RFA 2023-202 | IR2: RFA 2023-202SF | IS2: RFA 2023-203 | IT2: RFA 2023-204 | IU2: RFA 2023-204SF | IV2: RFA 2023-205 | IW2: RFA 2023-205SF | IX2: RFA 2023-206 | IY2: RFA 2023-206SF | IZ2: RFA 2023-208 | JA2: RFA 2023-303 | JB2: RFA 2023-303 | JC2: RFA 2023-304
A3: 2023 | C3: RFA 2023-102 | D3: RFA 2022-102 | E3: RFA 2021-102 | F3: RFA 2020-102 | G3: RFA 2019-102 | H3: RFA 2018-102 | I3: RFA 2017-102 | J3: RFA 2016-102 | K3: RFA 2015-102 | L3: RFA 2014-102 | M3: RFA 2013-002 | AG3: Tax-Exempt Bonds Boost (Post 6/15/2018 Board Meeting Only) | AJ3: PHA: Davis-Bacon Boost | AT3: PHA: Davis-Bacon Boost | AU3: PHA: Davis-Bacon Boost | AW3: PHA: Davis-Bacon Boost | BC3: Tax-Exempt Bonds Boost (Post 6/15/2018 Board Meeting Only) | BD3: Tax-Exempt Bonds Boost (Post 6/15/2018 Board Meeting Only) | BE3: PHA: Davis-Bacon Boost | BF3: PHA: Davis-Bacon Boost | BG3: PHA: Davis-Bacon Boost | BH3: PHA: Davis-Bacon Boost | BI3: PHA: Davis-Bacon Boost | BJ3: PHA: Davis-Bacon Boost | BL3: HOME Boost (Post 6/15/2018 Board Meeting Only) | BV3: PHA: Davis-Bacon Boost | BW3: PHA: Davis-Bacon Boost | BX3: PHA: Davis-Bacon Boost | CB3: PHA: Davis-Bacon Boost | CC3: PHA: Davis-Bacon Boost | CD3: PHA: Davis-Bacon Boost | CG3: PHA: Davis-Bacon Boost | CH3: PHA: Davis-Bacon Boost | CJ3: PHA: Davis-Bacon Boost | CK3: PHA: Davis-Bacon Boost | CO3: HOME Boost (Post 6/15/2018 Board Meeting Only) | CQ3: Tax-Exempt Bonds Boost | CR3: Tax-Exempt Bonds Boost | CS3: PHA: Davis-Bacon Boost | CT3: PHA: Davis-Bacon Boost | CW3: PHA: Davis-Bacon Boost | CX3: PHA: Davis-Bacon Boost | CY3: PHA: Davis-Bacon Boost | CZ3: PHA: Davis-Bacon Boost | DA3: PHA: Davis-Bacon Boost | DB3: PHA: Davis-Bacon Boost | DC3: PHA: Davis-Bacon Boost | DD3: PHA: Davis-Bacon Boost | DE3: PHA: Davis-Bacon Boost | DF3: PHA: Davis-Bacon Boost | DG3: PHA: Davis-Bacon Boost | DH3: PHA: Davis-Bacon Boost | DI3: PHA: Davis-Bacon Boost | DJ3: PHA: Davis-Bacon Boost | DM3: PHA: Davis-Bacon Boost | DN3: PHA: Davis-Bacon Boost | DO3: PHA: Davis-Bacon Boost | DQ3: PHA: Davis-Bacon Boost | DR3: PHA: Davis-Bacon Boost | DS3: PHA: Davis-Bacon Boost | DT3: PHA: Davis-Bacon Boost | DU3: PHA: Davis-Bacon Boost | DV3: PHA: Davis-Bacon Boost | DW3: Tax-Exempt Bonds Boost (Automatic Boost) | DX3: Tax-Exempt Bonds Boost (Automatic Boost) | DY3: PHA: Davis-Bacon Boost | DZ3: PHA: Davis-Bacon Boost | EA3: PHA: Davis-Bacon Boost | ED3: Federal Programs Boost | EE3: Federal Programs Boost | EF3: Federal Programs Boost | EG3: Federal Programs Boost | EH3: PHA: Davis-Bacon Boost | EI3: PHA: Davis-Bacon Boost | EJ3: PHA: Davis-Bacon Boost | EK3: PHA: Davis-Bacon Boost | EL3: PHA: Davis-Bacon Boost | EM3: PHA: Davis-Bacon Boost | EN3: PHA: Davis-Bacon Boost | EO3: PHA: Davis-Bacon Boost | ER3: HOME Boost (Automatic Boost) | ES3: HOME Boost (Automatic Boost) | ET3: PHA: Davis-Bacon Boost | EU3: PHA: Davis-Bacon Boost | EV3: PHA: Davis-Bacon Boost | EW3: PHA: Davis-Bacon Boost | EX3: PHA: Davis-Bacon Boost | EY3: PHA: Davis-Bacon Boost | EZ3: PHA: Davis-Bacon Boost | FA3: PHA: Davis-Bacon Boost | FB3: PHA: Davis-Bacon Boost | FC3: PHA: Davis-Bacon Boost | FG3: PHA: Davis-Bacon Boost | FH3: PHA: Davis-Bacon Boost | FI3: PHA: Davis-Bacon Boost | FJ3: PHA: Davis-Bacon Boost | FK3: PHA: Davis-Bacon Boost | FL3: PHA: Davis-Bacon Boost | FN3: PHA: Davis-Bacon Boost | FO3: PHA: Davis-Bacon Boost | FP3: PHA: Davis-Bacon Boost | FQ3: PHA: Davis-Bacon Boost | FR3: PHA: Davis-Bacon Boost | FS3: PHA: Davis-Bacon Boost | FT3: PHA: Davis-Bacon Boost | FU3: PHA: Davis-Bacon Boost | FV3: PHA: Davis-Bacon Boost | FW3: PHA: Davis-Bacon Boost | FX3: HOME Boost (Automatic Boost) | FY3: HOME Boost (Automatic Boost) | FZ3: PHA: Davis-Bacon Boost | GA3: PHA: Davis-Bacon Boost | GC3: Federal Programs Boost | GE3: PHA: Davis-Bacon Boost | GF3: PHA: Davis-Bacon Boost | GG3: PHA: Davis-Bacon Boost | GH3: PHA: Davis-Bacon Boost | GI3: PHA: Davis-Bacon Boost | GJ3: PHA: Davis-Bacon Boost | GL3: PHA: Davis-Bacon Boost | GM3: PHA: Davis-Bacon Boost | GN3: PHA: Davis-Bacon Boost | GO3: PHA: Davis-Bacon Boost | GP3: PHA: Davis-Bacon Boost | GQ3: PHA: Davis-Bacon Boost | GR3: PHA: Davis-Bacon Boost | GS3: PHA: Davis-Bacon Boost | GT3: PHA: Davis-Bacon Boost | GU3: PHA: Davis-Bacon Boost | GV3: PHA: Davis-Bacon Boost | GW3: PHA: Davis-Bacon Boost | GX3: HOME Boost (Automatic Boost) | GY3: HOME Boost (Automatic Boost) | GZ3: PHA: Davis-Bacon Boost | HA3: PHA: Davis-Bacon Boost | HC3: PHA &/or Davis-Bacon Boost | HD3: PHA &/or Davis-Bacon Boost | HE3: PHA: Davis-Bacon Boost | HF3: PHA: Davis-Bacon Boost | HG3: PHA: Davis-Bacon Boost | HH3: PHA: Davis-Bacon Boost | HI3: PHA: Davis-Bacon Boost | HJ3: PHA: Davis-Bacon Boost | HL3: PHA: Davis-Bacon Boost | HM3: PHA: Davis-Bacon Boost | HN3: PHA &/or Davis-Bacon Boost | HO3: PHA &/or Davis-Bacon Boost | HP3: PHA &/or Davis-Bacon Boost | HQ3: PHA &/or Davis-Bacon Boost | HR3: PHA &/or Davis-Bacon Boost | HS3: PHA &/or Davis-Bacon Boost | HV3: PHA &/or Davis-Bacon Boost | HW3: PHA &/or Davis-Bacon Boost | HX3: PHA &/or Davis-Bacon Boost | HY3: PHA &/or Davis-Bacon Boost | HZ3: PHA: Davis-Bacon Boost | IA3: Federal Programs Boost | IB3: Federal Programs Boost | IC3: PHA: Davis-Bacon Boost | IF3: PHA &/or Davis-Bacon Boost | IG3: PHA &/or Davis-Bacon Boost | IH3: PHA &/or Davis-Bacon Boost | II3: PHA &/or Davis-Bacon Boost | IJ3: PHA &/or Davis-Bacon Boost | IK3: PHA &/or Davis-Bacon Boost | IM3: PHA &/or Davis-Bacon Boost | IN3: PHA &/or Davis-Bacon Boost | JA3: PHA &/or Davis-Bacon Boost | JB3: PHA &/or Davis-Bacon Boost
A4: 2022 | C4: RFA 2023-103 | D4: RFA 2022-103 | E4: RFA 2021-103 | F4: RFA 2020-103 | G4: RFA 2019-103 | H4: RFA 2018-103 | I4: RFA 2017-103 | J4: RFA 2016-103 | K4: RFA 2015-103 | L4: RFA 2014-103 | M4: RFA 2013-003 | BC4: HOME Boost (Post 6/15/2018 Board Meeting Only) | BD4: HOME Boost (Post 6/15/2018 Board Meeting Only) | BG4: Tax-Exempt Bonds Boost (Post 6/15/2018 Board Meeting Only) | BH4: Tax-Exempt Bonds Boost (Post 6/15/2018 Board Meeting Only) | BV4: Tax-Exempt Bonds Boost (Post 6/15/2018 Board Meeting Only) | BW4: Tax-Exempt Bonds Boost (Post 6/15/2018 Board Meeting Only) | CS4: Tax-Exempt Bonds Boost (Post 6/15/2018 Board Meeting Only) | CT4: Tax-Exempt Bonds Boost (Post 6/15/2018 Board Meeting Only) | DZ4: Tax-Exempt Bonds Boost (Automatic Boost) | EA4: Tax-Exempt Bonds Boost (Automatic Boost) | EE4: Tax-Exempt Bonds Boost (Automatic Boost) | EF4: Tax-Exempt Bonds Boost (Automatic Boost) | ER4: Tax-Exempt Bonds Boost | ES4: Tax-Exempt Bonds Boost | EU4: Tax-Exempt Bonds Boost | FB4: Tax-Exempt Bonds Boost (Automatic Boost) | FC4: Tax-Exempt Bonds Boost (Automatic Boost) | FV4: Tax-Exempt Bonds Boost (Automatic Boost) | FW4: Tax-Exempt Bonds Boost (Automatic Boost) | FZ4: Tax-Exempt Bonds Boost (Automatic Boost) | GA4: Tax-Exempt Bonds Boost (Automatic Boost) | GV4: Tax-Exempt Bonds Boost | GW4: Tax-Exempt Bonds Boost | GZ4: Tax-Exempt Bonds Boost | HA4: Tax-Exempt Bonds Boost | HC4: Tax-Exempt Bonds Boost | HD4: Tax-Exempt Bonds Boost | HV4: Tax-Exempt Bonds Boost | HW4: Tax-Exempt Bonds Boost | HX4: Tax-Exempt Bonds Boost | JA4: Tax-Exempt Bonds Boost | JB4: Tax-Exempt Bonds Boost
A5: 2021 | C5: RFA 2023-104 | D5: RFA 2022-104 | E5: RFA 2021-104 | F5: RFA 2020-104 | G5: RFA 2019-104 | H5: RFA 2018-104 | I5: RFA 2017-104 | J5: RFA 2016-104 | K5: RFA 2015-104 | L5: RFA 2014-104 | M5: RFA 2013-004 | ED5: From here (and cell DY7) (cell ED7-EG7 and then starting at ER7) forward through the 2022/2023 RFA Cycle the new Add-On is $7,500
A6: 2020 | C6: RFA 2023-105 | D6: RFA 2022-105 | E6: RFA 2021-105 | F6: RFA 2020-105 | G6: RFA 2019-105 | H6: RFA 2018-105 | I6: RFA 2017-105 | J6: RFA 2016-105 | K6: RFA 2015-105 | L6: RFA 2014-105 | M6: RFA 2013-005 | O6: AddOns2 | P6: RFA 2013-001 | Q6: RFA 2013-002 | R6: RFA 2013-003 | S6: RFA 2013-004 | T6: RFA 2013-005 | U6: RFA 2013-006 | V6: RFA 2013-07 | W6: RFA 2013-08 | X6: RFA 2013-010 | Y6: RFA 2014-101 | Z6: RFA 2014-102 | AA6: RFA 2014-103 | AB6: RFA 2014-104 | AC6: RFA 2014-105 | AD6: RFA 2014-106 | AE6: RFA 2014-107 | AF6: RFA 2014-109 | AG6: RFA 2014-111 | AH6: RFA 2014-112 | AI6: RFA 2014-113 | AJ6: RFA 2014-114 | AK6: RFA 2014-115 | AL6: RFA 2014-115SF | AM6: RFA 2014-116 | AN6: RFA 2014-117 | AO6: RFA 2015-101 | AP6: RFA 2015-101SF | AQ6: RFA 2015-102 | AR6: RFA 2015-103 | AS6: RFA 2015-103SF | AT6: RFA 2015-104 | AU6: RFA 2015-104SF | AV6: RFA 2015-105 | AW6: RFA 2015-106 | AX6: RFA 2015-107 | AY6: RFA 2015-107SF | AZ6: RFA 2015-108 | BA6: RFA 2015-109 | BB6: RFA 2015-109SF | BC6: RFA 2015-110 | BD6: RFA 2015-110 | BE6: RFA 2015-111 | BF6: RFA 2015-111SF | BG6: RFA 2015-112 | BH6: RFA 2015-112SF | BI6: RFA 2015-113 | BJ6: RFA 2015-113SF | BK6: RFA 2015-114 | BL6: RFA 2016-101 | BM6: RFA 2016-102 | BN6: RFA 2016-102SF | BO6: RFA 2016-103 | BP6: RFA 2016-103SF | BQ6: RFA 2016-104 | BR6: RFA 2016-105 | BS6: RFA 2016-106 | BT6: RFA 2016-107 | BU6: RFA 2016-108 | BV6: RFA 2016-109 | BW6: RFA 2016-109SF | BX6: RFA 2016-110 | BY6: RFA 2016-111 | BZ6: RFA 2016-112 | CA6: RFA 2016-112SF | CB6: RFA 2016-113 | CC6: RFA 2016-113SF | CD6: RFA 2016-114 | CE6: RFA 2016-115 | CF6: RFA 2016-115SF | CG6: RFA 2016-116 | CH6: RFA 2016-116SF | CI6: RFA 2017-101 | CJ6: RFA 2017-102 | CK6: RFA 2017-102SF | CL6: RFA 2017-103 | CM6: RFA 2017-103SF | CN6: RFA 2017-104 | CO6: RFA 2017-105 | CP6: RFA 2017-106 | CQ6: RFA 2017-107 | CR6: RFA 2017-107SF | CS6: RFA 2017-108 | CT6: RFA 2017-108SF | CU6: RFA 2017-109 | CV6: RFA 2017-110 | CW6: RFA 2017-111 | CX6: RFA 2017-112 | CY6: RFA 2017-113 | CZ6: RFA 2017-113SF | DA6: RFA 2017-114 | DB6: RFA 2017-114SF | DC6: RFA 2018-101 | DD6: RFA 2018-101SF | DE6: RFA 2018-102 | DF6: RFA 2018-102SF | DG6: RFA 2018-103 | DH6: RFA 2018-103SF | DI6: RFA 2018-104 | DJ6: RFA 2018-104SF | DK6: RFA 2018-105 | DL6: RFA 2018-106 | DM6: RFA 2018-107 | DN6: RFA 2018-108 | DO6: RFA 2018-108SF | DP6: RFA 2018-109 | DQ6: RFA 2018-110 | DR6: RFA 2018-111 | DS6: RFA 2018-112 | DT6: RFA 2018-112SF | DU6: RFA 2018-113 | DV6: RFA 2018-113SF | DW6: RFA 2018-114 | DX6: RFA 2018-114SF | DY6: RFA 2018-115 | DZ6: RFA 2018-116 | EA6: RFA 2018-116SF | EB6: RFA 2018-117 | EC6: RFA 2018-118 | ED6: RFA 2019-101 | EE6: RFA 2019-102 | EF6: RFA 2019-102SF | EG6: RFA 2019-103 | EH6: RFA 2019-104 | EI6: RFA 2019-104SF | EJ6: RFA 2019-105 | EK6: RFA 2019-105SF | EL6: RFA 2019-106 | EM6: RFA 2019-106SF | EN6: RFA 2019-107 | EO6: RFA 2019-107SF | EP6: RFA 2019-108 | EQ6: RFA 2019-108SF | ER6: RFA 2019-109 | ES6: RFA 2019-109SF | ET6: RFA 2019-110 | EU6: RFA 2019-111 | EV6: RFA 2019-112 | EW6: RFA 2019-113 | EX6: RFA 2019-114 | EY6: RFA 2019-114SF | EZ6: RFA 2019-115 | FA6: RFA 2019-115SF | FB6: RFA 2019-116 | FC6: RFA 2019-116SF | FD6: RFA 2019-117 | FE6: RFA 2019-118 | FF6: RFA 2020-101 | FG6: RFA 2020-102 | FH6: RFA 2020-102SF | FI6: RFA 2020-103 | FJ6: RFA 2020-103SF | FK6: RFA 2020-104 | FL6: RFA 2020-104SF | FM6: RFA 2020-105 | FN6: RFA 2020-106 | FO6: RFA 2020-106SF | FP6: RFA 2020-201 | FQ6: RFA 2020-202 | FR6: RFA 2020-202SF | FS6: RFA 2020-203 | FT6: RFA 2020-204 | FU6: RFA 2020-204SF | FV6: RFA 2020-205 | FW6: RFA 2020-205SF | FX6: RFA 2020-206 | FY6: RFA 2020-206SF | FZ6: RFA 2020-208 | GA6: RFA 2020-208SF | GB6: RFA 2020-211 | GC6: RFA 2020-302 | GD6: RFA 2021-101 | GE6: RFA 2021-102 | GF6: RFA 2021-102SF | GG6: RFA 2021-103 | GH6: RFA 2021-103SF | GI6: RFA 2021-104 | GJ6: RFA 2021-104SF | GK6: RFA 2021-105 | GL6: RFA 2021-106 | GM6: RFA 2021-106SF | GN6: RFA 2021-108 | GO6: RFA 2021-108SF | GP6: RFA 2021-201 | GQ6: RFA 2021-202 | GR6: RFA 2021-202SF | GS6: RFA 2021-203 | GT6: RFA 2021-204 | GU6: RFA 2021-204SF | GV6: RFA 2021-205 | GW6: RFA 2021-205SF | GX6: RFA 2021-206 | GY6: RFA 2021-206SF | GZ6: RFA 2021-208 | HA6: RFA 2021-208SF | HB6: RFA 2021-211 | HC6: RFA 2022-101 | HD6: RFA 2022-101SF | HE6: RFA 2022-102 | HF6: RFA 2022-102SF | HG6: RFA 2022-103 | HH6: RFA 2022-103SF | HI6: RFA 2022-104 | HJ6: RFA 2022-104SF | HK6: RFA 2022-105 | HL6: RFA 2022-106 | HM6: RFA 2022-106SF | HN6: RFA 2022-109 | HO6: RFA 2022-109SF | HP6: RFA 2022-201 | HQ6: RFA 2022-202 | HR6: RFA 2022-202SF | HS6: RFA 2022-203 | HT6: RFA 2022-204 | HU6: RFA 2022-204SF | HV6: RFA 2022-205 | HW6: RFA 2022-205SF | HX6: RFA 2022-206 | HY6: RFA 2022-206SF | HZ6: RFA 2022-208 | IA6: RFA 2022-210 | IB6: RFA 2022-210SF | IC6: RFA 2022-301 | ID6: RFA 2023-101 | IE6: RFA 2023-101SF | IF6: RFA 2023-102 | IG6: RFA 2023-102SF | IH6: RFA 2023-103 | II6: RFA 2023-103SF | IJ6: RFA 2023-104 | IK6: RFA 2023-104SF | IL6: RFA 2023-105 | IM6: RFA 2023-106 | IN6: RFA 2023-106SF | IO6: RFA 2023-108 | IP6: RFA 2023-201 | IQ6: RFA 2023-202 | IR6: RFA 2023-202SF | IS6: RFA 2023-203 | IT6: RFA 2023-204 | IU6: RFA 2023-204SF | IV6: RFA 2023-205 | IW6: RFA 2023-205SF | IX6: RFA 2023-206 | IY6: RFA 2023-206SF | IZ6: RFA 2023-208 | JA6: RFA 2023-303 | JB6: RFA 2023-303SF | JC6: RFA 2023-304 | JD6: **The $7,500 Add-On will continue through the 2022/2023 RFA Cycle.
A7: 2019 | C7: RFA 2023-106 | D7: RFA 2022-106 | E7: RFA 2021-106 | F7: RFA 2020-106 | G7: RFA 2019-106 | H7: RFA 2018-106 | I7: RFA 2017-106 | J7: RFA 2016-106 | K7: RFA 2015-106 | L7: RFA 2014-106 | M7: RFA 2013-006 | AG7: 5000 | AJ7: 5000 | AT7: 5000 | AU7: 5000 | AW7: 5000 | BC7: 5000 | BD7: 5000 | BE7: 5000 | BF7: 5000 | BG7: 5000 | BH7: 5000 | BI7: 5000 | BJ7: 5000 | BL7: 5000 | BV7: 5000 | BW7: 5000 | BX7: 5000 | CB7: 5000 | CC7: 5000 | CD7: 5000 | CG7: 5000 | CH7: 5000 | CJ7: 5000 | CK7: 5000 | CO7: 5000 | CQ7: 5000 | CR7: 5000 | CS7: 5000 | CT7: 5000 | CW7: 5000 | CX7: 5000 | CY7: 5000 | CZ7: 5000 | DA7: 5000 | DB7: 5000 | DC7: 5000 | DD7: 5000 | DE7: 5000 | DF7: 5000 | DG7: 5000 | DH7: 5000 | DI7: 5000 | DJ7: 5000 | DM7: 5000 | DN7: 5000 | DO7: 5000 | DQ7: 5000 | DR7: 5000 | DS7: 5000 | DT7: 5000 | DU7: 5000 | DV7: 5000 | DW7: 5000 | DX7: 5000 | DY7: 7500 | DZ7: 5000 | EA7: 5000 | ED7: 7500 | EE7: 7500 | EF7: 7500 | EG7: 7500 | EH7: 5000 | EI7: 5000 | EJ7: 5000 | EK7: 5000 | EL7: 5000 | EM7: 5000 | EN7: 5000 | EO7: 5000 | ER7: 7500 | ES7: 7500 | ET7: 7500 | EU7: 7500 | EV7: 7500 | EW7: 7500 | EX7: 7500 | EY7: 7500 | EZ7: 7500 | FA7: 7500 | FB7: 7500 | FC7: 7500 | FG7: 7500 | FH7: 7500 | FI7: 7500 | FJ7: 7500 | FK7: 7500 | FL7: 7500 | FN7: 7500 | FO7: 7500 | FP7: 7500 | FQ7: 7500 | FR7: 7500 | FS7: 7500 | FT7: 7500 | FU7: 7500 | FV7: 7500 | FW7: 7500 | FX7: 7500 | FY7: 7500 | FZ7: 7500 | GA7: 7500 | GC7: 7500 | GE7: 7500 | GF7: 7500 | GG7: 7500 | GH7: 7500 | GI7: 7500 | GJ7: 7500 | GL7: 7500 | GM7: 7500 | GN7: 7500 | GO7: 7500 | GP7: 7500 | GQ7: 7500 | GR7: 7500 | GS7: 7500 | GT7: 7500 | GU7: 7500 | GV7: 7500 | GW7: 7500 | GX7: 7500 | GY7: 7500 | GZ7: 7500 | HA7: 7500 | HC7: 7500 | HD7: 7500 | HE7: 7500 | HF7: 7500 | HG7: 7500 | HH7: 7500 | HI7: 7500 | HJ7: 7500 | HL7: 7500 | HM7: 7500 | HN7: 7500 | HO7: 7500 | HP7: 7500 | HQ7: 7500 | HR7: 7500 | HS7: 7500 | HV7: 7500 | HW7: 7500 | HX7: 7500 | HY7: 7500 | HZ7: 7500 | IA7: 7500 | IB7: 7500 | IC7: 7500 | IF7: 7500 | IG7: 7500 | IH7: 7500 | II7: 7500 | IJ7: 7500 | IK7: 7500 | IM7: 7500 | IN7: 7500 | JA7: 7500 | JB7: 7500
A8: 2018 | C8: RFA 2023-108 | D8: RFA 2022-109 | E8: RFA 2021-108 | F8: RFA 2020-201 | G8: RFA 2019-107 | H8: RFA 2018-107 | I8: RFA 2017-107 | J8: RFA 2016-107 | K8: RFA 2015-107 | L8: RFA 2014-107 | M8: RFA 2013-07 | BC8: 5000 | BD8: 5000 | BG8: 5000 | BH8: 5000 | BV8: 5000 | BW8: 5000 | CS8: 5000 | CT8: 5000 | DZ8: 5000 | EA8: 5000 | EE8: 7500 | EF8: 7500 | ER8: 7500 | ES8: 7500 | EU8: 7500 | FB8: 7500 | FC8: 7500 | FV8: 7500 | FW8: 7500 | FZ8: 7500 | GA8: 7500 | GV8: 7500 | GW8: 7500 | GZ8: 7500 | HA8: 7500 | HC8: 7500 | HD8: 7500 | HV8: 7500 | HW8: 7500 | HX8: 7500 | JA8: 7500 | JB8: 7500
A9: 2017 | C9: RFA 2023-201 | D9: RFA 2022-201 | E9: RFA 2021-201 | F9: RFA 2020-202 | G9: RFA 2019-108 | H9: RFA 2018-108 | I9: RFA 2017-108 | J9: RFA 2016-108 | K9: RFA 2015-108 | L9: RFA 2014-109 | M9: RFA 2013-08
A10: 2016 | C10: RFA 2023-202 | D10: RFA 2022-202 | E10: RFA 2021-202 | F10: RFA 2020-203 | G10: RFA 2019-109 | H10: RFA 2018-109 | I10: RFA 2017-109 | J10: RFA 2016-109 | K10: RFA 2015-109 | L10: RFA 2014-111 | M10: RFA 2013-010 | O10: MultiplierNames | P10: RFA 2013-001 | Q10: RFA 2013-002 | R10: RFA 2013-003 | S10: RFA 2013-004 | T10: RFA 2013-005 | U10: RFA 2013-006 | V10: RFA 2013-07 | W10: RFA 2013-08 | X10: RFA 2013-010 | Y10: RFA 2014-101 | Z10: RFA 2014-102 | AA10: RFA 2014-103 | AB10: RFA 2014-104 | AC10: RFA 2014-105 | AD10: RFA 2014-106 | AE10: RFA 2014-107 | AF10: RFA 2014-109 | AG10: RFA 2014-111 | AH10: RFA 2014-112 | AI10: RFA 2014-113 | AJ10: RFA 2014-114 | AK10: RFA 2014-115 | AL10: RFA 2014-115SF | AM10: RFA 2014-116 | AN10: RFA 2014-117 | AO10: RFA 2015-101 | AP10: RFA 2015-101SF | AQ10: RFA 2015-102 | AR10: RFA 2015-103 | AS10: RFA 2015-103SF | AT10: RFA 2015-104 | AU10: RFA 2015-104SF | AV10: RFA 2015-105 | AW10: RFA 2015-106 | AX10: RFA 2015-107 | AY10: RFA 2015-107SF | AZ10: RFA 2015-108 | BA10: RFA 2015-109 | BB10: RFA 2015-109SF | BC10: RFA 2015-110 | BD10: RFA 2015-110 | BE10: RFA 2015-111 | BF10: RFA 2015-111SF | BG10: RFA 2015-112 | BH10: RFA 2015-112SF | BI10: RFA 2015-113 | BJ10: RFA 2015-113SF | BK10: RFA 2015-114 | BL10: RFA 2016-101 | BM10: RFA 2016-102 | BN10: RFA 2016-102SF | BO10: RFA 2016-103 | BP10: RFA 2016-103SF | BQ10: RFA 2016-104 | BR10: RFA 2016-105 | BS10: RFA 2016-106 | BT10: RFA 2016-107 | BU10: RFA 2016-108 | BV10: RFA 2016-109 | BW10: RFA 2016-109SF | BX10: RFA 2016-110 | BY10: RFA 2016-111 | BZ10: RFA 2016-112 | CA10: RFA 2016-112SF | CB10: RFA 2016-113 | CC10: RFA 2016-113SF | CD10: RFA 2016-114 | CE10: RFA 2016-115 | CF10: RFA 2016-115SF | CG10: RFA 2016-116 | CH10: RFA 2016-116SF | CI10: RFA 2017-101 | CJ10: RFA 2017-102 | CK10: RFA 2017-102SF | CL10: RFA 2017-103 | CM10: RFA 2017-103SF | CN10: RFA 2017-104 | CO10: RFA 2017-105 | CP10: RFA 2017-106 | CQ10: RFA 2017-107 | CR10: RFA 2017-107SF | CS10: RFA 2017-108 | CT10: RFA 2017-108SF | CU10: RFA 2017-109 | CV10: RFA 2017-110 | CW10: RFA 2017-111 | CX10: RFA 2017-112 | CY10: RFA 2017-113 | CZ10: RFA 2017-113SF | DA10: RFA 2017-114 | DB10: RFA 2017-114SF | DC10: RFA 2018-101 | DD10: RFA 2018-101SF | DE10: RFA 2018-102 | DF10: RFA 2018-102SF | DG10: RFA 2018-103 | DH10: RFA 2018-103SF | DI10: RFA 2018-104 | DJ10: RFA 2018-104SF | DK10: RFA 2018-105 | DL10: RFA 2018-106 | DM10: RFA 2018-107 | DN10: RFA 2018-108 | DO10: RFA 2018-108SF | DP10: RFA 2018-109 | DQ10: RFA 2018-110 | DR10: RFA 2018-111 | DS10: RFA 2018-112 | DT10: RFA 2018-112SF | DU10: RFA 2018-113 | DV10: RFA 2018-113SF | DW10: RFA 2018-114 | DX10: RFA 2018-114SF | DY10: RFA 2018-115 | DZ10: RFA 2018-116 | EA10: RFA 2018-116SF | EB10: RFA 2018-117 | EC10: RFA 2018-118 | ED10: RFA 2019-101 | EE10: RFA 2019-102 | EF10: RFA 2019-102SF | EG10: RFA 2019-103 | EH10: RFA 2019-104 | EI10: RFA 2019-104SF | EJ10: RFA 2019-105 | EK10: RFA 2019-105SF | EL10: RFA 2019-106 | EM10: RFA 2019-106SF | EN10: RFA 2019-107 | EO10: RFA 2019-107SF | EP10: RFA 2019-108 | EQ10: RFA 2019-108SF | ER10: RFA 2019-109 | ES10: RFA 2019-109SF | ET10: RFA 2019-110 | EU10: RFA 2019-111 | EV10: RFA 2019-112 | EW10: RFA 2019-113 | EX10: RFA 2019-114 | EY10: RFA 2019-114SF | EZ10: RFA 2019-115 | FA10: RFA 2019-115SF | FB10: RFA 2019-116 | FC10: RFA 2019-116SF | FD10: RFA 2019-117 | FE10: RFA 2019-118 | FF10: RFA 2020-101 | FG10: RFA 2020-102 | FH10: RFA 2020-102SF | FI10: RFA 2020-103 | FJ10: RFA 2020-103SF | FK10: RFA 2020-104 | FL10: RFA 2020-104SF | FM10: RFA 2020-105 | FN10: RFA 2020-106 | FO10: RFA 2020-106SF | FP10: RFA 2020-201 | FQ10: RFA 2020-202 | FR10: RFA 2020-202SF | FS10: RFA 2020-203 | FT10: RFA 2020-204 | FU10: RFA 2020-204SF | FV10: RFA 2020-205 | FW10: RFA 2020-205SF | FX10: RFA 2020-206 | FY10: RFA 2020-206SF | FZ10: RFA 2020-208 | GA10: RFA 2020-208SF | GB10: RFA 2020-211 | GC10: RFA 2020-302 | GD10: RFA 2021-101 | GE10: RFA 2021-102 | GF10: RFA 2021-102SF | GG10: RFA 2021-103 | GH10: RFA 2021-103SF | GI10: RFA 2021-104 | GJ10: RFA 2021-104SF | GK10: RFA 2021-105 | GL10: RFA 2021-106 | GM10: RFA 2021-106SF | GN10: RFA 2021-108 | GO10: RFA 2021-108SF | GP10: RFA 2021-201 | GQ10: RFA 2021-202 | GR10: RFA 2021-202SF | GS10: RFA 2021-203 | GT10: RFA 2021-204 | GU10: RFA 2021-204SF | GV10: RFA 2021-205 | GW10: RFA 2021-205SF | GX10: RFA 2021-206 | GY10: RFA 2021-206SF | GZ10: RFA 2021-208 | HA10: RFA 2021-208SF | HB10: RFA 2021-211 | HC10: RFA 2022-101 | HD10: RFA 2022-101SF | HE10: RFA 2022-102 | HF10: RFA 2022-102SF | HG10: RFA 2022-103 | HH10: RFA 2022-103SF | HI10: RFA 2022-104 | HJ10: RFA 2022-104SF | HK10: RFA 2022-105 | HL10: RFA 2022-106 | HM10: RFA 2022-106SF | HN10: RFA 2022-109 | HO10: RFA 2022-109SF | HP10: RFA 2022-201 | HQ10: RFA 2022-202 | HR10: RFA 2022-202SF | HS10: RFA 2022-203 | HT10: RFA 2022-204 | HU10: RFA 2022-204SF | HV10: RFA 2022-205 | HW10: RFA 2022-205SF | HX10: RFA 2022-206 | HY10: RFA 2022-206SF | HZ10: RFA 2022-208 | IA10: RFA 2022-210 | IB10: RFA 2022-210SF | IC10: RFA 2022-301 | ID10: RFA 2023-101 | IE10: RFA 2023-101SF | IF10: RFA 2023-102 | IG10: RFA 2023-102SF | IH10: RFA 2023-103 | II10: RFA 2023-103SF | IJ10: RFA 2023-104 | IK10: RFA 2023-104SF | IL10: RFA 2023-105 | IM10: RFA 2023-106 | IN10: RFA 2023-106SF | IO10: RFA 2023-108 | IP10: RFA 2023-201 | IQ10: RFA 2023-202 | IR10: RFA 2023-202SF | IS10: RFA 2023-203 | IT10: RFA 2023-204 | IU10: RFA 2023-204SF | IV10: RFA 2023-205 | IW10: RFA 2023-205SF | IX10: RFA 2023-206 | IY10: RFA 2023-206SF | IZ10: RFA 2023-208 | JA10: RFA 2023-303 | JB10: RFA 2023-303SF | JC10: RFA 2023-304
