Workbook
Name ACC_Units_Currently: 'Proposed Development Info'!$F$108
Name ACC_Units_Future: 'Proposed Development Info'!$G$108
Name Accessibility_Pref: 'Construction Features'!$H$8
Name Acquisition_eligible: 'Pro Forma'!$H$106
Name Acquisition_ineligible: 'Pro Forma'!$K$106
Name Acquisition_total: 'Pro Forma'!$N$106
Name Actual_Comm_Retail_eligible: 'Pro Forma'!$H$46
Name Actual_Comm_Retail_ineligible: 'Pro Forma'!$K$46
Name Actual_Comm_Retail_total: 'Pro Forma'!$N$46
Name Actual_Constructioncost_eligible: 'Pro Forma'!$H$56
Name Actual_Constructioncost_ineligible: 'Pro Forma'!$K$56
Name Actual_Constructioncost_total: 'Pro Forma'!$N$56
Name Actual_Demolition_eligible: 'Pro Forma'!$H$44
Name Actual_Demolition_ineligible: 'Pro Forma'!$K$44
Name Actual_Demolition_total: 'Pro Forma'!$N$44
Name Actual_GCfee_eligible: 'Pro Forma'!$H$59
Name Actual_GCfee_ineligible: 'Pro Forma'!$K$59
Name Actual_GCfee_total: 'Pro Forma'!$N$59
Name Actual_NewConAct_eligible: 'Pro Forma'!$H$48
Name Actual_NewConAct_ineligible: 'Pro Forma'!$K$48
Name Actual_NewConAct_total: 'Pro Forma'!$N$48
Name Actual_Other_eligible: 'Pro Forma'!$H$54
Name Actual_Other_ineligible: 'Pro Forma'!$K$54
Name Actual_Other_total: 'Pro Forma'!$N$54
Name Actual_Rehab_NonAcq: Data3!$N$305
Name Actual_RehabAct_eligible: 'Pro Forma'!$H$52
Name Actual_RehabAct_ineligible: 'Pro Forma'!$K$52
Name Actual_RehabAct_total: 'Pro Forma'!$N$52
Name Actual_site_eligible: 'Pro Forma'!$H$50
Name Actual_site_ineligible: 'Pro Forma'!$K$50
Name Actual_site_total: 'Pro Forma'!$N$50
Name Actual_TotalConstructioncost_eligible: 'Pro Forma'!$H$62
Name Actual_TotalConstructioncost_ineligible: 'Pro Forma'!$K$62
Name Actual_TotalConstructioncost_total: 'Pro Forma'!$N$62
Name Addenda_Comments: 'B. Other Information'!$A$18
Name Addenda_Comments_2: 'B. Other Information'!$A$19
Name Address_of_Occupied: 'Proposed Development Info'!$E$18
Name Aff_Housing_Completion_Dev01: 'Developer Pref'!$C$128
Name Aff_Housing_Completion_Dev02: 'Developer Pref'!$C$129
Name Aff_Housing_Completion_Dev03: 'Developer Pref'!$C$130
Name Aff_Housing_Completion_Dev04: 'Developer Pref'!$C$131
Name Aff_Housing_Completion_Dev05: 'Developer Pref'!$C$132
Name Aff_Housing_Completion_Dev06: 'Developer Pref'!$C$133
Name Aff_Housing_Completion_Dev07: 'Developer Pref'!$C$134
Name Aff_Housing_Completion_Dev08: 'Developer Pref'!$C$135
Name Aff_Housing_Completion_Dev09: 'Developer Pref'!$C$136
Name Aff_Housing_Completion_Dev10: 'Developer Pref'!$C$137
Name Aff_Housing_Completion_Dev11: 'Developer Pref'!$C$138
Name Aff_Housing_Completion_Location01: 'Developer Pref'!$H$128
Name Aff_Housing_Completion_Location02: 'Developer Pref'!$H$129
Name Aff_Housing_Completion_Location03: 'Developer Pref'!$H$130
Name Aff_Housing_Completion_Location04: 'Developer Pref'!$H$131
Name Aff_Housing_Completion_Location05: 'Developer Pref'!$H$132
Name Aff_Housing_Completion_Location06: 'Developer Pref'!$H$133
Name Aff_Housing_Completion_Location07: 'Developer Pref'!$H$134
Name Aff_Housing_Completion_Location08: 'Developer Pref'!$H$135
Name Aff_Housing_Completion_Location09: 'Developer Pref'!$H$136
Name Aff_Housing_Completion_Location10: 'Developer Pref'!$H$137
Name Aff_Housing_Completion_Location11: 'Developer Pref'!$H$138
Name Aff_Housing_Control_Dev01: 'Developer Pref'!$C$143

Sheet Data2
T2: Includes 2- & 3-Factor CTs | AG2: This includes 2- & 3-Factor CTs | CU2: defined | CX2: defined | CZ2: defined | DA2: defined | DC2: defined | DD2: defined | DF2: defined | DG2: defined | DI2: defined | DK2: defined | DM2: defined | DP2: defined | DS2: defined | DV2: defined
A3: THIS 2026 DATA IS BEING REFERENCED FOR TEB TRANSACTIONS WHEN APPLICABLE. IT IS A PLACE HOLDER FOR 2030 DATA. | AM3: THIS 2023 DATA IS BEING REFERENCED FOR CURRENT YEAR NEEDS. IT IS ALSO A PLACE HOLDER FOR 2027 DATA. | BQ3: THIS 2024 DATA WILL BE REFERENCED IN FUTURE YEAR NEEDS. IT IS ALSO A PLACE HOLDER FOR 2028 DATA. | CU3: THIS 2025 DATA WILL BE REFERENCED IN FUTURE YEAR NEEDS. IT IS ALSO A PLACE HOLDER FOR 2029 DATA.
R4: ="The maximum # of DDAs in any one County is "&TEXT(MAX(Data1!$U$405:$U$471,Data1!$T$405:$T$471),"#,##0")&". There are "&TEXT(ROWS(DS_2026_County_QCTs),"#,##0")&" available slots for any one county below." -> The maximum # of DDAs in any one County is 162. There are 162 available slots for any one county below. | T4: ="The maximum GAOs in any one County is "&TEXT(MAX(Data1!$V$405:$V$471),"#,##0")&". There are "&TEXT(ROWS(DS_2026_County_2F_GAOs),"#,##0")&" available slots for any one county below." -> The maximum GAOs in any one County is 386. There are 386 available slots for any one county below. | V4: ="The maximum GAOs in any one County is "&TEXT(MAX(Data1!$W$405:$W$471),"#,##0")&". There are "&TEXT(ROWS(DS_2026_County_3F_GAOs),"#,##0")&" available slots for any one county below." -> The maximum GAOs in any one County is 0. There are 386 available slots for any one county below. | X4: ="The are ["&TEXT(ROWS(DS_2026_ZCTAs),"#,##0")&"] total 2026 ZCTAs in the non-Sorted column (a maximum in any one County of ["&TEXT(MAX(Data1!$S$405:$S$471),"#,##0")&"]) and ["&TEXT(ROWS(DS_2026_ZCTAs_Sorted),"#,##0")&"] in the 2026 sorted list below." -> The are [406] total 2026 ZCTAs in the non-Sorted column (a maximum in any one County of [49]) and [406] in the 2026 sorted list below. | AA4: ="There are ["&TEXT(COUNT(DS_2026_Metro_QCTs),"#,##0")&"] 2026 Metro QCTs in the non-Sorted column and ["&TEXT(COUNT(DS_2026_Metro_QCTs_Sorted),"#,##0")&"] in the 2026 sorted list below." -> There are [817] 2026 Metro QCTs in the non-Sorted column and [817] in the 2026 sorted list below. | AD4: ="There are ["&TEXT(COUNT(DS_2026_NonMetro_QCTs),"#,##0")&"] 2026 Non-Metro QCTs in the non-Sorted column and ["&TEXT(COUNT(DS_2026_NonMetro_QCTs_Sorted),"#,##0")&"] in the 2026 sorted list below." -> There are [32] 2026 Non-Metro QCTs in the non-Sorted column and [32] in the 2026 sorted list below. | AG4: ="There are ["&TEXT(COUNTA(DS_2026_2F_GAO_Counties),"#,##0")&"] 2026 GAOs in the non-Sorted column and ["&TEXT(COUNT(DS_2026_2F_GAO_CTs_Sorted),"#,##0")&"] in the Two Factor 2026 sorted list below." -> There are [2,801] 2026 GAOs in the non-Sorted column and [2,801] in the Two Factor 2026 sorted list below. | AJ4: ="There are ["&TEXT(COUNTA(DS_2026_3F_GAO_Counties),"#,##0")&"] 2026 GAOs in the non-Sorted column and ["&TEXT(COUNT(DS_2026_3F_GAO_CTs_Sorted),"#,##0")&"] in the 2026 Three Factor sorted list below." -> There are [0] 2026 GAOs in the non-Sorted column and [0] in the 2026 Three Factor sorted list below. | BA4: ="The maximum # of 2023 DDAs in any one county is ["&TEXT(MAX(Data1!$Z$405:$Z$471,Data1!$Y$405:$Y$471),"#,##0")&"]. There are ["&TEXT(ROWS(DS_2023_County_QCTs),"#,##0")&"] available slots for any one 2023 county below." -> The maximum # of 2023 DDAs in any one county is [214]. There are [223] available slots for any one 2023 county below. | BC4: ="The maximum 2023 GAOs in any one county is ["&TEXT(MAX(Data1!$AA$405:$AA$471),"#,##0")&"]. There are ["&TEXT(ROWS(DS_2023_County_GAOs),"#,##0")&"] available slots for any one 2023 county below." -> The maximum 2023 GAOs in any one county is [426]. There are [501] available slots for any one 2023 county below. | BE4: ="The are ["&TEXT(ROWS(DS_2023_ZCTAs),"#,##0")&"] total 2023 ZCTAs in the non-Sorted column (a maximum in any one County of ["&TEXT(MAX(Data1!$X$405:$X$471),"#,##0")&"]) and ["&TEXT(ROWS(DS_2023_ZCTAs_Sorted),"#,##0")&"] in the 2023 sorted list below." -> The are [353] total 2023 ZCTAs in the non-Sorted column (a maximum in any one County of [47]) and [353] in the 2023 sorted list below. | BH4: ="There are ["&TEXT(COUNT(DS_2023_Metro_QCTs),"#,##0")&"] 2023 Metro QCTs in the non-Sorted column and ["&TEXT(COUNT(DS_2023_Metro_QCTs_Sorted),"#,##0")&"] in the sorted 2023 list below." -> There are [802] 2023 Metro QCTs in the non-Sorted column and [802] in the sorted 2023 list below. | BK4: ="There are ["&TEXT(COUNT(DS_2023_NonMetro_QCTs),"#,##0")&"] 2023 Non-Metro QCTs in the non-Sorted column and ["&TEXT(COUNT(DS_2023_NonMetro_QCTs_Sorted),"#,##0")&"] in the 2023 sorted list below." -> There are [36] 2023 Non-Metro QCTs in the non-Sorted column and [36] in the 2023 sorted list below. | BN4: ="There are ["&TEXT(COUNTA(DS_2023_GAO_Counties),"#,##0")&"] 2023 GAOs in the non-Sorted column and ["&TEXT(COUNT(DS_2023_GAO_QCTs_Sorted),"#,##0")&"] in the 2023 sorted list below." -> There are [2,938] 2023 GAOs in the non-Sorted column and [2,938] in the 2023 sorted list below. | CE4: ="The maximum # of 2024 DDAs in any one county is ["&TEXT(MAX(Data1!$AE$405:$AE$471,Data1!$AD$405:$AD$471),"#,##0")&"]. There are ["&TEXT(ROWS(DS_2024_County_QCTs),"#,##0")&"] available slots for any one 2024 county below." -> The maximum # of 2024 DDAs in any one county is [707]. There are [710] available slots for any one 2024 county below. | CG4: ="The maximum 2024 GAOs in any one county is ["&TEXT(MAX(Data1!$AF$405:$AF$471),"#,##0")&"]. There are ["&TEXT(ROWS(DS_2024_County_GAOs),"#,##0")&"] available slots for any one 2024 county below." -> The maximum 2024 GAOs in any one county is [414]. There are [501] available slots for any one 2024 county below. | CI4: ="The are ["&TEXT(ROWS(DS_2024_ZCTAs),"#,##0")&"] total 2024 ZCTAs in the non-Sorted column (a maximum in any one County of ["&TEXT(MAX(Data1!$AC$405:$AC$471),"#,##0")&"]) and ["&TEXT(ROWS(DS_2024_ZCTAs_Sorted),"#,##0")&"] in the 2024 sorted list below." -> The are [398] total 2024 ZCTAs in the non-Sorted column (a maximum in any one County of [48]) and [398] in the 2024 sorted list below. | CL4: ="There are ["&TEXT(COUNT(DS_2024_Metro_QCTs),"#,##0")&"] 2024 Metro QCTs in the non-Sorted column and ["&TEXT(COUNT(DS_2024_Metro_QCTs_Sorted),"#,##0")&"] in the sorted 2024 list below." -> There are [4,960] 2024 Metro QCTs in the non-Sorted column and [4,960] in the sorted 2024 list below. | CO4: ="There are ["&TEXT(COUNT(DS_2024_NonMetro_QCTs),"#,##0")&"] 2024 Non-Metro QCTs in the non-Sorted column and ["&TEXT(COUNT(DS_2024_NonMetro_QCTs_Sorted),"#,##0")&"] in the 2024 sorted list below." -> There are [200] 2024 Non-Metro QCTs in the non-Sorted column and [200] in the 2024 sorted list below. | CR4: ="There are ["&TEXT(COUNTA(DS_2024_GAO_Counties),"#,##0")&"] 2024 GAOs in the non-Sorted column and ["&TEXT(COUNT(DS_2024_GAO_QCTs_Sorted),"#,##0")&"] in the 2024 sorted list below." -> There are [2,931] 2024 GAOs in the non-Sorted column and [2,931] in the 2024 sorted list below. | DI4: ="The maximum # of 2025 DDAs in any one county is ["&TEXT(MAX(Data1!$AJ$405:$AJ$471,Data1!$AI$405:$AI$471),"#,##0")&"]. There are ["&TEXT(ROWS(DS_2025_County_QCTs),"#,##0")&"] available slots for any one 2025 county below." -> The maximum # of 2025 DDAs in any one county is [163]. There are [163] available slots for any one 2025 county below. | DK4: ="The maximum 2025 GAOs in any one county is ["&TEXT(MAX(Data1!$AK$405:$AK$471),"#,##0")&"]. There are ["&TEXT(ROWS(DS_2025_County_GAOs),"#,##0")&"] available slots for any one 2025 county below." -> The maximum 2025 GAOs in any one county is [388]. There are [388] available slots for any one 2025 county below. | DM4: ="The are ["&TEXT(ROWS(DS_2025_ZCTAs),"#,##0")&"] total 2025 ZCTAs in the non-Sorted column (a maximum in any one County of ["&TEXT(MAX(Data1!$AH$405:$AH$471),"#,##0")&"]) and ["&TEXT(ROWS(DS_2025_ZCTAs_Sorted),"#,##0")&"] in the 2025 sorted list below." -> The are [438] total 2025 ZCTAs in the non-Sorted column (a maximum in any one County of [54]) and [438] in the 2025 sorted list below. | DP4: ="There are ["&TEXT(COUNT(DS_2025_Metro_QCTs),"#,##0")&"] 2025 Metro QCTs in the non-Sorted column and ["&TEXT(COUNT(DS_2025_Metro_QCTs_Sorted),"#,##0")&"] in the sorted 2025 list below." -> There are [917] 2025 Metro QCTs in the non-Sorted column and [917] in the sorted 2025 list below. | DS4: ="There are ["&TEXT(COUNT(DS_2025_NonMetro_QCTs),"#,##0")&"] 2025 Non-Metro QCTs in the non-Sorted column and ["&TEXT(COUNT(DS_2025_NonMetro_QCTs_Sorted),"#,##0")&"] in the 2025 sorted list below." -> There are [35] 2025 Non-Metro QCTs in the non-Sorted column and [35] in the 2025 sorted list below. | DV4: ="There are ["&TEXT(COUNTA(DS_2025_GAO_Counties),"#,##0")&"] 2025 GAOs in the non-Sorted column and ["&TEXT(COUNT(DS_2025_GAO_QCTs_Sorted),"#,##0")&"] in the 2025 sorted list below." -> There are [2,823] 2025 GAOs in the non-Sorted column and [2,823] in the 2025 sorted list below. | EK4: D O N O T T O U C H | EO4: PROPOSED DEV LOCATION DATA POINTS | EP4: Small | EQ4: Medium | ER4: Large*
L5: This includes 2- & 3-Factor CTs | EK5: 6378.137 | EL5: Equatorial radius: 3,963.2 miles (6,378.1 km) | EN5: LAT | EO5: =IF(EF9="",DLP_latitude,EF9) -> 0 | EP5: 5 | EQ5: 3 | ER5: NA | ES5: Proposed is an LDA Development
A6: County w/ Most Entries | F6: County w/ Most Entries | I6: County w/ Most Entries | L6: County w/ Most Entries | O6: County w/ Most Entries | AM6: County w/ Most Entries | AR6: County w/ Most Entries | AU6: County w/ Most Entries | AX6: County w/ Most Entries | BQ6: County w/ Most Entries | BV6: County w/ Most Entries | BY6: County w/ Most Entries | CB6: County w/ Most Entries | CU6: County w/ Most Entries | CZ6: County w/ Most Entries | DC6: County w/ Most Entries | DF6: County w/ Most Entries | EK6: 6356.7523 | EL6: Polar radius: 3,949.9 miles (6,356.8 km) | EN6: LONG | EO6: =IF(EG9="",DLP_longitude,EG9) -> 0 | EP6: 2 | EQ6: 1 | ER6: NA | ES6: Prox List Dev at least 31 units
A7: =COUNTIF(B13:B418,B7) -> 49 | B7: {=IFERROR(_xlfn.SINGLE(INDEX(B13:B418,MODE(MATCH(B13:B418,B13:B418,0)))),"NA")} -> Broward | F7: =COUNTIF(G13:G829,G7) -> 162 | G7: {=IFERROR(_xlfn.SINGLE(INDEX(G13:G829,MODE(MATCH(G13:G829,G13:G829,0)))),"NA")} -> Miami-Dade | I7: =COUNTIF(J13:J44,J7) -> 9 | J7: {=IFERROR(_xlfn.SINGLE(INDEX(J13:J44,MODE(MATCH(J13:J44,J13:J44,0)))),"NA")} -> Putnam | L7: =COUNTIF(M13:M2813,M7) -> 386 | M7: {=IFERROR(_xlfn.SINGLE(INDEX(M13:M2813,MODE(MATCH(M13:M2813,M13:M2813,0)))),"NA")} -> Miami-Dade | O7: =COUNTIF(P14:P2811,P7) -> 0 | P7: {=IFERROR(_xlfn.SINGLE(INDEX(P14:P2811,MODE(MATCH(P14:P2811,P14:P2811,0)))),"NA")} -> NA | AM7: =COUNTIF(AN13:AN365,AN7) -> 47 | AN7: {=IFERROR(_xlfn.SINGLE(INDEX(AN13:AN365,MODE(MATCH(AN13:AN365,AN13:AN365,0)))),"NA")} -> Miami-Dade | AR7: =COUNTIF(AS13:AS814,AS7) -> 214 | AS7: {=IFERROR(_xlfn.SINGLE(INDEX(AS13:AS814,MODE(MATCH(AS13:AS814,AS13:AS814,0)))),"NA")} -> Miami-Dade | AU7: =COUNTIF(AV13:AV48,AV7) -> 7 | AV7: {=IFERROR(_xlfn.SINGLE(INDEX(AV13:AV48,MODE(MATCH(AV13:AV48,AV13:AV48,0)))),"NA")} -> Putnam | AX7: =COUNTIF(AY13:AY2950,AY7) -> 426 | AY7: {=IFERROR(_xlfn.SINGLE(INDEX(AY13:AY2950,MODE(MATCH(AY13:AY2950,AY13:AY2950,0)))),"NA")} -> Miami-Dade | BQ7: =COUNTIF(BR13:BR410,BR7) -> 48 | BR7: {=IFERROR(_xlfn.SINGLE(INDEX(BR13:BR410,MODE(MATCH(BR13:BR410,BR13:BR410,0)))),"NA")} -> Miami-Dade | BV7: =COUNTIF(BW13:BW4972,BW7) -> 707 | BW7: {=IFERROR(_xlfn.SINGLE(INDEX(BW13:BW4972,MODE(MATCH(BW13:BW4972,BW13:BW4972,0)))),"NA")} -> Miami-Dade | BY7: =COUNTIF(BZ13:BZ212,BZ7) -> 29 | BZ7: {=IFERROR(_xlfn.SINGLE(INDEX(BZ13:BZ212,MODE(MATCH(BZ13:BZ212,BZ13:BZ212,0)))),"NA")} -> Monroe | CB7: =COUNTIF(DS_2024_GAO_Counties,CC7) -> 414 | CC7: {=IFERROR(_xlfn.SINGLE(INDEX(DS_2024_GAO_Counties,MODE(MATCH(DS_2024_GAO_Counties,DS_2024_GAO_Counties,0)))),"NA")} -> Miami-Dade | CU7: =COUNTIF(CV13:CV408,CV7) -> 54 | CV7: {=IFERROR(_xlfn.SINGLE(INDEX(CV13:CV408,MODE(MATCH(CV13:CV408,CV13:CV408,0)))),"NA")} -> Miami-dade | CZ7: =COUNTIF(DA13:DA929,DA7) -> 163 | DA7: {=IFERROR(_xlfn.SINGLE(INDEX(DA13:DA929,MODE(MATCH(DA13:DA929,DA13:DA929,0)))),"NA")} -> Miami-Dade | DC7: =COUNTIF(DD13:DD47,DD7) -> 7 | DD7: {=IFERROR(_xlfn.SINGLE(INDEX(DD13:DD47,MODE(MATCH(DD13:DD47,DD13:DD47,0)))),"NA")} -> Putnam | DF7: {=IFERROR(COUNTIF(DS_2025_GAO_Counties,DG7),0)} -> 388 | DG7: {=IFERROR(_xlfn.SINGLE(INDEX(DS_2025_GAO_Counties,MODE(MATCH(DS_2025_GAO_Counties,DS_2025_GAO_Counties,0)))),"NA")} -> Miami-Dade | EK7: =1.609347*0+0*6356.7523142/3949.9027642+1*6378.137/3963.191 -> 1.6093438 | EL7: Conversion of km to mi: | EN7: Demo | EO7: =IF(Demographic="Elderly (Elderly Transformative Preservation)","Elderly Non-ALF",IF(OR(Demographic="Farmworker/Commercial Fish Worker",Demographic="Farmworker",Demographic="Unaccompanied Farmworker",Demographic="Commercial Fishing Worker",Demographic="Unaccompanied Commercial Fishing Worker"),"Farm/Fishing Worker",Demographic)) -> <select one> | EP7: 1 | EQ7: 0.5 | ER7: NA | ES7: Prox List Dev less than 31 units
O8: --- NOT BEING USED --- | EF8: Override Lat | EG8: Override Long | EN8: Size | EO8: =County_Size | EP8: =0.00008*0 -> 0 | EQ8: =EP8 -> 0 | ER8: =EQ8 -> 0 | ES8: ="Variance permitted in distance calculation ("&TEXT(EP8*5280,"0.00")&" "&IF(EP8*5280>1,"feet","foot (= "&TEXT(EP8*5280*12,"0.0")&" inches)")&")" -> Variance permitted in distance calculation (0.00 foot (= 0.0 inches))
A9: DS_2026_ZCTAs | D9: DS_2026_NonMetro_DDAs | F9: DS_2026_Metro_QCTs | I9: DS_2026_NonMetro_QCTs | L9: DS_2026_2F_GAO_CTs | O9: DS_2026_3F_GAO_CTs | R9: DS_2026_County_QCTs | T9: DS_2026_County_2F_GAOs | V9: DS_2026_County_3F_GAOs | X9: DS_2026_ZCTAs_Sorted | AA9: DS_2026_Metro_QCTs_Sorted | AD9: DS_2026_NonMetro_QCTs_Sorted | AJ9: --- NOT BEING USED --- | AM9: DS_2023_ZCTAs | AP9: DS_2023_NonMetro_DDAs | AR9: DS_2023_Metro_QCTs | AU9: DS_2023_NonMetro_QCTs | AX9: DS_2023_GAO_QCTs | BA9: DS_2023_County_QCTs | BC9: DS_2023_County_GAOs | BE9: DS_2023_ZCTAs_Sorted | BH9: DS_2023_Metro_QCTs_Sorted | BK9: DS_2023_NonMetro_QCTs_Sorted | BQ9: DS_2024_ZCTAs | BT9: DS_2024_NonMetro_DDAs | BV9: DS_2024_Metro_QCTs | BY9: DS_2024_NonMetro_QCTs | CB9: DS_2024_GAO_QCTs | CE9: DS_2024_County_QCTs | CG9: DS_2024_County_GAOs | CI9: DS_2024_ZCTAs_Sorted | CL9: DS_2024_Metro_QCTs_Sorted | CO9: DS_2024_NonMetro_QCTs_Sorted | CU9: DS_2025_ZCTAs | CX9: DS_2025_NonMetro_DDAs | CZ9: DS_2025_Metro_QCTs | DC9: DS_2025_NonMetro_QCTs | DF9: DS_2025_GAO_QCTs | DI9: DS_2025_County_QCTs | DK9: DS_2025_County_GAOs | DM9: DS_2025_ZCTAs_Sorted | DP9: DS_2025_Metro_QCTs_Sorted | DS9: DS_2025_NonMetro_QCTs_Sorted | EB9: Proximity List (Section 4.A.5.f.) | EJ9: 2026-2027 DS_Proximity_DDMenu | EP9: *If there is at least one "NA" under Large, then none of the Large County proposed Developments will be checked.
G10: DS_2026_Metro_QCT_Counties | J10: DS_2026_NonMetro_QCT_Counties | M10: DS_2026_2F_GAO_Counties | P10: DS_2026_3F_GAO_Counties | T10: Geo_Area_of_Opp_boost | V10: # of Factors Selected | X10: When 1 ZCTA is listed for 2 Counties, use a formula to switch | AG10: DS_2026_2F_GAO_CTs_Sorted | AJ10: DS_2026_3F_GAO_CTs_Sorted | AS10: DS_2023_Metro_QCT_Counties | AV10: DS_2023_NonMetro_QCT_Counties | AY10: DS_2023_GAO_Counties | BC10: Geo_Area_of_Opp_boost | BE10: When 1 ZCTA is listed for 2 Counties, use a formula to switch | BN10: DS_2023_GAO_QCTs_Sorted | BW10: DS_2024_Metro_QCT_Counties | BZ10: DS_2024_NonMetro_QCT_Counties | CC10: DS_2024_GAO_Counties | CG10: Geo_Area_of_Opp_boost | CI10: When 1 ZCTA is listed for 2 Counties, use a formula to switch | CR10: DS_2024_GAO_QCTs_Sorted | DA10: DS_2025_Metro_QCT_Counties | DD10: DS_2025_NonMetro_QCT_Counties | DG10: DS_2025_GAO_Counties | DK10: Geo_Area_of_Opp_boost | DM10: When 1 ZCTA is listed for 2 Counties, use a formula to switch | DV10: DS_2025_GAO_QCTs_Sorted | EB10: 06/26/26 Final Version | EF10: Any entry in above cells will be prioritized over Applicant Lat Long calculations | ES10: How many decimals should be displayed when indicating distance (in miles)? | ET10: 3 | EV10: Turn off multiple sites for a single Development? (Default="Yes")
G11: ↓ | J11: ↓ | L11: Two Factor List | M11: ↓ | O11: Three Factor List | P11: ↓ | R11: =IF(NOT(ISNA(VLOOKUP(County,DS_2026_Metro_QCT_Counties,1,FALSE))),"Metro",IF(NOT(ISNA(VLOOKUP(County,DS_2026_NonMetro_QCT_Counties,1,FALSE))),"Non-Metro",IF(AND(ISNA(VLOOKUP(County,DS_2026_NonMetro_QCT_Counties,1,FALSE)),ISNA(VLOOKUP(County,DS_2026_Metro_QCT_Counties,1,FALSE))),"Neither",""))) -> Neither | T11: =Geo_Area_of_Opp_boost -> <select from menu> | V11: --- NOT BEING USED --- | AG11: ↓ | AJ11: ↓ | AS11: ↓ | AV11: ↓ | AY11: ↓ | BA11: =IF(NOT(ISNA(VLOOKUP(County,DS_2023_Metro_QCT_Counties,1,FALSE))),"Metro",IF(NOT(ISNA(VLOOKUP(County,DS_2023_NonMetro_QCT_Counties,1,FALSE))),"Non-Metro",IF(AND(ISNA(VLOOKUP(County,DS_2023_NonMetro_QCT_Counties,1,FALSE)),ISNA(VLOOKUP(County,DS_2023_Metro_QCT_Counties,1,FALSE))),"Neither",""))) -> Neither | BC11: =Geo_Area_of_Opp_boost -> <select from menu> | BN11: ↓ | BW11: ↓ | BZ11: ↓ | CC11: ↓ | CE11: =IF(NOT(ISNA(VLOOKUP(County,DS_2024_Metro_QCT_Counties,1,FALSE))),"Metro",IF(NOT(ISNA(VLOOKUP(County,DS_2024_NonMetro_QCT_Counties,1,FALSE))),"Non-Metro",IF(AND(ISNA(VLOOKUP(County,DS_2024_NonMetro_QCT_Counties,1,FALSE)),ISNA(VLOOKUP(County,DS_2024_Metro_QCT_Counties,1,FALSE))),"Neither",""))) -> Neither | CG11: =Geo_Area_of_Opp_boost -> <select from menu> | CR11: ↓ | DA11: ↓ | DD11: ↓ | DG11: ↓ | DI11: =IF(NOT(ISNA(VLOOKUP(County,DS_2025_Metro_QCT_Counties,1,FALSE))),"Metro",IF(NOT(ISNA(VLOOKUP(County,DS_2025_NonMetro_QCT_Counties,1,FALSE))),"Non-Metro",IF(AND(ISNA(VLOOKUP(County,DS_2025_NonMetro_QCT_Counties,1,FALSE)),ISNA(VLOOKUP(County,DS_2025_Metro_QCT_Counties,1,FALSE))),"Neither",""))) -> Neither | DK11: =Geo_Area_of_Opp_boost -> <select from menu> | DV11: ↓ | ES11: ="(implying a possible variance of "&TEXT(5280*CHOOSE(ET10+1,1,0.1,0.01,0.001,0.0001),CHOOSE($ET$10+1,"0","0","0.0","0.00","0.000"))&" feet)" -> (implying a possible variance of 5.28 feet) | EV11: Yes
A12: ="2026 ZCTAs"&CHAR(10)&"(last row is "&TEXT(12+COUNTA(DS_2026_ZCTAs)/2,"#,##0")&")" -> 2026 ZCTAs (last row is 418) | D12: ="2026 Non-Metro DDA's"&CHAR(10)&"(last row is "&TEXT(12+COUNTA(DS_2026_NonMetro_DDAs),"#,##0")&")" -> 2026 Non-Metro DDA's (last row is 26) | F12: ="2026 Metro QCT's"&CHAR(10)&"(last row is "&TEXT(12+COUNTA(DS_2026_Metro_QCTs)/2,"#,##0")&")" -> 2026 Metro QCT's (last row is 829) | I12: ="2026 Non-Metro QCT's"&CHAR(10)&"(last row is "&TEXT(12+COUNTA(DS_2026_NonMetro_QCTs)/2,"#,##0")&")" -> 2026 Non-Metro QCT's (last row is 44) | L12: ="2F GAO's effective 02/16/26"&CHAR(10)&"(last row is "&TEXT(12+COUNTA(DS_2026_2F_GAO_CTs)/2,"#,##0")&")" -> 2F GAO's effective 02/16/26 (last row is 2,813) | O12: ="3F GAO's effective 02/16/26"&CHAR(10)&"(last row is "&TEXT(12+COUNTA(DS_2026_3F_GAO_CTs)/2,"#,##0")&")" -> 3F GAO's effective 02/16/26 (last row is 12) | R12: ="2026 QCTs in "&County&CHAR(10)&"(last row is "&TEXT(12+COUNTA(DS_2026_County_QCTs),"#,##0")&")" -> 2026 QCTs in <select one> (last row is 174) | T12: ="2026 2F GAOs in "&County&CHAR(10)&"(last row is "&TEXT(12+COUNTA(DS_2026_County_2F_GAOs),"#,##0")&")" -> 2026 2F GAOs in <select one> (last row is 398) | V12: ="2026 3F GAOs in "&County&CHAR(10)&"(last row is "&TEXT(12+COUNTA(DS_2026_County_3F_GAOs),"#,##0")&")" -> 2026 3F GAOs in <select one> (last row is 398) | X12: 2026 ZCTAs sorted by ZCTA | AA12: 2026 Metro QCT's sorted by QCT | AD12: 2026 Non-Metro QCT's sorted by QCT | AG12: All 2026 2F GAOs sorted by CT | AJ12: All 2026 3F GAOs sorted by CT | AM12: ="2023 ZCTAs"&CHAR(10)&"(last row is "&TEXT(12+COUNTA(DS_2023_ZCTAs)/2,"#,##0")&")" -> 2023 ZCTAs (last row is 365) | AP12: ="2023 Non-Metro DDA's"&CHAR(10)&"(last row is "&TEXT(12+COUNTA(DS_2023_NonMetro_DDAs),"#,##0")&")" -> 2023 Non-Metro DDA's (last row is 35) | AR12: ="2023 Metro QCT's"&CHAR(10)&"(last row is "&TEXT(12+COUNTA(DS_2023_Metro_QCTs)/2,"#,##0")&")" -> 2023 Metro QCT's (last row is 814) | AU12: ="2023 Non-Metro QCT's"&CHAR(10)&"(last row is "&TEXT(12+COUNTA(DS_2023_NonMetro_QCTs)/2,"#,##0")&")" -> 2023 Non-Metro QCT's (last row is 48) | AX12: ="GAO's effective 2/1/23"&CHAR(10)&"(last row is "&TEXT(12+COUNTA(DS_2023_GAO_QCTs)/2,"#,##0")&")" -> GAO's effective 2/1/23 (last row is 2,950) | BA12: ="2023 QCTs in "&County&CHAR(10)&"(last row is "&TEXT(12+COUNTA(DS_2023_County_QCTs),"#,##0")&")" -> 2023 QCTs in <select one> (last row is 235) | BC12: ="2023 GAOs in "&County&CHAR(10)&"(last row is "&TEXT(12+COUNTA(DS_2023_County_GAOs),"#,##0")&")" -> 2023 GAOs in <select one> (last row is 513) | BE12: 2023 ZCTAs sorted by ZCTA | BH12: 2023 Metro QCT's sorted by QCT | BK12: 2023 Non-Metro QCT's sorted by QCT | BN12: All 2023 GAOs sorted by QCT | BQ12: ="2024 ZCTAs"&CHAR(10)&"(last row is "&TEXT(12+COUNTA(DS_2024_ZCTAs)/2,"#,##0")&")" -> 2024 ZCTAs (last row is 410) | BT12: ="2024 Non-Metro DDA's"&CHAR(10)&"(last row is "&TEXT(12+COUNTA(DS_2024_NonMetro_DDAs),"#,##0")&")" -> 2024 Non-Metro DDA's (last row is 35) | BV12: ="2024 Metro QCT's"&CHAR(10)&"(last row is "&TEXT(12+COUNTA(DS_2024_Metro_QCTs)/2,"#,##0")&")" -> 2024 Metro QCT's (last row is 4,972) | BY12: ="2024 Non-Metro QCT's"&CHAR(10)&"(last row is "&TEXT(12+COUNTA(DS_2024_NonMetro_QCTs)/2,"#,##0")&")" -> 2024 Non-Metro QCT's (last row is 212) | CB12: ="GAO's effective 2/1/24"&CHAR(10)&"(last row is "&TEXT(12+COUNTA(DS_2024_GAO_QCTs)/2,"#,##0")&")" -> GAO's effective 2/1/24 (last row is 2,944) | CE12: ="2024 QCTs in "&County&CHAR(10)&"(last row is "&TEXT(12+COUNTA(DS_2024_County_QCTs),"#,##0")&")" -> 2024 QCTs in <select one> (last row is 722) | CG12: ="2024 GAOs in "&County&CHAR(10)&"(last row is "&TEXT(12+COUNTA(DS_2024_County_GAOs),"#,##0")&")" -> 2024 GAOs in <select one> (last row is 513) | CI12: 2024 ZCTAs sorted by ZCTA | CL12: 2024 Metro QCT's sorted by QCT | CO12: 2024 Non-Metro QCT's sorted by QCT | CR12: All 2024 GAOs sorted by QCT | CU12: ="2025 ZCTAs"&CHAR(10)&"(last row is "&TEXT(12+COUNTA(DS_2025_ZCTAs)/2,"#,##0")&")" -> 2025 ZCTAs (last row is 409) | CX12: ="2025 Non-Metro DDA's"&CHAR(10)&"(last row is "&TEXT(12+COUNTA(DS_2025_NonMetro_DDAs),"#,##0")&")" -> 2025 Non-Metro DDA's (last row is 32) | CZ12: ="2025 Metro QCT's"&CHAR(10)&"(last row is "&TEXT(12+COUNTA(DS_2025_Metro_QCTs)/2,"#,##0")&")" -> 2025 Metro QCT's (last row is 930) | DC12: ="2025 Non-Metro QCT's"&CHAR(10)&"(last row is "&TEXT(12+COUNTA(DS_2025_NonMetro_QCTs)/2,"#,##0")&")" -> 2025 Non-Metro QCT's (last row is 48) | DF12: ="GAO's effective 2/1/25"&CHAR(10)&"(last row is "&TEXT(12+COUNTA(DS_2025_GAO_QCTs)/2,"#,##0")&")" -> GAO's effective 2/1/25 (last row is 2,838) | DI12: ="2025 QCTs in "&County&CHAR(10)&"(last row is "&TEXT(12+COUNTA(DS_2025_County_QCTs),"#,##0")&")" -> 2025 QCTs in <select one> (last row is 175) | DK12: ="2025 GAOs in "&County&CHAR(10)&"(last row is "&TEXT(12+COUNTA(DS_2025_County_GAOs),"#,##0")&")" -> 2025 GAOs in <select one> (last row is 400) | DM12: 2025 ZCTAs sorted by ZCTA | DP12: 2025 Metro QCT's sorted by QCT | DS12: 2025 Non-Metro QCT's sorted by QCT | DV12: All 2025 GAOs sorted by QCT | EB12: County | EC12: County Size | ED12: File # | EE12: Development | EF12: Latitude Coordinates (Decimal Degrees) | EG12: Longitude Coordinates (Decimal Degrees) | EH12: Demo | EI12: 30 units or less? | EJ12: <select one> | EK12: Demographic | EL12: Latitude, Longitude Coordinates | EM12: Less than 31 units? | EN12: Multi-Site Selection | EO12: Multi-Site Name | EP12: Calculated Distance | EQ12: Demo Match | ER12: County Size | ES12: Publish This Information (up to top 4) | ET12: Publish Sequence | EU12: =SUM(EU13:EU76) -> 0 | EV12: Property Description to Publish
A13: 32606 | B13: Alachua | D13: Columbia | F13: 2.02 | G13: Alachua | I13: 1103 | J13: Columbia | L13: 5 | M13: Alachua | R13: {=IFERROR(IF($R$11="Metro",INDEX($F$13:$F$829,SMALL(IF((County=$G$13:$G$829),MATCH(ROW($G$13:$G$829),ROW($G$13:$G$829)),""),ROWS($A$13:A13))),INDEX($I$13:$I$44,SMALL(IF((County=$J$13:$J$44),MATCH(ROW($J$13:$J$44),ROW($J$13:$J$44)),""),ROWS($A$13:A13)))),"")} | T13: {=IFERROR(IF($T$11="Yes",INDEX($L$13:$L$2813,SMALL(IF((County=$M$13:$M$2813),MATCH(ROW($M$13:$M$2813),ROW($M$13:$M$2813)),""),ROWS($A$13:A13))),""),"")} | V13: {=IFERROR(IF($T$11="Yes",INDEX($O$14:$O$2811,SMALL(IF((County=$P$14:$P$2811),MATCH(ROW($P$14:$P$2811),ROW($P$14:$P$2811)),""),ROWS($A$13:A13))),""),"")} | X13: 32003 | Y13: Clay | AA13: 1.01 | AB13: Duval | AD13: 1 | AE13: Glades | AG13: 1 | AH13: Bradford | AM13: 32403 | AN13: Bay | AP13: Bradford | AR13: 2.01 | AS13: Alachua | AU13: 400 | AV13: Columbia | AX13: 2.01 | AY13: Alachua | BA13: {=IFERROR(IF($BA$11="Metro",INDEX($AR$13:$AR$814,SMALL(IF((County=$AS$13:$AS$814),MATCH(ROW($AS$13:$AS$814),ROW($AS$13:$AS$814)),""),ROWS($A$13:$A13))),INDEX($AU$13:$AU$48,SMALL(IF((County=$AV$13:$AV$48),MATCH(ROW($AV$13:$AV$48),ROW($AV$13:$AV$48)),""),ROWS($A$13:$A13)))),"")} | BC13: {=IFERROR(IF($BC$11="Yes",INDEX($AX$13:$AX$2950,SMALL(IF((County=$AY$13:$AY$2950),MATCH(ROW($AY$13:$AY$2950),ROW($AY$13:$AY$2950)),""),ROWS($A$13:$A13))),""),"")} | BE13: 32003 | BF13: Clay | BH13: 1.01 | BI13: Duval | BK13: 0 | BL13: Liberty | BN13: 1 | BO13: Escambia | BQ13: 32403 | BR13: Bay | BT13: Bradford | BV13: 2.01 | BW13: Alachua | BY13: 1 | BZ13: Bradford | CB13: 2.01 | CC13: Alachua | CE13: {=IFERROR(IF($CE$11="Metro",INDEX($BV$13:$BV$4972,SMALL(IF((County=$BW$13:$BW$4972),MATCH(ROW($BW$13:$BW$4972),ROW($BW$13:$BW$4972)),""),ROWS($A$13:$A13))),INDEX($BY$13:$BY$212,SMALL(IF((County=$BZ$13:$BZ$212),MATCH(ROW($BZ$13:$BZ$212),ROW($BZ$13:$BZ$212)),""),ROWS($A$13:$A13)))),"")} | CG13: {=IFERROR(IF($CG$11="Yes",INDEX($CB$13:$CB$2950,SMALL(IF((County=$CC$13:$CC$2950),MATCH(ROW($CC$13:$CC$2950),ROW($CC$13:$CC$2950)),""),ROWS($A$13:$A13))),""),"")} | CI13: 32003 | CJ13: Clay | CL13: 1 | CM13: Escambia | CO13: 1 | CP13: Bradford | CR13: 1 | CS13: Escambia | CU13: 32669 | CV13: Alachua | CX13: Columbia | CZ13: 2.02 | DA13: Alachua | DC13: 1103 | DD13: Columbia | DF13: 2.01 | DG13: Alachua | DI13: {=IFERROR(IF($DI$11="Metro",INDEX($CZ$13:$CZ$929,SMALL(IF((County=$DA$13:$DA$929),MATCH(ROW($DA$13:$DA$929),ROW($DA$13:$DA$929)),""),ROWS($A$13:$A13))),INDEX($DC$13:$DC$212,SMALL(IF((County=$DD$13:$DD$212),MATCH(ROW($DD$13:$DD$212),ROW($DD$13:$DD$212)),""),ROWS($A$13:$A13)))),"")} | DK13: {=IFERROR(IF($DK$11="Yes",INDEX($DF$13:$DF$2838,SMALL(IF((County=$DG$13:$DG$2838),MATCH(ROW($DG$13:$DG$2838),ROW($DG$13:$DG$2838)),""),ROWS($A$13:$A13))),""),"")} | DM13: 32003 | DN13: Clay | DP13: 1.01 | DQ13: Duval | DS13: 2 | DT13: Hendry | DV13: 1 | DW13: Escambia | EB13: Alachua | EC13: =VLOOKUP(EB13,Data1!$A$405:$H$471,8) -> Medium | ED13: 2026-024BS | EE13: GHA Build First Site | EF13: 29.65338 | EG13: -82.30957 | EH13: F | EI13: N | EJ13: =EB13&" - "&EE13 -> Alachua - GHA Build First Site | EK13: =IF(EH13="F","Family",IF(EH13="E","Elderly Non-ALF",IF(EH13="ALF","Elderly ALF",IF(EH13="W","Workforce",IF(EH13="F,F","Farm/Fishing Worker",""))))) -> Family | EL13: ="("&EF13&", "&EG13&")" -> (29.65338, -82.30957) | EM13: =IF(EI13="N",">30",IF(EI13="Y","<31","")) -> >30 | EN13: =IF(AND($EV$11="Yes",_xlfn.MINIFS($EP$13:$EP$76,$EO$13:$EO$76,$EO13)=EP13,IFERROR(FIND("- Site",EJ13),0)>0),1,"") | EO13: =IF(IFERROR(FIND("- site",EJ13),0)=0,EJ13,LEFT(EJ13,IFERROR(FIND("- site",EJ13),0)-2)) -> Alachua - GHA Build First Site | EP13: =IF($EF13=0,0,2*ATAN2(SQRT(1-SIN(ABS($EF13-$EO$5)*PI()/180/2)^2+COS($EO$5*PI()/180)*COS($EF13*PI()/180)*SIN(ABS($EG13-$EO$6)*PI()/180/2)^2),SQRT(SIN(ABS($EF13-$EO$5)*PI()/180/2)^2+COS($EO$5*PI()/180)*COS($EF13*PI()/180)*SIN(ABS($EG13-$EO$6)*PI()/180/2)^2))*SQRT((($EK$5^2*COS($EO$5))^2+($EK$6^2*SIN($EO$5))^2)/(($EK$5*COS($EO$5))^2+($EK$6*SIN($EO$5))^2))/$EK$7) -> 4169.3697 | EQ13: =IF($EO$7=EK13,"Yes","No") -> No | ER13: =VLOOKUP(EB13,Data1!$G$405:$H$471,2) -> Medium | ES13: =IF(COUNTA($EJ$13:$EJ13)<=$EU$12,LOOKUP(COUNTA($EJ$13:$EJ13),DS_Proximity_List_Sequence,DS_Proximity_List_PublishNames)&", about "&TEXT(ROUND(LOOKUP(COUNTA($EJ$13:$EJ13),DS_Proximity_List_Sequence,DS_Mandadory_Distance_Calc),$ET$10),CHOOSE($ET$10+1,"0","0.0","0.00","0.000","0.0000"))&" miles, with "&LOOKUP(COUNTA($EJ$13:$EJ13),DS_Proximity_List_Sequence,DS_Prox_List_Demo)&" Demo","") | ET13: =IF(EU13>0,SUM(EU$13:EU13),"") | EU13: =IF(AND(ER13="Large",OR($ER$5="NA",$ER$6="NA",$ER$7="NA")),0,IF(AND(EP13<IF(LDA_Notice="LDA",IF(ER13="Small",N($EP$5)+N($EP$8),IF(ER13="Medium",N($EQ$5)+N($EQ$8),N($ER$5)+N($ER$8))),IF(EM13=">30",IF(ER13="Small",N($EP$6)+N($EP$8),IF(ER13="Medium",N($EQ$6)+N($EQ$8),N($ER$6)+N($ER$8))),IF(ER13="Small",N($EP$7)+N($EP$8),IF(ER13="Medium",N($EQ$7)+N($EQ$8),N($ER$7)+N($ER$8))))),EQ13="Yes",OR(IFERROR(FIND("- site",EJ13),0)=0,$EV$11="No",AND(IFERROR(FIND("- site",EJ13),0)>0,EN13=1)),OR(Proximity_list_related<>"Yes",AND(Proximity_list_related="Yes",EJ13<>Prox_List_Related_Disregard_1,EJ13<>Prox_List_Related_Disregard_2,EJ13<>Prox_List_Related_Disregard_3,EJ13<>Prox_List_Related_Disregard_4,EJ13<>Prox_List_Related_Disregard_5))),1,0)) -> 0 | EV13: =IF(AND($EV$11="Yes",IFERROR(FIND("- Site",EJ13),0)>0,EN13=1)=FALSE,EJ13,LEFT(EJ13,LEN(EJ13)-(LEN(EJ13)-FIND("- Site",EJ13)+1))) -> Alachua - GHA Build First Site
A14: 32403 | B14: Bay | D14: DeSoto | F14: 6 | G14: Alachua | I14: 1104 | J14: Columbia | L14: 8.08 | M14: Alachua | R14: {=IFERROR(IF($R$11="Metro",INDEX($F$13:$F$829,SMALL(IF((County=$G$13:$G$829),MATCH(ROW($G$13:$G$829),ROW($G$13:$G$829)),""),ROWS($A$13:A14))),INDEX($I$13:$I$44,SMALL(IF((County=$J$13:$J$44),MATCH(ROW($J$13:$J$44),ROW($J$13:$J$44)),""),ROWS($A$13:A14)))),"")} | T14: {=IFERROR(IF($T$11="Yes",INDEX($L$13:$L$2813,SMALL(IF((County=$M$13:$M$2813),MATCH(ROW($M$13:$M$2813),ROW($M$13:$M$2813)),""),ROWS($A$13:A14))),""),"")} | V14: {=IFERROR(IF($T$11="Yes",INDEX($O$14:$O$2811,SMALL(IF((County=$P$14:$P$2811),MATCH(ROW($P$14:$P$2811),ROW($P$14:$P$2811)),""),ROWS($A$13:A14))),""),"")} | X14: 32033 | Y14: St. Johns | AA14: 1.01 | AB14: Hillsborough | AD14: 2 | AE14: Hendry | AG14: 1 | AH14: Escambia | AM14: 32407 | AN14: Bay | AP14: Calhoun | AR14: 2.02 | AS14: Alachua | AU14: 200 | AV14: DeSoto | AX14: 5 | AY14: Alachua | BA14: {=IFERROR(IF($BA$11="Metro",INDEX($AR$13:$AR$814,SMALL(IF((County=$AS$13:$AS$814),MATCH(ROW($AS$13:$AS$814),ROW($AS$13:$AS$814)),""),ROWS($A$13:$A14))),INDEX($AU$13:$AU$48,SMALL(IF((County=$AV$13:$AV$48),MATCH(ROW($AV$13:$AV$48),ROW($AV$13:$AV$48)),""),ROWS($A$13:$A14)))),"")} | BC14: {=IFERROR(IF($BC$11="Yes",INDEX($AX$13:$AX$2950,SMALL(IF((County=$AY$13:$AY$2950),MATCH(ROW($AY$13:$AY$2950),ROW($AY$13:$AY$2950)),""),ROWS($A$13:$A14))),""),"")} | BE14: 32079 | BF14: Clay | BH14: 1.01 | BI14: Hillsborough | BK14: 103 | BL14: Washington | BN14: 1 | BO14: Martin | BQ14: 32407 | BR14: Bay | BT14: Calhoun | BV14: 2.02 | BW14: Alachua | BY14: 2.01 | BZ14: Bradford | CB14: 5 | CC14: Alachua | CE14: {=IFERROR(IF($CE$11="Metro",INDEX($BV$13:$BV$4972,SMALL(IF((County=$BW$13:$BW$4972),MATCH(ROW($BW$13:$BW$4972),ROW($BW$13:$BW$4972)),""),ROWS($A$13:$A14))),INDEX($BY$13:$BY$212,SMALL(IF((County=$BZ$13:$BZ$212),MATCH(ROW($BZ$13:$BZ$212),ROW($BZ$13:$BZ$212)),""),ROWS($A$13:$A14)))),"")} | CG14: {=IFERROR(IF($CG$11="Yes",INDEX($CB$13:$CB$2950,SMALL(IF((County=$CC$13:$CC$2950),MATCH(ROW($CC$13:$CC$2950),ROW($CC$13:$CC$2950)),""),ROWS($A$13:$A14))),""),"")} | CI14: 32079 | CJ14: Clay | CL14: 1 | CM14: Martin | CO14: 1 | CP14: Glades | CR14: 1 | CS14: Martin | CU14: 32403 | CV14: Bay | CX14: DeSoto | CZ14: 6 | DA14: Alachua | DC14: 1104 | DD14: Columbia | DF14: 2.02 | DG14: Alachua | DI14: {=IFERROR(IF($DI$11="Metro",INDEX($CZ$13:$CZ$929,SMALL(IF((County=$DA$13:$DA$929),MATCH(ROW($DA$13:$DA$929),ROW($DA$13:$DA$929)),""),ROWS($A$13:$A14))),INDEX($DC$13:$DC$212,SMALL(IF((County=$DD$13:$DD$212),MATCH(ROW($DD$13:$DD$212),ROW($DD$13:$DD$212)),""),ROWS($A$13:$A14)))),"")} | DK14: {=IFERROR(IF($DK$11="Yes",INDEX($DF$13:$DF$2838,SMALL(IF((County=$DG$13:$DG$2838),MATCH(ROW($DG$13:$DG$2838),ROW($DG$13:$DG$2838)),""),ROWS($A$13:$A14))),""),"")} | DM14: 32033 | DN14: St. Johns | DP14: 1.01 | DQ14: Hillsborough | DS14: 2.02 | DT14: Glades | DV14: 1 | DW14: Martin | EB14: Alachua | EC14: =VLOOKUP(EB14,Data1!$A$405:$H$471,8) -> Medium | ED14: 2024-001BSN | EE14: Hawthorne Heights | EF14: 29.645696 | EG14: -82.293299 | EH14: E | EI14: N | EJ14: =EB14&" - "&EE14 -> Alachua - Hawthorne Heights | EK14: =IF(EH14="F","Family",IF(EH14="E","Elderly Non-ALF",IF(EH14="ALF","Elderly ALF",IF(EH14="W","Workforce",IF(EH14="F,F","Farm/Fishing Worker",""))))) -> Elderly Non-ALF | EL14: ="("&EF14&", "&EG14&")" -> (29.645696, -82.293299) | EM14: =IF(EI14="N",">30",IF(EI14="Y","<31","")) -> >30 | EN14: =IF(AND($EV$11="Yes",_xlfn.MINIFS($EP$13:$EP$76,$EO$13:$EO$76,$EO14)=EP14,IFERROR(FIND("- Site",EJ14),0)>0),1,"") | EO14: =IF(IFERROR(FIND("- site",EJ14),0)=0,EJ14,LEFT(EJ14,IFERROR(FIND("- site",EJ14),0)-2)) -> Alachua - Hawthorne Heights | EP14: =IF($EF14=0,0,2*ATAN2(SQRT(1-SIN(ABS($EF14-$EO$5)*PI()/180/2)^2+COS($EO$5*PI()/180)*COS($EF14*PI()/180)*SIN(ABS($EG14-$EO$6)*PI()/180/2)^2),SQRT(SIN(ABS($EF14-$EO$5)*PI()/180/2)^2+COS($EO$5*PI()/180)*COS($EF14*PI()/180)*SIN(ABS($EG14-$EO$6)*PI()/180/2)^2))*SQRT((($EK$5^2*COS($EO$5))^2+($EK$6^2*SIN($EO$5))^2)/(($EK$5*COS($EO$5))^2+($EK$6*SIN($EO$5))^2))/$EK$7) -> 4168.9554 | EQ14: =IF($EO$7=EK14,"Yes","No") -> No | ER14: =VLOOKUP(EB14,Data1!$G$405:$H$471,2) -> Medium | ES14: =IF(COUNTA($EJ$13:$EJ14)<=$EU$12,LOOKUP(COUNTA($EJ$13:$EJ14),DS_Proximity_List_Sequence,DS_Proximity_List_PublishNames)&", about "&TEXT(ROUND(LOOKUP(COUNTA($EJ$13:$EJ14),DS_Proximity_List_Sequence,DS_Mandadory_Distance_Calc),$ET$10),CHOOSE($ET$10+1,"0","0.0","0.00","0.000","0.0000"))&" miles, with "&LOOKUP(COUNTA($EJ$13:$EJ14),DS_Proximity_List_Sequence,DS_Prox_List_Demo)&" Demo","") | ET14: =IF(EU14>0,SUM(EU$13:EU14),"") | EU14: =IF(AND(ER14="Large",OR($ER$5="NA",$ER$6="NA",$ER$7="NA")),0,IF(AND(EP14<IF(LDA_Notice="LDA",IF(ER14="Small",N($EP$5)+N($EP$8),IF(ER14="Medium",N($EQ$5)+N($EQ$8),N($ER$5)+N($ER$8))),IF(EM14=">30",IF(ER14="Small",N($EP$6)+N($EP$8),IF(ER14="Medium",N($EQ$6)+N($EQ$8),N($ER$6)+N($ER$8))),IF(ER14="Small",N($EP$7)+N($EP$8),IF(ER14="Medium",N($EQ$7)+N($EQ$8),N($ER$7)+N($ER$8))))),EQ14="Yes",OR(IFERROR(FIND("- site",EJ14),0)=0,$EV$11="No",AND(IFERROR(FIND("- site",EJ14),0)>0,EN14=1)),OR(Proximity_list_related<>"Yes",AND(Proximity_list_related="Yes",EJ14<>Prox_List_Related_Disregard_1,EJ14<>Prox_List_Related_Disregard_2,EJ14<>Prox_List_Related_Disregard_3,EJ14<>Prox_List_Related_Disregard_4,EJ14<>Prox_List_Related_Disregard_5))),1,0)) -> 0 | EV14: =IF(AND($EV$11="Yes",IFERROR(FIND("- Site",EJ14),0)>0,EN14=1)=FALSE,EJ14,LEFT(EJ14,LEN(EJ14)-(LEN(EJ14)-FIND("- Site",EJ14)+1))) -> Alachua - Hawthorne Heights
A15: 32407 | B15: Bay | D15: Dixie | F15: 8.06 | G15: Alachua | I15: 1109.01 | J15: Columbia | L15: 11 | M15: Alachua | R15: {=IFERROR(IF($R$11="Metro",INDEX($F$13:$F$829,SMALL(IF((County=$G$13:$G$829),MATCH(ROW($G$13:$G$829),ROW($G$13:$G$829)),""),ROWS($A$13:A15))),INDEX($I$13:$I$44,SMALL(IF((County=$J$13:$J$44),MATCH(ROW($J$13:$J$44),ROW($J$13:$J$44)),""),ROWS($A$13:A15)))),"")} | T15: {=IFERROR(IF($T$11="Yes",INDEX($L$13:$L$2813,SMALL(IF((County=$M$13:$M$2813),MATCH(ROW($M$13:$M$2813),ROW($M$13:$M$2813)),""),ROWS($A$13:A15))),""),"")} | V15: {=IFERROR(IF($T$11="Yes",INDEX($O$14:$O$2811,SMALL(IF((County=$P$14:$P$2811),MATCH(ROW($P$14:$P$2811),ROW($P$14:$P$2811)),""),ROWS($A$13:A15))),""),"")} | X15: 32065 | Y15: Clay | AA15: 1.02 | AB15: Duval | AD15: 2.02 | AE15: Glades | AG15: 1 | AH15: Glades | AM15: 32410 | AN15: Bay | AP15: Columbia | AR15: 3.01 | AS15: Alachua | AU15: 301 | AV15: DeSoto | AX15: 8.08 | AY15: Alachua | BA15: {=IFERROR(IF($BA$11="Metro",INDEX($AR$13:$AR$814,SMALL(IF((County=$AS$13:$AS$814),MATCH(ROW($AS$13:$AS$814),ROW($AS$13:$AS$814)),""),ROWS($A$13:$A15))),INDEX($AU$13:$AU$48,SMALL(IF((County=$AV$13:$AV$48),MATCH(ROW($AV$13:$AV$48),ROW($AV$13:$AV$48)),""),ROWS($A$13:$A15)))),"")} | BC15: {=IFERROR(IF($BC$11="Yes",INDEX($AX$13:$AX$2950,SMALL(IF((County=$AY$13:$AY$2950),MATCH(ROW($AY$13:$AY$2950),ROW($AY$13:$AY$2950)),""),ROWS($A$13:$A15))),""),"")} | BE15: 32081 | BF15: St. Johns | BH15: 1.02 | BI15: Duval | BK15: 104 | BL15: Washington | BN15: 1.01 | BO15: Collier | BQ15: 32410 | BR15: Bay | BT15: Columbia | BV15: 3.01 | BW15: Alachua | BY15: 2.02 | BZ15: Bradford | CB15: 8.08 | CC15: Alachua | CE15: {=IFERROR(IF($CE$11="Metro",INDEX($BV$13:$BV$4972,SMALL(IF((County=$BW$13:$BW$4972),MATCH(ROW($BW$13:$BW$4972),ROW($BW$13:$BW$4972)),""),ROWS($A$13:$A15))),INDEX($BY$13:$BY$212,SMALL(IF((County=$BZ$13:$BZ$212),MATCH(ROW($BZ$13:$BZ$212),ROW($BZ$13:$BZ$212)),""),ROWS($A$13:$A15)))),"")} | CG15: {=IFERROR(IF($CG$11="Yes",INDEX($CB$13:$CB$2950,SMALL(IF((County=$CC$13:$CC$2950),MATCH(ROW($CC$13:$CC$2950),ROW($CC$13:$CC$2950)),""),ROWS($A$13:$A15))),""),"")} | CI15: 32081 | CJ15: St. Johns | CL15: 1.01 | CM15: Collier | CO15: 1.01 | CP15: Hendry | CR15: 1.01 | CS15: Collier | CU15: 32407 | CV15: Bay | CX15: Dixie | CZ15: 7 | DA15: Alachua | DC15: 102 | DD15: DeSoto | DF15: 5 | DG15: Alachua | DI15: {=IFERROR(IF($DI$11="Metro",INDEX($CZ$13:$CZ$929,SMALL(IF((County=$DA$13:$DA$929),MATCH(ROW($DA$13:$DA$929),ROW($DA$13:$DA$929)),""),ROWS($A$13:$A15))),INDEX($DC$13:$DC$212,SMALL(IF((County=$DD$13:$DD$212),MATCH(ROW($DD$13:$DD$212),ROW($DD$13:$DD$212)),""),ROWS($A$13:$A15)))),"")} | DK15: {=IFERROR(IF($DK$11="Yes",INDEX($DF$13:$DF$2838,SMALL(IF((County=$DG$13:$DG$2838),MATCH(ROW($DG$13:$DG$2838),ROW($DG$13:$DG$2838)),""),ROWS($A$13:$A15))),""),"")} | DM15: 32079 | DN15: Clay | DP15: 1.02 | DQ15: Duval | DS15: 3 | DT15: Hendry | DV15: 1.01 | DW15: Collier | EB15: Alachua | EC15: =VLOOKUP(EB15,Data1!$A$405:$H$471,8) -> Medium | ED15: 2024-133CN | EE15: Williston Pointe | EF15: 29.610125 | EG15: -82.36052 | EH15: F | EI15: N | EJ15: =EB15&" - "&EE15 -> Alachua - Williston Pointe | EK15: =IF(EH15="F","Family",IF(EH15="E","Elderly Non-ALF",IF(EH15="ALF","Elderly ALF",IF(EH15="W","Workforce",IF(EH15="F,F","Farm/Fishing Worker",""))))) -> Family | EL15: ="("&EF15&", "&EG15&")" -> (29.610125, -82.36052) | EM15: =IF(EI15="N",">30",IF(EI15="Y","<31","")) -> >30 | EN15: =IF(AND($EV$11="Yes",_xlfn.MINIFS($EP$13:$EP$76,$EO$13:$EO$76,$EO15)=EP15,IFERROR(FIND("- Site",EJ15),0)>0),1,"") | EO15: =IF(IFERROR(FIND("- site",EJ15),0)=0,EJ15,LEFT(EJ15,IFERROR(FIND("- site",EJ15),0)-2)) -> Alachua - Williston Pointe | EP15: =IF($EF15=0,0,2*ATAN2(SQRT(1-SIN(ABS($EF15-$EO$5)*PI()/180/2)^2+COS($EO$5*PI()/180)*COS($EF15*PI()/180)*SIN(ABS($EG15-$EO$6)*PI()/180/2)^2),SQRT(SIN(ABS($EF15-$EO$5)*PI()/180/2)^2+COS($EO$5*PI()/180)*COS($EF15*PI()/180)*SIN(ABS($EG15-$EO$6)*PI()/180/2)^2))*SQRT((($EK$5^2*COS($EO$5))^2+($EK$6^2*SIN($EO$5))^2)/(($EK$5*COS($EO$5))^2+($EK$6*SIN($EO$5))^2))/$EK$7) -> 4169.8041 | EQ15: =IF($EO$7=EK15,"Yes","No") -> No | ER15: =VLOOKUP(EB15,Data1!$G$405:$H$471,2) -> Medium | ES15: =IF(COUNTA($EJ$13:$EJ15)<=$EU$12,LOOKUP(COUNTA($EJ$13:$EJ15),DS_Proximity_List_Sequence,DS_Proximity_List_PublishNames)&", about "&TEXT(ROUND(LOOKUP(COUNTA($EJ$13:$EJ15),DS_Proximity_List_Sequence,DS_Mandadory_Distance_Calc),$ET$10),CHOOSE($ET$10+1,"0","0.0","0.00","0.000","0.0000"))&" miles, with "&LOOKUP(COUNTA($EJ$13:$EJ15),DS_Proximity_List_Sequence,DS_Prox_List_Demo)&" Demo","") | ET15: =IF(EU15>0,SUM(EU$13:EU15),"") | EU15: =IF(AND(ER15="Large",OR($ER$5="NA",$ER$6="NA",$ER$7="NA")),0,IF(AND(EP15<IF(LDA_Notice="LDA",IF(ER15="Small",N($EP$5)+N($EP$8),IF(ER15="Medium",N($EQ$5)+N($EQ$8),N($ER$5)+N($ER$8))),IF(EM15=">30",IF(ER15="Small",N($EP$6)+N($EP$8),IF(ER15="Medium",N($EQ$6)+N($EQ$8),N($ER$6)+N($ER$8))),IF(ER15="Small",N($EP$7)+N($EP$8),IF(ER15="Medium",N($EQ$7)+N($EQ$8),N($ER$7)+N($ER$8))))),EQ15="Yes",OR(IFERROR(FIND("- site",EJ15),0)=0,$EV$11="No",AND(IFERROR(FIND("- site",EJ15),0)>0,EN15=1)),OR(Proximity_list_related<>"Yes",AND(Proximity_list_related="Yes",EJ15<>Prox_List_Related_Disregard_1,EJ15<>Prox_List_Related_Disregard_2,EJ15<>Prox_List_Related_Disregard_3,EJ15<>Prox_List_Related_Disregard_4,EJ15<>Prox_List_Related_Disregard_5))),1,0)) -> 0 | EV15: =IF(AND($EV$11="Yes",IFERROR(FIND("- Site",EJ15),0)>0,EN15=1)=FALSE,EJ15,LEFT(EJ15,LEN(EJ15)-(LEN(EJ15)-FIND("- Site",EJ15)+1))) -> Alachua - Williston Pointe
A16: 32410 | B16: Bay | D16: Franklin | F16: 8.09 | G16: Alachua | I16: 102 | J16: DeSoto | L16: 12.01 | M16: Alachua | R16: {=IFERROR(IF($R$11="Metro",INDEX($F$13:$F$829,SMALL(IF((County=$G$13:$G$829),MATCH(ROW($G$13:$G$829),ROW($G$13:$G$829)),""),ROWS($A$13:A16))),INDEX($I$13:$I$44,SMALL(IF((County=$J$13:$J$44),MATCH(ROW($J$13:$J$44),ROW($J$13:$J$44)),""),ROWS($A$13:A16)))),"")} | T16: {=IFERROR(IF($T$11="Yes",INDEX($L$13:$L$2813,SMALL(IF((County=$M$13:$M$2813),MATCH(ROW($M$13:$M$2813),ROW($M$13:$M$2813)),""),ROWS($A$13:A16))),""),"")} | V16: {=IFERROR(IF($T$11="Yes",INDEX($O$14:$O$2811,SMALL(IF((County=$P$14:$P$2811),MATCH(ROW($P$14:$P$2811),ROW($P$14:$P$2811)),""),ROWS($A$13:A16))),""),"")} | X16: 32079 | Y16: Clay | AA16: 1.02 | AB16: Hillsborough | AD16: 3 | AE16: Hendry | AG16: 1 | AH16: Martin | AM16: 32903 | AN16: Brevard | AP16: DeSoto | AR16: 6 | AS16: Alachua | AU16: 302 | AV16: DeSoto | AX16: 8.09 | AY16: Alachua | BA16: {=IFERROR(IF($BA$11="Metro",INDEX($AR$13:$AR$814,SMALL(IF((County=$AS$13:$AS$814),MATCH(ROW($AS$13:$AS$814),ROW($AS$13:$AS$814)),""),ROWS($A$13:$A16))),INDEX($AU$13:$AU$48,SMALL(IF((County=$AV$13:$AV$48),MATCH(ROW($AV$13:$AV$48),ROW($AV$13:$AV$48)),""),ROWS($A$13:$A16)))),"")} | BC16: {=IFERROR(IF($BC$11="Yes",INDEX($AX$13:$AX$2950,SMALL(IF((County=$AY$13:$AY$2950),MATCH(ROW($AY$13:$AY$2950),ROW($AY$13:$AY$2950)),""),ROWS($A$13:$A16))),""),"")} | BE16: 32082 | BF16: St. Johns | BH16: 1.02 | BI16: Hillsborough | BK16: 200 | BL16: DeSoto | BN16: 1.01 | BO16: Hendry | BQ16: 32444 | BR16: Bay | BT16: DeSoto | BV16: 3.02 | BW16: Alachua | BY16: 3.01 | BZ16: Bradford | CB16: 8.09 | CC16: Alachua | CE16: {=IFERROR(IF($CE$11="Metro",INDEX($BV$13:$BV$4972,SMALL(IF((County=$BW$13:$BW$4972),MATCH(ROW($BW$13:$BW$4972),ROW($BW$13:$BW$4972)),""),ROWS($A$13:$A16))),INDEX($BY$13:$BY$212,SMALL(IF((County=$BZ$13:$BZ$212),MATCH(ROW($BZ$13:$BZ$212),ROW($BZ$13:$BZ$212)),""),ROWS($A$13:$A16)))),"")} | CG16: {=IFERROR(IF($CG$11="Yes",INDEX($CB$13:$CB$2950,SMALL(IF((County=$CC$13:$CC$2950),MATCH(ROW($CC$13:$CC$2950),ROW($CC$13:$CC$2950)),""),ROWS($A$13:$A16))),""),"")} | CI16: 32082 | CJ16: St. Johns | CL16: 1.01 | CM16: Duval | CO16: 1.02 | CP16: Hendry | CR16: 1.01 | CS16: Manatee | CU16: 32410 | CV16: Bay | CX16: Glades | CZ16: 8.06 | DA16: Alachua | DC16: 103.01 | DD16: DeSoto | DF16: 8.08 | DG16: Alachua | DI16: {=IFERROR(IF($DI$11="Metro",INDEX($CZ$13:$CZ$929,SMALL(IF((County=$DA$13:$DA$929),MATCH(ROW($DA$13:$DA$929),ROW($DA$13:$DA$929)),""),ROWS($A$13:$A16))),INDEX($DC$13:$DC$212,SMALL(IF((County=$DD$13:$DD$212),MATCH(ROW($DD$13:$DD$212),ROW($DD$13:$DD$212)),""),ROWS($A$13:$A16)))),"")} | DK16: {=IFERROR(IF($DK$11="Yes",INDEX($DF$13:$DF$2838,SMALL(IF((County=$DG$13:$DG$2838),MATCH(ROW($DG$13:$DG$2838),ROW($DG$13:$DG$2838)),""),ROWS($A$13:$A16))),""),"")} | DM16: 32080 | DN16: St. Johns | DP16: 1.02 | DQ16: Hillsborough | DS16: 4.04 | DT16: Hendry | DV16: 1.01 | DW16: Hendry | EB16: Alachua | EC16: =VLOOKUP(EB16,Data1!$A$405:$H$471,8) -> Medium | ED16: 2025-228SA | EE16: Woodland Park II - Site 1 | EF16: 29.632549 | EG16: -82.317752 | EH16: F | EI16: N | EJ16: =EB16&" - "&EE16 -> Alachua - Woodland Park II - Site 1 | EK16: =IF(EH16="F","Family",IF(EH16="E","Elderly Non-ALF",IF(EH16="ALF","Elderly ALF",IF(EH16="W","Workforce",IF(EH16="F,F","Farm/Fishing Worker",""))))) -> Family | EL16: ="("&EF16&", "&EG16&")" -> (29.632549, -82.317752) | EM16: =IF(EI16="N",">30",IF(EI16="Y","<31","")) -> >30 | EN16: =IF(AND($EV$11="Yes",_xlfn.MINIFS($EP$13:$EP$76,$EO$13:$EO$76,$EO16)=EP16,IFERROR(FIND("- Site",EJ16),0)>0),1,"") -> 1 | EO16: =IF(IFERROR(FIND("- site",EJ16),0)=0,EJ16,LEFT(EJ16,IFERROR(FIND("- site",EJ16),0)-2)) -> Alachua - Woodland Park II - Site 1 | EP16: =IF($EF16=0,0,2*ATAN2(SQRT(1-SIN(ABS($EF16-$EO$5)*PI()/180/2)^2+COS($EO$5*PI()/180)*COS($EF16*PI()/180)*SIN(ABS($EG16-$EO$6)*PI()/180/2)^2),SQRT(SIN(ABS($EF16-$EO$5)*PI()/180/2)^2+COS($EO$5*PI()/180)*COS($EF16*PI()/180)*SIN(ABS($EG16-$EO$6)*PI()/180/2)^2))*SQRT((($EK$5^2*COS($EO$5))^2+($EK$6^2*SIN($EO$5))^2)/(($EK$5*COS($EO$5))^2+($EK$6*SIN($EO$5))^2))/$EK$7) -> 4169.2614 | EQ16: =IF($EO$7=EK16,"Yes","No") -> No | ER16: =VLOOKUP(EB16,Data1!$G$405:$H$471,2) -> Medium | ES16: =IF(COUNTA($EJ$13:$EJ16)<=$EU$12,LOOKUP(COUNTA($EJ$13:$EJ16),DS_Proximity_List_Sequence,DS_Proximity_List_PublishNames)&", about "&TEXT(ROUND(LOOKUP(COUNTA($EJ$13:$EJ16),DS_Proximity_List_Sequence,DS_Mandadory_Distance_Calc),$ET$10),CHOOSE($ET$10+1,"0","0.0","0.00","0.000","0.0000"))&" miles, with "&LOOKUP(COUNTA($EJ$13:$EJ16),DS_Proximity_List_Sequence,DS_Prox_List_Demo)&" Demo","") | ET16: =IF(EU16>0,SUM(EU$13:EU16),"") | EU16: =IF(AND(ER16="Large",OR($ER$5="NA",$ER$6="NA",$ER$7="NA")),0,IF(AND(EP16<IF(LDA_Notice="LDA",IF(ER16="Small",N($EP$5)+N($EP$8),IF(ER16="Medium",N($EQ$5)+N($EQ$8),N($ER$5)+N($ER$8))),IF(EM16=">30",IF(ER16="Small",N($EP$6)+N($EP$8),IF(ER16="Medium",N($EQ$6)+N($EQ$8),N($ER$6)+N($ER$8))),IF(ER16="Small",N($EP$7)+N($EP$8),IF(ER16="Medium",N($EQ$7)+N($EQ$8),N($ER$7)+N($ER$8))))),EQ16="Yes",OR(IFERROR(FIND("- site",EJ16),0)=0,$EV$11="No",AND(IFERROR(FIND("- site",EJ16),0)>0,EN16=1)),OR(Proximity_list_related<>"Yes",AND(Proximity_list_related="Yes",EJ16<>Prox_List_Related_Disregard_1,EJ16<>Prox_List_Related_Disregard_2,EJ16<>Prox_List_Related_Disregard_3,EJ16<>Prox_List_Related_Disregard_4,EJ16<>Prox_List_Related_Disregard_5))),1,0)) -> 0 | EV16: =IF(AND($EV$11="Yes",IFERROR(FIND("- Site",EJ16),0)>0,EN16=1)=FALSE,EJ16,LEFT(EJ16,LEN(EJ16)-(LEN(EJ16)-FIND("- Site",EJ16)+1))) -> Alachua - Woodland Park II
A17: 32444 | B17: Bay | D17: Glades | F17: 10 | G17: Alachua | I17: 103.01 | J17: DeSoto | L17: 12.02 | M17: Alachua | R17: {=IFERROR(IF($R$11="Metro",INDEX($F$13:$F$829,SMALL(IF((County=$G$13:$G$829),MATCH(ROW($G$13:$G$829),ROW($G$13:$G$829)),""),ROWS($A$13:A17))),INDEX($I$13:$I$44,SMALL(IF((County=$J$13:$J$44),MATCH(ROW($J$13:$J$44),ROW($J$13:$J$44)),""),ROWS($A$13:A17)))),"")} | T17: {=IFERROR(IF($T$11="Yes",INDEX($L$13:$L$2813,SMALL(IF((County=$M$13:$M$2813),MATCH(ROW($M$13:$M$2813),ROW($M$13:$M$2813)),""),ROWS($A$13:A17))),""),"")} | V17: {=IFERROR(IF($T$11="Yes",INDEX($O$14:$O$2811,SMALL(IF((County=$P$14:$P$2811),MATCH(ROW($P$14:$P$2811),ROW($P$14:$P$2811)),""),ROWS($A$13:A17))),""),"")} | X17: 32080 | Y17: St. Johns | AA17: 1.03 | AB17: Manatee | AD17: 102 | AE17: DeSoto | AG17: 1.01 | AH17: Collier | AM17: 32904 | AN17: Brevard | AP17: Dixie | AR17: 8.06 | AS17: Alachua | AU17: 202 | AV17: Dixie | AX17: 11 | AY17: Alachua | BA17: {=IFERROR(IF($BA$11="Metro",INDEX($AR$13:$AR$814,SMALL(IF((County=$AS$13:$AS$814),MATCH(ROW($AS$13:$AS$814),ROW($AS$13:$AS$814)),""),ROWS($A$13:$A17))),INDEX($AU$13:$AU$48,SMALL(IF((County=$AV$13:$AV$48),MATCH(ROW($AV$13:$AV$48),ROW($AV$13:$AV$48)),""),ROWS($A$13:$A17)))),"")} | BC17: {=IFERROR(IF($BC$11="Yes",INDEX($AX$13:$AX$2950,SMALL(IF((County=$AY$13:$AY$2950),MATCH(ROW($AY$13:$AY$2950),ROW($AY$13:$AY$2950)),""),ROWS($A$13:$A17))),""),"")} | BE17: 32092 | BF17: St. Johns | BH17: 1.03 | BI17: Manatee | BK17: 200 | BL17: Hendry | BN17: 1.01 | BO17: Manatee | BQ17: 32903 | BR17: Brevard | BT17: Dixie | BV17: 4 | BW17: Alachua | BY17: 3.02 | BZ17: Bradford | CB17: 11 | CC17: Alachua | CE17: {=IFERROR(IF($CE$11="Metro",INDEX($BV$13:$BV$4972,SMALL(IF((County=$BW$13:$BW$4972),MATCH(ROW($BW$13:$BW$4972),ROW($BW$13:$BW$4972)),""),ROWS($A$13:$A17))),INDEX($BY$13:$BY$212,SMALL(IF((County=$BZ$13:$BZ$212),MATCH(ROW($BZ$13:$BZ$212),ROW($BZ$13:$BZ$212)),""),ROWS($A$13:$A17)))),"")} | CG17: {=IFERROR(IF($CG$11="Yes",INDEX($CB$13:$CB$2950,SMALL(IF((County=$CC$13:$CC$2950),MATCH(ROW($CC$13:$CC$2950),ROW($CC$13:$CC$2950)),""),ROWS($A$13:$A17))),""),"")} | CI17: 32092 | CJ17: St. Johns | CL17: 1.01 | CM17: Hillsborough | CO17: 2 | CP17: Hendry | CR17: 1.02 | CS17: Collier | CU17: 32444 | CV17: Bay | CX17: Gulf | CZ17: 8.09 | DA17: Alachua | DC17: 103.02 | DD17: DeSoto | DF17: 11 | DG17: Alachua | DI17: {=IFERROR(IF($DI$11="Metro",INDEX($CZ$13:$CZ$929,SMALL(IF((County=$DA$13:$DA$929),MATCH(ROW($DA$13:$DA$929),ROW($DA$13:$DA$929)),""),ROWS($A$13:$A17))),INDEX($DC$13:$DC$212,SMALL(IF((County=$DD$13:$DD$212),MATCH(ROW($DD$13:$DD$212),ROW($DD$13:$DD$212)),""),ROWS($A$13:$A17)))),"")} | DK17: {=IFERROR(IF($DK$11="Yes",INDEX($DF$13:$DF$2838,SMALL(IF((County=$DG$13:$DG$2838),MATCH(ROW($DG$13:$DG$2838),ROW($DG$13:$DG$2838)),""),ROWS($A$13:$A17))),""),"")} | DM17: 32081 | DN17: St. Johns | DP17: 1.03 | DQ17: Manatee | DS17: 102 | DT17: DeSoto | DV17: 1.01 | DW17: Manatee | EB17: Alachua | EC17: =VLOOKUP(EB17,Data1!$A$405:$H$471,8) -> Medium | ED17: 2025-228SA | EE17: Woodland Park II - Site 2 | EF17: 29.633096 | EG17: -82.318438 | EH17: F | EI17: N | EJ17: =EB17&" - "&EE17 -> Alachua - Woodland Park II - Site 2 | EK17: =IF(EH17="F","Family",IF(EH17="E","Elderly Non-ALF",IF(EH17="ALF","Elderly ALF",IF(EH17="W","Workforce",IF(EH17="F,F","Farm/Fishing Worker",""))))) -> Family | EL17: ="("&EF17&", "&EG17&")" -> (29.633096, -82.318438) | EM17: =IF(EI17="N",">30",IF(EI17="Y","<31","")) -> >30 | EN17: =IF(AND($EV$11="Yes",_xlfn.MINIFS($EP$13:$EP$76,$EO$13:$EO$76,$EO17)=EP17,IFERROR(FIND("- Site",EJ17),0)>0),1,"") -> 1 | EO17: =IF(IFERROR(FIND("- site",EJ17),0)=0,EJ17,LEFT(EJ17,IFERROR(FIND("- site",EJ17),0)-2)) -> Alachua - Woodland Park II - Site 2 | EP17: =IF($EF17=0,0,2*ATAN2(SQRT(1-SIN(ABS($EF17-$EO$5)*PI()/180/2)^2+COS($EO$5*PI()/180)*COS($EF17*PI()/180)*SIN(ABS($EG17-$EO$6)*PI()/180/2)^2),SQRT(SIN(ABS($EF17-$EO$5)*PI()/180/2)^2+COS($EO$5*PI()/180)*COS($EF17*PI()/180)*SIN(ABS($EG17-$EO$6)*PI()/180/2)^2))*SQRT((($EK$5^2*COS($EO$5))^2+($EK$6^2*SIN($EO$5))^2)/(($EK$5*COS($EO$5))^2+($EK$6*SIN($EO$5))^2))/$EK$7) -> 4169.2818 | EQ17: =IF($EO$7=EK17,"Yes","No") -> No | ER17: =VLOOKUP(EB17,Data1!$G$405:$H$471,2) -> Medium | ES17: =IF(COUNTA($EJ$13:$EJ17)<=$EU$12,LOOKUP(COUNTA($EJ$13:$EJ17),DS_Proximity_List_Sequence,DS_Proximity_List_PublishNames)&", about "&TEXT(ROUND(LOOKUP(COUNTA($EJ$13:$EJ17),DS_Proximity_List_Sequence,DS_Mandadory_Distance_Calc),$ET$10),CHOOSE($ET$10+1,"0","0.0","0.00","0.000","0.0000"))&" miles, with "&LOOKUP(COUNTA($EJ$13:$EJ17),DS_Proximity_List_Sequence,DS_Prox_List_Demo)&" Demo","") | ET17: =IF(EU17>0,SUM(EU$13:EU17),"") | EU17: =IF(AND(ER17="Large",OR($ER$5="NA",$ER$6="NA",$ER$7="NA")),0,IF(AND(EP17<IF(LDA_Notice="LDA",IF(ER17="Small",N($EP$5)+N($EP$8),IF(ER17="Medium",N($EQ$5)+N($EQ$8),N($ER$5)+N($ER$8))),IF(EM17=">30",IF(ER17="Small",N($EP$6)+N($EP$8),IF(ER17="Medium",N($EQ$6)+N($EQ$8),N($ER$6)+N($ER$8))),IF(ER17="Small",N($EP$7)+N($EP$8),IF(ER17="Medium",N($EQ$7)+N($EQ$8),N($ER$7)+N($ER$8))))),EQ17="Yes",OR(IFERROR(FIND("- site",EJ17),0)=0,$EV$11="No",AND(IFERROR(FIND("- site",EJ17),0)>0,EN17=1)),OR(Proximity_list_related<>"Yes",AND(Proximity_list_related="Yes",EJ17<>Prox_List_Related_Disregard_1,EJ17<>Prox_List_Related_Disregard_2,EJ17<>Prox_List_Related_Disregard_3,EJ17<>Prox_List_Related_Disregard_4,EJ17<>Prox_List_Related_Disregard_5))),1,0)) -> 0 | EV17: =IF(AND($EV$11="Yes",IFERROR(FIND("- Site",EJ17),0)>0,EN17=1)=FALSE,EJ17,LEFT(EJ17,LEN(EJ17)-(LEN(EJ17)-FIND("- Site",EJ17)+1))) -> Alachua - Woodland Park II
