Workbook
Name ACC_units: 'Proposed Development Info'!$F$46
Name Acq_elig: 'Pro Forma'!$H$177
Name Acq_inelig: 'Pro Forma'!$K$177
Name Acq_total: 'Pro Forma'!$N$177
Name Acquisition_eligible: 'Pro Forma'!$H$182
Name Acquisition_ineligible: 'Pro Forma'!$K$182
Name Acquisition_total: 'Pro Forma'!$N$182
Name Actual_Accessory_eligible: 'Pro Forma'!$H$45
Name Actual_Accessory_ineligible: 'Pro Forma'!$K$45
Name Actual_Accessory_total: 'Pro Forma'!$N$45
Name Actual_Comm_Retail_eligible: 'Pro Forma'!$H$49
Name Actual_Comm_Retail_ineligible: 'Pro Forma'!$K$49
Name Actual_Comm_Retail_total: 'Pro Forma'!$N$49
Name Actual_commonareas_eligible: 'Pro Forma'!$H$57
Name Actual_commonareas_ineligible: 'Pro Forma'!$K$57
Name Actual_commonareas_total: 'Pro Forma'!$N$57
Name Actual_Constructioncost_eligible: 'Pro Forma'!$H$65
Name Actual_Constructioncost_ineligible: 'Pro Forma'!$K$65
Name Actual_Constructioncost_total: 'Pro Forma'!$N$65
Name Actual_Demolition_eligible: 'Pro Forma'!$H$47
Name Actual_Demolition_ineligible: 'Pro Forma'!$K$47
Name Actual_Demolition_total: 'Pro Forma'!$N$47
Name Actual_existingrental_eligible: 'Pro Forma'!$H$59
Name Actual_existingrental_ineligible: 'Pro Forma'!$K$59
Name Actual_existingrental_total: 'Pro Forma'!$N$59
Name Actual_GCfee_eligible: 'Pro Forma'!$H$68
Name Actual_GCfee_ineligible: 'Pro Forma'!$K$68
Name Actual_GCfee_total: 'Pro Forma'!$N$68
Name Actual_NewUnits_eligible: 'Pro Forma'!$H$51
Name Actual_NewUnits_ineligible: 'Pro Forma'!$K$51
Name Actual_NewUnits_total: 'Pro Forma'!$N$51
Name Actual_Offsite_eligible: 'Pro Forma'!$H$53
Name Actual_Offsite_ineligible: 'Pro Forma'!$K$53
Name Actual_Offsite_total: 'Pro Forma'!$N$53
Name Actual_Other_eligible: 'Pro Forma'!$H$63
Name Actual_Other_ineligible: 'Pro Forma'!$K$63
Name Actual_Other_total: 'Pro Forma'!$N$63
Name Actual_recreational_eligible: 'Pro Forma'!$H$55
Name Actual_recreational_ineligible: 'Pro Forma'!$K$55
Name Actual_recreational_total: 'Pro Forma'!$N$55
Name Actual_sitework_eligible: 'Pro Forma'!$H$61
Name Actual_sitework_ineligible: 'Pro Forma'!$K$61
Name Actual_sitework_total: 'Pro Forma'!$N$61
Name Actual_TotalConstructioncost_eligible: 'Pro Forma'!$H$71
Name Actual_TotalConstructioncost_ineligible: 'Pro Forma'!$K$71
Name Actual_TotalConstructioncost_total: 'Pro Forma'!$N$71
Name Addenda_Comments: 'B. Other Information'!$A$18
Name Addenda_Comments_2: 'B. Other Information'!$A$19
Name AIT_HC_SA_Percent: 'Units, Set-Asides, Bldgs'!$G$46
Name App_number_first_phase: Funding!$E$136
Name Application_Fee_Method: 'B. Other Information'!$A$9
Name ARP_Request_Amount: Funding!$I$72
Name Authorized_Contact_Address: 'General Information'!$F$145
Name Authorized_Contact_City: 'General Information'!$F$146
Name Authorized_Contact_EMail: 'General Information'!$F$150
Name Authorized_Contact_First_Name: 'General Information'!$F$142
Name Authorized_Contact_Last_Name: 'General Information'!$F$143
Name Authorized_Contact_Middle_Initial: 'General Information'!$H$142
Name Authorized_Contact_Phone: 'General Information'!$F$149
Name Authorized_Contact_Phone_Ext: 'General Information'!$H$149

Sheet Notations
A1: Summary Review of Notations in Exhibit A
A3: Section 4.A.3.e.
B4: Applicant Certification and Acknowledgement form provided and meets requirements | O4: 1 | P4: =IF(AND(O4<>0,J4<>""),O4,0) -> 0 | Q4: =CHOOSE(O4+1,"Not to be included in this RFA","A REQUIRED input field for this RFA","An OPTIONAL input field for this RFA") -> A REQUIRED input field for this RFA
C5: =IF(LEFT(DS_Elig_Cert,1)=CHAR(149),RIGHT(DS_Elig_Cert,LEN(DS_Elig_Cert)-2),DS_Elig_Cert)
A7: Section 4.A.2.
B8: Demographic Commitment selected | O8: 1 | P8: =IF(AND(O8<>0,J8<>""),O8,0) -> 0 | Q8: =CHOOSE(O8+1,"Not to be included in this RFA","A REQUIRED input field for this RFA","An OPTIONAL input field for this RFA") -> A REQUIRED input field for this RFA
C9: =IF(LEFT(DS_Elig_Demo,1)=CHAR(149),RIGHT(DS_Elig_Demo,LEN(DS_Elig_Demo)-2),DS_Elig_Demo)
A11: ="Section 4.A.3."&'General Information'!A$27&"(1)(a)" -> Section 4.A.3.a.(1)(a)
B12: Name of Applicant provided | O12: 1 | P12: =IF(AND(O12<>0,J12<>""),O12,0) -> 0 | Q12: =CHOOSE(O12+1,"Not to be included in this RFA","A REQUIRED input field for this RFA","An OPTIONAL input field for this RFA") -> A REQUIRED input field for this RFA
C13: =IF(LEFT(DS_Elig_App,1)=CHAR(149),RIGHT(DS_Elig_App,LEN(DS_Elig_App)-2),DS_Elig_App)
A15: ="Section 4.A.3."&'General Information'!A$51&".(1)" -> Section 4.A.3.b.(1)
B16: Name of Each Developer provided | O16: 1 | P16: =IF(AND(O16<>0,J16<>""),O16,0) -> 0 | Q16: =CHOOSE(O16+1,"Not to be included in this RFA","A REQUIRED input field for this RFA","An OPTIONAL input field for this RFA") -> A REQUIRED input field for this RFA
C17: =IF(LEFT(DS_Elig_Dev,1)=CHAR(149),RIGHT(DS_Elig_Dev,LEN(DS_Elig_Dev)-2),DS_Elig_Dev)
A19: ="Section 4.A.3."&'General Information'!A$51&".(3)(a)" -> Section 4.A.3.b.(3)(a)
B20: Developer Experience Requirement Met | O20: 1 | P20: =IF(AND(O20<>0,J20<>""),O20,0) -> 0 | Q20: =CHOOSE(O20+1,"Not to be included in this RFA","A REQUIRED input field for this RFA","An OPTIONAL input field for this RFA") -> A REQUIRED input field for this RFA
C21: =IF(LEFT(DS_Elig_DevExp,1)=CHAR(149),RIGHT(DS_Elig_DevExp,LEN(DS_Elig_DevExp)-2),DS_Elig_DevExp)
A25: ="Section 4.A.3."&'General Information'!A$105&".(1)" -> Section 4.A.3.d.(1)
B26: Name of Management Company provided | O26: 1 | P26: =IF(AND(O26<>0,J26<>""),O26,0) -> 0 | Q26: =CHOOSE(O26+1,"Not to be included in this RFA","A REQUIRED input field for this RFA","An OPTIONAL input field for this RFA") -> A REQUIRED input field for this RFA
C27: =IF(LEFT(DS_Elig_Mgmt,1)=CHAR(149),RIGHT(DS_Elig_Mgmt,LEN(DS_Elig_Mgmt)-2),DS_Elig_Mgmt)
B29: Contact Information for Management Company provided | O29: 1 | P29: =IF(AND(O29<>0,J29<>""),O29,0) -> 0 | Q29: =CHOOSE(O29+1,"Not to be included in this RFA","A REQUIRED input field for this RFA","An OPTIONAL input field for this RFA") -> A REQUIRED input field for this RFA
C30: =IF(LEFT(DS_Elig_MgmtContact,1)=CHAR(149),RIGHT(DS_Elig_MgmtContact,LEN(DS_Elig_MgmtContact)-2),DS_Elig_MgmtContact)
B32: Prior General Management Company Experience requirement met | O32: 1 | P32: =IF(AND(O32<>0,J32<>""),O32,0) -> 0 | Q32: =CHOOSE(O32+1,"Not to be included in this RFA","A REQUIRED input field for this RFA","An OPTIONAL input field for this RFA") -> A REQUIRED input field for this RFA
C33: =IF(LEFT(DS_Elig_MgmtExp,1)=CHAR(149),RIGHT(DS_Elig_MgmtExp,LEN(DS_Elig_MgmtExp)-2),DS_Elig_MgmtExp)
A36: ="Section 4.A.3."&'General Information'!A$140&".(1)" -> Section 4.A.3..(1)
B37: Authorized Principal Representative provided and meets requirements | O37: 1 | P37: =IF(AND(O37<>0,J37<>""),O37,0) -> 0 | Q37: =CHOOSE(O37+1,"Not to be included in this RFA","A REQUIRED input field for this RFA","An OPTIONAL input field for this RFA") -> A REQUIRED input field for this RFA
C38: =IF(LEFT(DS_Elig_PrincRep,1)=CHAR(149),RIGHT(DS_Elig_PrincRep,LEN(DS_Elig_PrincRep)-2),DS_Elig_PrincRep)
A40: ="Section 4.A.4.(a)" -> Section 4.A.4.(a)
B41: Name of Proposed Development provided | O41: 1 | P41: =IF(AND(O41<>0,J41<>""),O41,0) -> 0 | Q41: =CHOOSE(O41+1,"Not to be included in this RFA","A REQUIRED input field for this RFA","An OPTIONAL input field for this RFA") -> A REQUIRED input field for this RFA
C42: =IF(LEFT(DS_Elig_PropDevName,1)=CHAR(149),RIGHT(DS_Elig_PropDevName,LEN(DS_Elig_PropDevName)-2),DS_Elig_PropDevName)
A44: ="Section 4.A.4.(b)(1)" -> Section 4.A.4.(b)(1)
B45: Development Category selected | O45: 1 | P45: =IF(AND(O45<>0,J45<>""),O45,0) -> 0 | Q45: =CHOOSE(O45+1,"Not to be included in this RFA","A REQUIRED input field for this RFA","An OPTIONAL input field for this RFA") -> A REQUIRED input field for this RFA
C46: =IF(LEFT(DS_Elig_DevCat,1)=CHAR(149),RIGHT(DS_Elig_DevCat,LEN(DS_Elig_DevCat)-2),DS_Elig_DevCat)
A48: ="Section 4.A.4.(b)("&'Proposed Development Info'!B8&")" -> Section 4.A.4.(b)()
B49: Development Category Qualifying Conditions met | O49: 1 | P49: =IF(AND(O49<>0,J49<>""),O49,0) -> 0 | Q49: =CHOOSE(O49+1,"Not to be included in this RFA","A REQUIRED input field for this RFA","An OPTIONAL input field for this RFA") -> A REQUIRED input field for this RFA
C50: =IF(LEFT(DS_Elig_DevCatMet,1)=CHAR(149),RIGHT(DS_Elig_DevCatMet,LEN(DS_Elig_DevCatMet)-2),DS_Elig_DevCatMet)
A53: ="Section 4.A.4."&'Proposed Development Info'!A58&"." -> Section 4.A.4.c.
B54: Development Type provided | O54: 1 | P54: =IF(AND(O54<>0,J54<>""),O54,0) -> 0 | Q54: =CHOOSE(O54+1,"Not to be included in this RFA","A REQUIRED input field for this RFA","An OPTIONAL input field for this RFA") -> A REQUIRED input field for this RFA
C55: =IF(LEFT(DS_Elig_DevType,1)=CHAR(149),RIGHT(DS_Elig_DevType,LEN(DS_Elig_DevType)-2),DS_Elig_DevType)
A57: ="Section 4.A.4."&'Proposed Development Info'!A67&"." -> Section 4.A.4.d.
B58: Breakdown of number of units associated with each Development Type, Development Category and ESS/Non-ESS provided, if applicable | O58: 1 | P58: =IF(AND(O58<>0,J58<>""),O58,0) -> 0 | Q58: =CHOOSE(O58+1,"Not to be included in this RFA","A REQUIRED input field for this RFA","An OPTIONAL input field for this RFA") -> A REQUIRED input field for this RFA
...

Sheet Eligibility Table
A1: Section 5.A.1. Verifying Application Fee Payment | L1: The notes and indicators herein are intended to assist the Applicant, but accuracy is not guaranteed. The Applicant is responsible to meet all RFA requirements regardless of the notes and indicators. All responses are subject to scoring after submission.
B3: Eligibility Items | J3: Met | S3: Definition of what is being tested (key to Kevin's formulas):
B4: Submission Requirements met* | J4: =IF(Name_Of_Applicant="","",IF($N4=0,"NA","TBD")) | L4: =IF(Name_Of_Applicant="","",IF($N4=0,"NA",CHAR(149)&" Needs to be scored after submission")) | N4: 1 | P4: =IF(N4="","",IF(N4=0,"Not ","")&"Applicable to this RFA") -> Applicable to this RFA | S4: TBD - If a 0 is entered in column N this will show as NA and be greyed out.
B5: Verification that the Applicant has not closed on the Tax-Exempt Bond financing prior to the Application Deadline | J5: =IF(Name_Of_Applicant="","",IF($N5=0,"NA","TBD")) | L5: =IF(Name_Of_Applicant="","",IF($N5=0,"NA",CHAR(149)&" Needs to be scored after submission")) | N5: 1 | P5: =IF(N5="","",IF(N5=0,"Not ","")&"Applicable to this RFA") -> Applicable to this RFA | S5: TBD - If a 0 is entered in column N this will show as NA and be greyed out.
B6: Applicant Certification and Acknowledgement form provided and meets requirements | J6: =IF(Name_Of_Applicant="","",IF($N6=0,"NA",IF(Cert_Signature=Data1!F142,"Matches","No"))) | L6: =IF(Name_Of_Applicant="","",IF($N6=0,"NA",IF(OR(Cert_Signature="",Data1!F142=""),CHAR(149)&" Input required",IF(Cert_Signature=Data1!F142,CHAR(149)&" Names match, but still needs to be scored",CHAR(149)&" "&IF(OR(Data1!F142=" ",Data1!F142=" "&" "),"""<no entry>",""""&Data1!F142)&""" does not match """&Cert_Signature&"""")))) | N6: 1 | P6: =IF(N6="","",IF(N6=0,"Not ","")&"Applicable to this RFA") -> Applicable to this RFA | S6: Verifies the Authorized Principal Representative name on the Certification page matches the name on the General Information Tab.
B7: Demographic Commitment selected | J7: =IF(Name_Of_Applicant="","",IF(OR($N7=0,'General Information'!$K10=0),"NA",IF(Demographic<>"<select one>","Yes","No"))) | L7: =IF(Name_Of_Applicant="","",IF($N7=0,"NA",IF(J7="No",CHAR(149)&" Question 4.A.2. not answered",IF(J7="Yes",CHAR(149)&" Question 4.A.2. has an eligible response","")))) | N7: 1 | P7: =IF(N7="","",IF(N7=0,"Not ","")&"Applicable to this RFA") -> Applicable to this RFA | S7: Verifies a demographic is selected on the General Information tab. If a 0 is entered in column N this will show as NA and be greyed out.
B8: Name of Applicant provided | J8: =IF(Name_Of_Applicant="","",IF(OR($N8=0,'General Information'!$K28=0),"NA",IF(Name_Of_Applicant<>"","Yes","No"))) | L8: =IF(Name_Of_Applicant="","",IF($N8=0,"NA",IF(J8="No",CHAR(149)&" Question 4.A.3."&'General Information'!A27&"(1) not answered",IF(J8="Yes",CHAR(149)&" Question 4.A.3."&'General Information'!A27&"(1) has an eligible response","")))) | N8: 1 | P8: =IF(N8="","",IF(N8=0,"Not ","")&"Applicable to this RFA") -> Applicable to this RFA | S8: Verifies applicants name is entered on General Information Tab. If a 0 is entered in column N on this tab and/or column K on the General Information tab this will show as NA and be greyed out.
B9: Evidence Applicant is a legally formed entity provided | J9: =IF(Name_Of_Applicant="","",IF($N9=0,"NA","TBD")) | L9: =IF(Name_Of_Applicant="","",IF($N9=0,"NA",CHAR(149)&" Needs to be scored after submission")) | N9: 1 | P9: =IF(N9="","",IF(N9=0,"Not ","")&"Applicable to this RFA") -> Applicable to this RFA | S9: TBD - If a 0 is entered in column N this will show as NA and be greyed out.
B10: Name of Each Developer (including all co-Developers) provided | J10: =IF(Name_Of_Applicant="","",IF(OR($N10=0,'General Information'!$K53=0),"NA",IF(Name_Of_Developer_1<>"","Yes","No"))) | L10: =IF(Name_Of_Applicant="","",IF($N10=0,"NA",IF(J10="No",CHAR(149)&" First line in Question 4.A.3."&'General Information'!A51&".(1) not answered",IF(J10="Yes",CHAR(149)&" First line in Question 4.A.3."&'General Information'!A51&".(1) has an eligible response","")))) | N10: 1 | P10: =IF(N10="","",IF(N10=0,"Not ","")&"Applicable to this RFA") -> Applicable to this RFA | S10: Verifies at least 1 Developer name is entered on the General Information Tab. If a 0 is entered in column N on this tab and/or column K on the General Information tab this will show as NA and be greyed out.
B11: Evidence that each Developer entity is a legally formed entity provided | J11: =IF(Name_Of_Applicant="","",IF($N11=0,"NA","TBD")) | L11: =IF(Name_Of_Applicant="","",IF($N11=0,"NA",CHAR(149)&" Needs to be scored after submission")) | N11: 1 | P11: =IF(N11="","",IF(N11=0,"Not ","")&"Applicable to this RFA") -> Applicable to this RFA | S11: TBD - If a 0 is entered in column N this will show as NA and be greyed out.
B12: Developer Experience Requirement met | J12: =IF(Name_Of_Applicant="","",IF(OR($N12=0,'General Information'!$K61=0),"NA",IF(AND(CHOOSE(DS_DevExpMinDevs_List,DevExp_first_Dev_name<>"",AND(DevExp_first_Dev_name<>"",DevExp_second_Dev_name<>""),AND(DevExp_first_Dev_name<>"",DevExp_second_Dev_name<>"",DevExp_third_Dev_name<>"")),DS_DevExpDateMinDevs<=SUM(IF(AND('General Information'!K71=1,AND(DevExp_first_Dev_year>=YEAR(DS_DevExpDate),DevExp_first_Dev_year<YEAR(NOW())))=TRUE,1,0),IF(AND('General Information'!K80=1,AND(DevExp_second_Dev_year>=YEAR(DS_DevExpDate),DevExp_second_Dev_year<YEAR(NOW())))=TRUE,1,0),IF(AND('General Information'!K89=1,AND(DevExp_third_Dev_year>=YEAR(DS_DevExpDate),DevExp_third_Dev_year<YEAR(NOW())))=TRUE,1,0)),DS_DevExpPrgmMinDevs<=SUM(IF(AND('General Information'!K68=1,DevExp_first_Dev_program=DS_DevExpPrgm),1,0),IF(AND('General Information'!K77=1,DevExp_second_Dev_program=DS_DevExpPrgm),1,0),IF(AND('General Information'!K86=1,DevExp_third_Dev_program=DS_DevExpPrgm),1,0)),DS_DevExpMinDevs_Units<=SUM(IF(AND('General Information'!K70=1,DevExp_first_Dev_units>=IF(DS_DevExpMinUnitsSelect="Number",DS_DevExpMinUnitsNumber,ROUNDUP(DS_DevExpMinUnitsPercent*Total_Units,0))),1,0),IF(AND('General Information'!K79=1,DevExp_second_Dev_units>=IF(DS_DevExpMinUnitsSelect="Number",DS_DevExpMinUnitsNumber,ROUNDUP(DS_DevExpMinUnitsPercent*Total_Units,0))),1,0),IF(AND('General Information'!K88=1,DevExp_third_Dev_units>=IF(DS_DevExpMinUnitsSelect="Number",DS_DevExpMinUnitsNumber,ROUNDUP(DS_DevExpMinUnitsPercent*Total_Units,0))),1,0))),"Yes","No"))) | L12: =IF(Name_Of_Applicant="","",IF($N12=0,"NA",IF(J12="No",CHAR(149)&IF(CHOOSE(DS_DevExpMinDevs_List,DevExp_first_Dev_name<>"",AND(DevExp_first_Dev_name<>"",DevExp_second_Dev_name<>""),AND(DevExp_first_Dev_name<>"",DevExp_second_Dev_name<>"",DevExp_third_Dev_name<>"")),""," The minimum of "&TEXT(DS_DevExpMinDevs_List,"0")&" development"&IF(DS_DevExpMinDevs_List>1,"s were"," was")&" not presented.")&IF(DS_DevExpDateMinDevs<=SUM(IF(AND('General Information'!K71=1,AND(DevExp_first_Dev_year>=YEAR(DS_DevExpDate),DevExp_first_Dev_year<YEAR(NOW())))=TRUE,1,0),IF(AND('General Information'!K80=1,AND(DevExp_second_Dev_year>=YEAR(DS_DevExpDate),DevExp_second_Dev_year<YEAR(NOW())))=TRUE,1,0),IF(AND('General Information'!K89=1,AND(DevExp_third_Dev_year>=YEAR(DS_DevExpDate),DevExp_third_Dev_year<YEAR(NOW())))=TRUE,1,0)),""," The minimum of "&TEXT(DS_DevExpDateMinDevs,"0")&" development"&IF(DS_DevExpDateMinDevs>1,"s have not met"," did not meet")&" the completion date requirement.")&IF(DS_DevExpPrgmMinDevs<=SUM(IF(AND('General Information'!K68=1,DevExp_first_Dev_program=DS_DevExpPrgm),1,0),IF(AND('General Information'!K77=1,DevExp_second_Dev_program=DS_DevExpPrgm),1,0),IF(AND('General Information'!K86=1,DevExp_third_Dev_program=DS_DevExpPrgm),1,0)),""," The minimum of "&TEXT(DS_DevExpPrgmMinDevs,"0")&" development"&IF(DS_DevExpPrgmMinDevs>1,"s have not met"," did not meet")&" the the prior program experience requirement.")&IF(DS_DevExpMinDevs_Units<=SUM(IF(AND('General Information'!K70=1,DevExp_first_Dev_units>=IF(DS_DevExpMinUnitsSelect="Number",DS_DevExpMinUnitsNumber,ROUNDUP(DS_DevExpMinUnitsPercent*Total_Units,0))),1,0),IF(AND('General Information'!K79=1,DevExp_second_Dev_units>=IF(DS_DevExpMinUnitsSelect="Number",DS_DevExpMinUnitsNumber,ROUNDUP(DS_DevExpMinUnitsPercent*Total_Units,0))),1,0),IF(AND('General Information'!K88=1,DevExp_third_Dev_units>=IF(DS_DevExpMinUnitsSelect="Number",DS_DevExpMinUnitsNumber,ROUNDUP(DS_DevExpMinUnitsPercent*Total_Units,0))),1,0)),""," The minimum of "&TEXT(DS_DevExpDateMinDevs,"0")&" development"&IF(DS_DevExpMinDevs_Units>1,"s have not met"," did not meet")&" the minimum unit requirement."),IF(J12="Yes",CHAR(149)&" Meets minimum # of developments, date, subsidy program and unit requirments","")))) | N12: 1 | P12: =IF(N12="","",IF(N12=0,"Not ","")&"Applicable to this RFA") -> Applicable to this RFA | S12: Verifies the number of affordable housing developments required on Data1 tab (E60) is not blank and takes that number and ensures general developer principal experience data on the General Information tab (b3a) is completed for that number of housing developments (3ai-iii as required). Verifies that the years entered for the afforable housing developments on the General Information Information tab (3ai-iii) are ≥ the date entered for the Initial Date for Developer Experience requirement in the Data1 tab cell E58. Verifies that the # of units entered for the afforable housing developments on the General Information Information tab (3ai-iii) are ≥ the the the minimum unit requirement in the Data1 tab based on whether the RFA minimum unit requirement is based on a "percentage" or a "number" of units (cell E64). For percentage requirement it checks cell E62 times # of units (cell J3 in Units, Set-Asides, Buildings tab) and for number requirement it checks cell E63. Verifies that the funding program selected as a requirement on the Data1 tab (E59) is the same as the funding program selected for the afforable housing developments on the General Information Information tab (3ai-iii). If a 0 is entered in column N on this tab and/or cell K36 on the General Information tab this will show as NA and be greyed out.
B13: Principals for Applicant and Developer(s) Disclosure Form provided and meets requirements | J13: =IF(Name_Of_Applicant="","",IF($N13=0,"NA","TBD")) | L13: =IF(Name_Of_Applicant="","",IF($N13=0,"NA",CHAR(149)&" Needs to be scored after submission")) | N13: 1 | P13: =IF(N13="","",IF(N13=0,"Not ","")&"Applicable to this RFA") -> Applicable to this RFA | S13: TBD - If a 0 is entered in column N this will show as NA and be greyed out.
B14: Name of Management Company provided | J14: =IF(Name_Of_Applicant="","",IF(OR($N14=0,'General Information'!$K109=0),"NA",IF(Name_of_Mgmt_Co<>"","Yes","No"))) | L14: =IF(Name_Of_Applicant="","",IF($N14=0,"NA",IF(J14="No",CHAR(149)&" First line in Question 4.A.3."&'General Information'!A105&".(1) not answered",IF(J14="Yes",CHAR(149)&" First line in Question 4.A.3."&'General Information'!A105&".(1) has an eligible response","")))) | N14: 1 | P14: =IF(N14="","",IF(N14=0,"Not ","")&"Applicable to this RFA") -> Applicable to this RFA | S14: Verifies a Management company name is entered on the General Information Tab. If a 0 is entered in column N on this tab and/or column K on the General Information tab this will show as NA and be greyed out.
B15: Contact Information for Management Company provided | J15: =IF(Name_Of_Applicant="","",IF(OR($N15=0,'General Information'!$K109=0),"NA",IF(AND(AND(IF('General Information'!$K109=0,TRUE,Name_of_Mgmt_Co<>""),IF('General Information'!$K110=0,TRUE,Mgmt_Co_Address<>""),IF('General Information'!$K111=0,TRUE,Mgmt_Co_City<>""),IF('General Information'!$K112=0,TRUE,Mgmt_Co_State<>"<select one>"),IF('General Information'!$K113=0,TRUE,Mgmt_Co_Zip_Code<>""),IF('General Information'!$K114=0,TRUE,Mgmt_Co_Phone<>""),IF('General Information'!$K115=0,TRUE,Mgmt_Co_Email<>""))),"Yes","No"))) | L15: =IF(Name_Of_Applicant="","",IF($N15=0,"NA",IF(J15="No",CHAR(149)&" Question 4.A.3."&'General Information'!A105&".(1) is not complete with "&TEXT(SUM(Mgmt_InputReq)-SUM(Mgmt_InputTracking),"0")&" of its 7 required responses missing",IF(J15="Yes",CHAR(149)&" Question 4.A.3."&'General Information'!A105&".(1) has 7 required responses","")))) | N15: 1 | P15: =IF(N15="","",IF(N15=0,"Not ","")&"Applicable to this RFA") -> Applicable to this RFA | S15: Verifies a Management company name, address, city, state, zip and phone number are entered on the General Information Tab. If a 0 is entered in column N on this tab and/or column K on the General Information tab this will show as NA and be greyed out.
B16: Prior General Management Company Experience requirement met | J16: =IF(Name_Of_Applicant="","",IF(OR($N16=0,'General Information'!$K118=0),"NA",IF(AND(CHOOSE(Data1!E137,Mgmt_Co_Exp_first_Dev_name<>"",AND(Mgmt_Co_Exp_first_Dev_name<>"",Mgmt_Co_Exp_second_Dev_name<>"")),OR(AND('General Information'!K125=1,Mgmt_Co_Exp_first_time>=Data1!E139),AND('General Information'!K133=1,Mgmt_Co_Exp_second_time>=Data1!E139)),OR(AND('General Information'!K126=1,Mgmt_Co_Exp_first_units>=ROUNDUP(Data1!E138*Total_Units,0)),AND('General Information'!K134=1,Mgmt_Co_Exp_second_units>=ROUNDUP(Data1!E138*Total_Units,0)))),"Yes","No"))) | L16: =IF(Name_Of_Applicant="","",IF($N16=0,"NA",IF(J16="No",CHAR(149)&IF(CHOOSE(Data1!E137,Mgmt_Co_Exp_first_Dev_name<>"",AND(Mgmt_Co_Exp_first_Dev_name<>"",Mgmt_Co_Exp_second_Dev_name<>"")),""," The minimum # of developments were not provided.")&IF(OR(AND('General Information'!K125=1,Mgmt_Co_Exp_first_time>=Data1!E139),AND('General Information'!K133=1,Mgmt_Co_Exp_second_time>=Data1!E139)),""," The minimum time-managed requirement was not met by any development listed.")&IF(OR(AND('General Information'!K126=1,Mgmt_Co_Exp_first_units>=ROUNDUP(Data1!E138*Total_Units,0)),AND('General Information'!K134=1,Mgmt_Co_Exp_second_units>=ROUNDUP(Data1!E138*Total_Units,0))),""," The minimum unit requirement was not met by any development listed."),CHAR(149)&" Meets minimum # of developments, time-managed and unit requirments."))) | N16: 1 | P16: =IF(N16="","",IF(N16=0,"Not ","")&"Applicable to this RFA") -> Applicable to this RFA | S16: Verifies the number of affordable housing developments required on Data1 tab (E124) is not blank and takes that number and ensures management company experience data on the General Information tab (d2a & d2b) is completed for that number of housing developments. Verifies that the years entered for the afforable housing developments on the General Information Information tab (d2a & d2b) are ≥ the date entered for the Initial Date for Management Experience requirement in the Data1 tab cell E126. Verifies that the # of units entered for the afforable housing developments on the General Information Information tab (d2a & d2b) are ≥ the the the minimum unit % requirement in the Data1 tab cell E125 times # of units (cell J3 in Units, Set-Asides, Buildings tab). If a 0 is entered in column N on this tab and/or cell K91 on the General Information tab this will show as NA and be greyed out.
B17: Authorized Principal Representative provided and meets requirements | J17: =IF(Name_Of_Applicant="","",IF(OR($N17=0,'General Information'!$K143=0),"NA",IF(AND('General Information'!K142=1,LEN(_xlfn.CONCAT(DS_Authorized_Contact_Full_Name))<>1),"Yes","No"))) | L17: =IF(Name_Of_Applicant="","",IF($N17=0,"NA",IF(J17="No",CHAR(149)&" A name has not been entered",IF(J17="Yes",CHAR(149)&" A response has been provided but will need to be scored","")))) | N17: 1 | P17: =IF(N17="","",IF(N17=0,"Not ","")&"Applicable to this RFA") -> Applicable to this RFA | S17: Verifies Authorized Principal Representatives first name, middle initial, and last name are entered on the General Information Tab. If a 0 is entered in column N on this tab and/or column K on the General Information tab this will show as NA and be greyed out.
B18: Name of Proposed Development provided | J18: =IF(Name_Of_Applicant="","",IF(OR($N18=0,'Proposed Development Info'!$K3=0),"NA",IF(Name_of_proposed_Development<>"","Yes","No"))) | L18: =IF(Name_Of_Applicant="","",IF($N18=0,"NA",IF(J18="No",CHAR(149)&" Question 4.A.4."&'Proposed Development Info'!A3&" not answered",IF(J18="Yes",CHAR(149)&" Question 4.A.4."&'Proposed Development Info'!A3&" has an eligible response","")))) | N18: 1 | P18: =IF(N18="","",IF(N18=0,"Not ","")&"Applicable to this RFA") -> Applicable to this RFA | S18: Verifies Proposed Development Name is entered on the Proposed Development Tab. If a 0 is entered in column N on this tab and/or column K on the General Information tab this will show as NA and be greyed out.
B19: Development Category selected | J19: =IF(Name_Of_Applicant="","",IF(OR($N19=0,'Proposed Development Info'!$K6=0),"NA",IF(Development_Category<>"<select one>","Yes","No"))) | L19: =IF(Name_Of_Applicant="","",IF($N19=0,"NA",IF(J19="No",CHAR(149)&" Question 4.A.4."&'Proposed Development Info'!A5&"(1) not answered",IF(J19="Yes",CHAR(149)&" Question 4.A.4."&'Proposed Development Info'!A5&"(1) has an eligible response","")))) | N19: 1 | P19: =IF(N19="","",IF(N19=0,"Not ","")&"Applicable to this RFA") -> Applicable to this RFA | S19: Verifies Development Category is entered on the Proposed Development Tab. If a 0 is entered in column N on this tab and/or column K on the General Information tab this will show as NA and be greyed out.
B20: Development Category Qualifying Conditions met | J20: =IF(Name_Of_Applicant="","",IF(OR($N20=0,'Proposed Development Info'!#REF!=0),"NA",IF(OR(Development_Category="New Construction",Development_Category="Redevelopment",Development_Category="Acquisition and Redevelopment"),IF('Proposed Development Info'!G20>='Proposed Development Info'!G19,"Yes","No"),IF(OR(Development_Category="Rehabilitation",Development_Category="Acquisition and Rehabilitation",Development_Category="Preservation",Development_Category="Acquisition and Preservation"),IF(AND('Proposed Development Info'!H20<'Proposed Development Info'!H19,'Proposed Development Info'!H26>=20%,'Proposed Development Info'!H35>=25000),"Yes","No"),"No")))) | L20: =IF(Name_Of_Applicant="","",IF($N20=0,"NA",IF(J20="No",CHAR(149)&IF(OR(Development_Category="New Construction",Development_Category="Redevelopment",Development_Category="Acquisition and Redevelopment"),IF('Proposed Development Info'!G20<'Proposed Development Info'!G19," NC Units >= 50% Total Units requirement not met",""),IF(OR(Development_Category="Rehabilitation",Development_Category="Acquisition and Rehabilitation",Development_Category="Preservation",Development_Category="Acquisition and Preservation"),IF('Proposed Development Info'!H20>='Proposed Development Info'!H19," NC Units < 50% Total Units requirement not met.","")&IF('Proposed Development Info'!H26<20%," Rehab expenses >= 20% of adjusted basis of acquired building requirement not met.","")&IF('Proposed Development Info'!H35<25000," Qualified basis of rehab expenses >= $25K per HC Unit requirement not met.","")," No Development Category selected.")),IF(J20="Yes",CHAR(149)&" Development Category meets qualifying conditions for its unit mix"&IF(OR(Development_Category="Rehabilitation",Development_Category="Acquisition and Rehabilitation",Development_Category="Preservation",Development_Category="Acquisition and Preservation")," and Rehab Expenses relative to both Adj. Basis of Acq. Basis and per HC Unit","")&".","")))) | N20: 1 | P20: =IF(N20="","",IF(N20=0,"Not ","")&"Applicable to this RFA") -> Applicable to this RFA | S20: Verifies that if a New Construction Development Category (NC, Redev, Acq/Redev) is selected in section b1 of the Proposed Development Info tab the Qualifying unit measure on the Proposed Development Tab is ≥ minimum unit requirement on the Proposed Development Tab (column G). Verifies that if a Rehab Development Category (Rehab, Acq/Rehab, Pres, Acq/Pres) is selected in section b1 of the Proposed Development Info tab the Qualifying unit measure is ≥ minimum unit requirement on the Proposed Development Tab and the rehab expense measure on the Proposed Development is > 20%, and the qualified basis per unit measure on the Proposed Development is >$25k (Column H). If a 0 is entered in column N on this tab and/or cell K91 on the Proposed Development Info tab this will show as NA and be greyed out.
B21: Development Type provided | J21: =IF(Name_Of_Applicant="","",IF(OR($N21=0,'Proposed Development Info'!$K59=0),"NA",IF(DevType<>"<select one>","Yes","No"))) | L21: =IF(Name_Of_Applicant="","",IF($N21=0,"NA",IF(J21="No",CHAR(149)&" Question 4.A.4."&'Proposed Development Info'!A58&". not answered",IF(J21="Yes",CHAR(149)&" Question 4.A.4."&'Proposed Development Info'!A58&". has an eligible response","")))) | N21: 1 | P21: =IF(N21="","",IF(N21=0,"Not ","")&"Applicable to this RFA") -> Applicable to this RFA | S21: Verifies Development Type is entered on the Proposed Development Tab. If a 0 is entered in column N on this tab and/or column K on the General Information tab this will show as NA and be greyed out.
B22: Breakdown of number of units associated with each Development Type, Development Category and ESS/Non-ESS provided, if applicable | J22: =IF(Name_Of_Applicant="","",IF(OR($N22=0,'Proposed Development Info'!$K6+SUM('Proposed Development Info'!$K72:$K86)=0),"NA",IF(AND(total_units_in_unit_desc_chart=Total_Units,Development_Category<>"<select one>",Development_Category<>""),"Yes","No"))) | L22: =IF(Name_Of_Applicant="","",IF($N22=0,"NA",IF(J22="No",CHAR(149)&IF(total_units_in_unit_desc_chart<>Total_Units," Total Units in 4.A.4.e. table not equal to Total Units in 4.A.6.a.","")&IF(OR(Development_Category="<select one>",Development_Category="")," Question 4.A.4.b.1 not answered.",""),IF(J22="Yes",CHAR(149)&" Total Units in 4.A.4.e. table equals Total Units in 4.A.6.a."&" Question 4.A.4.b.1 has an eligible response.","")))) | N22: 1 | P22: =IF(N22="","",IF(N22=0,"Not ","")&"Applicable to this RFA") -> Applicable to this RFA | S22: Verifies Total Units at the bottom of the Unit Characteristics Chart on the Proposed Development Tab is equal to Total Units under letter (a) on the Units, Set-Asides, Buildings Tab and that both the ESS Construction Funding Preference and Development Category (number 1) on the Proposed Development Tab have a selection made (so are not blank or the <select one> default). If a 0 is entered in column N on this tab and/or column K on the General Information tab for Development Category and/or ESS Construction Funding Preference and/or for all Unit Characteristic rows this will show as NA and be greyed out.
B23: County identified | J23: =IF(Name_Of_Applicant="","",IF($N23=0,"NA",IF(County<>"<select one>","Yes","No"))) | L23: =IF(Name_Of_Applicant="","",IF($N23=0,"NA",IF(J23="No",CHAR(149)&" Question 4.A.5.a. not answered",IF(J23="Yes",CHAR(149)&" Question 4.A.5.a. has an eligible response","")))) | N23: 1 | P23: =IF(N23="","",IF(N23=0,"Not ","")&"Applicable to this RFA") -> Applicable to this RFA | S23: Verifies a County Name is selected on the Development Location Tab. If a 0 is entered in column N on this tab this will show as NA and be greyed out.
B24: Address of Development Site provided | J24: =IF(Name_Of_Applicant="","",IF(OR($N24=0,'Development Location'!$L11=0),"NA",IF(Development_Location<>"","Yes","No"))) | L24: =IF(Name_Of_Applicant="","",IF($N24=0,"NA",IF(J24="No",CHAR(149)&" Question 4.A.5."&'Development Location'!A9&". not answered",IF(J24="Yes",CHAR(149)&" Question 4.A.5."&'Development Location'!A9&". has an eligible response","")))) | N24: 1 | P24: =IF(N24="","",IF(N24=0,"Not ","")&"Applicable to this RFA") -> Applicable to this RFA | S24: Verifies Address of Development Site is entered on the Development Location Tab. If a 0 is entered in column N on this tab and/or column L on the Development Location Tab this will show as NA and be greyed out.
B25: Question whether a Scattered Sites Development answered | J25: =IF(Name_Of_Applicant="","",IF(OR($N25=0,'Development Location'!$L18=0),"NA",IF(Scattered_Sites<>"<select one>","Yes","No"))) | L25: =IF(Name_Of_Applicant="","",IF($N25=0,"NA",IF(J25="No",CHAR(149)&" Question 4.A.5."&'Development Location'!A16&".(1) not answered",IF(J25="Yes",CHAR(149)&" Question 4.A.5."&'Development Location'!A16&".(1) has an eligible response","")))) | N25: 1 | P25: =IF(N25="","",IF(N25=0,"Not ","")&"Applicable to this RFA") -> Applicable to this RFA | S25: Verifies that an answer as to whether or not the Development Consists of Scattered Sites on the Development Location Tab. If a 0 is entered in column N on this tab and/or column L on the Development Location Tab this will show as NA and be greyed out.
B26: Development Location Point provided | J26: =IF(Name_Of_Applicant="","",IF(OR($N26=0,SUM('Development Location'!$L23:$L24)=0),"NA",IF(OR(DLP_latitude="",VALUE(DLP_latitude)<0,LEN(DLP_latitude)<IFERROR(FIND(".",DLP_latitude)+6,0),DLP_longitude="",VALUE(DLP_longitude)>0,LEN(DLP_longitude)<IFERROR(FIND(".",DLP_longitude)+6,0),AND(Scattered_Sites="Yes",LEN(Scattered_Sites_lat_long)<17)),"No","Yes"))) | L26: =IF(Name_Of_Applicant="","",IF($N26=0,"NA",IF(J26="No",CHAR(149)&IF(DLP_latitude=""," Latitude point not provided",IF(AND(VALUE(DLP_latitude)>0,LEN(DLP_latitude)<IFERROR(FIND(".",DLP_latitude)+6,0))," Latitude is not 6 decimals",IF(AND(VALUE(DLP_latitude)<0,LEN(DLP_latitude)>IFERROR(FIND(".",DLP_latitude)+5,0))," Latitude not listed as a positive #",IF(AND(VALUE(DLP_latitude)<0,LEN(DLP_latitude)<IFERROR(FIND(".",DLP_latitude)+6,0))," Latitude not listed as a positive # & it is not 6 decimals",""))))&IF(AND(OR(DLP_latitude="",AND(VALUE(DLP_latitude)>0,LEN(DLP_latitude)<IFERROR(FIND(".",DLP_latitude)+6,0)),VALUE(DLP_latitude)<0),OR(DLP_longitude="",AND(VALUE(DLP_longitude)<0,LEN(DLP_longitude)<IFERROR(FIND(".",DLP_longitude)+6,0)),VALUE(DLP_longitude)>0)),";","")&IF(DLP_longitude=""," Longitude point not provided",IF(AND(VALUE(DLP_longitude)<0,LEN(DLP_longitude)<IFERROR(FIND(".",DLP_longitude)+6,0))," Longitude is not 6 decimals",IF(AND(VALUE(DLP_longitude)>0,LEN(DLP_longitude)<IFERROR(FIND(".",DLP_longitude)+6,0))," Longitude not listed as a negative # & it is not 6 decimals",IF(VALUE(DLP_longitude)>0," Longitude not listed as a negative #","")))),IF(J26="Yes",CHAR(149)&" Question 4.A.5.d.(1) has been answered","")))) | N26: 1 | P26: =IF(N26="","",IF(N26=0,"Not ","")&"Applicable to this RFA") -> Applicable to this RFA | S26: Verifies Latitude and Longitude Coordinates are entered on the Development Location Tab. If a 0 is entered in column N on this tab and/or column L on the Development Location Tab this will show as NA and be greyed out.
B27: Latitude and Longitude Coordinates for any Scattered Sites provided, if applicable | J27: =IF(Name_Of_Applicant="","",IF(OR($N27=0,'Development Location'!$L18=0,Scattered_Sites="No"),"NA",IF(AND(Scattered_Sites="Yes",Scattered_Sites_lat_long<>"",LEN(Scattered_Sites_lat_long)>18),"Yes","No"))) | L27: =IF(Name_Of_Applicant="","",IF($N27=0,"NA",IF(J27="No",CHAR(149)&IF(Scattered_Sites="<select one>"," Question 4.A.5."&'Development Location'!A16&".(1) not answered",IF(OR(Scattered_Sites_lat_long="",LEN(Scattered_Sites_lat_long)<19)," Appropriate Lat/Long points not provided for Scattered Sites","")),IF(J27="Yes",CHAR(149)&" Question 4.A.5."&'Development Location'!A16&".(1) has a response as well as Question 4.A.5."&'Development Location'!A20&".(2)","")))) | N27: 1 | P27: =IF(N27="","",IF(N27=0,"Not ","")&"Applicable to this RFA") -> Applicable to this RFA | S27: Verifies that if applicant indicates the development has Scattered Sites on the Development Location Tab, that the Scattered Sites Latitude and Longitude Coordinates are entered on the Development Location Tab D(2). If a 0 is entered in column N on this tab and/or column L on the Development Location Tab this will show as NA and be greyed out.
B28: Minimum Transit Score met (if applicable) ??Community Services?? | J28: =IF(Name_Of_Applicant="","",IF(OR($N28=0, | N28: 1 | P28: =IF(N28="","",IF(N28=0,"Not ","")&"Applicable to this RFA") -> Applicable to this RFA
B29: Minimum Total Proximity Score met (excludes: LGAO, SunRail Goal, Local Revitalizatin Initiative Goal) | J29: =IF(Name_Of_Applicant="","",IF(OR($N29=0, | N29: 1 | P29: =IF(N29="","",IF(N29=0,"Not ","")&"Applicable to this RFA") -> Applicable to this RFA
B30: Mandatory Distance Requirement met | J30: =IF(Name_Of_Applicant="","",IF(OR($N30=0, | N30: 1 | P30: =IF(N30="","",IF(N30=0,"Not ","")&"Applicable to this RFA") -> Applicable to this RFA
B31: Total Number of Units provided and within limits | J31: =IF(Name_Of_Applicant="","",IF($N31=0,"NA",IF(AND(Total_Units>=DS_Min_Units,Total_Units<=DS_Max_Units),"Yes","No"))) | L31: =IF(Name_Of_Applicant="","",IF($N31=0,"NA",IF(J31="No",CHAR(149)&IF(Total_Units<DS_Min_Units," Total Units is less than the minimum allowed","")&IF(Total_Units>DS_Max_Units," Total Units is greater than the maximum allowed"),IF(J31="Yes",CHAR(149)&" Total Units is within the range allowed","")))) | N31: 1 | P31: =IF(N31="","",IF(N31=0,"Not ","")&"Applicable to this RFA") -> Applicable to this RFA | S31: Verifies that the Total Units entered on the Units, Set-Asides, Buildings Tab is within the Minimum and Maximum unit limits specified on the Data1 Tab (cells F238 & F239). If a 0 is entered in column N on this tab this will show as NA and be greyed out.
B32: Number of new construction units and rehabilitation units provided | J32: =IF(Name_Of_Applicant="","",IF(OR($N32=0,SUM('Proposed Development Info'!K72:K86)=0),"NA",IF(total_units_in_unit_desc_chart=Total_Units,"Yes","No"))) | L32: =IF(Name_Of_Applicant="","",IF($N32=0,"NA",IF(J32="No",CHAR(149)&" The table for 4.A.4."&'Proposed Development Info'!A67&". has not been properly completed",IF(J32="Yes",CHAR(149)&" The table for 4.A.4."&'Proposed Development Info'!A67&". has been completed","")))) | N32: 1 | P32: =IF(N32="","",IF(N32=0,"Not ","")&"Applicable to this RFA") -> Applicable to this RFA | S32: Verifies Total Units at the bottom of the Unit Characteristics Chart on the Proposed Development Tab is equal to Total Units under letter (a) on the Units, Set-Asides, Buildings Tab. If a 0 is entered in column N on this tab and/or column K on the General Information tab for all Unit Characteristic rows this will show as NA and be greyed out.
B33: Occupancy status of any existing units provided, if Rehabilitation | J33: =IF(Name_Of_Applicant="","",IF(OR($N33=0,'Units, Set-Asides, Bldgs'!P6=0,OR(Development_Category="New Construction",Development_Category="Redevelopment",Development_Category="Acquisition and Redevelopment")),"NA",IF(AND(OR(Development_Category="Rehabilitation",Development_Category="Acquisition and Rehabilitation",Development_Category="Preservation",Development_Category="Acquisition and Preservation"),occupancy_status<>"<select one>"),"Yes","No"))) | L33: =IF(Name_Of_Applicant="","",IF($N33=0,"NA",IF(J33="No",CHAR(149)&" Question 4.A.6.b. does not have a response",IF(J33="Yes",CHAR(149)&" Question 4.A.4.b. has an eligible response","")))) | N33: 1 | P33: =IF(N33="","",IF(N33=0,"Not ","")&"Applicable to this RFA") -> Applicable to this RFA | S33: Verifies that if a rehabilitation category type is selected as a development category on the Proposed Development Info tab that the type of the category is selected on the Units, Set-Aside, Buildings tab (b). If a 0 is entered in column N on this tab, a new construction category is selected on the Proposed Development Info tab, or nothing is selected for (b) on the Units, Set-Asides, Buildings tab this will show as NA and be greyed out.
B34: Minimum Set-Aside election provided | J34: =IF(Name_Of_Applicant="","",IF(OR($N34=0,'Units, Set-Asides, Bldgs'!$P13=0),"NA",IF(AND(Minimum_SetAside_per_Sec_42<>"<select one>",Minimum_SetAside_per_Sec_42<>""),"Yes","No"))) | L34: =IF(Name_Of_Applicant="","",IF($N34=0,"NA",IF(J34="No",CHAR(149)&" Question 4.A.6."&'Units, Set-Asides, Bldgs'!A10&".(1) not answered",IF(J34="Yes",CHAR(149)&" Question 4.A.6."&'Units, Set-Asides, Bldgs'!A10&".(1) has an eligible response","")))) | N34: 1 | P34: =IF(N34="","",IF(N34=0,"Not ","")&"Applicable to this RFA") -> Applicable to this RFA | S34: Verifies a Set Aside Commitment is selected on the Units, Set-Asides, Buildings tab. If a 0 is entered in column N on this tab and/or column P on the Units, Set-Asides, Buildings Tab this will show as NA and be greyed out.
A35: 6.d.2.(a) | B35: ="Total "&DS_Loan_Name&" Set-Aside Breakdown Chart properly completed" -> Total HOME-ARP Set-Aside Breakdown Chart properly completed | J35: =IF(Name_Of_Applicant="","",IF(OR($N35=0,'Units, Set-Asides, Bldgs'!$P15=0,Minimum_SetAside_per_Sec_42<>Data1!A342),"NA",IF(AND(Minimum_SetAside_per_Sec_42=Data1!A342,Data1!H357="Yes",Data1!H345="Yes",Data1!H370="Yes",pct_units_in_setaside_chart=1),"Yes","No"))) | L35: =IF(Name_Of_Applicant="","",IF($N36=0,"NA",IF(J35="No",CHAR(149)&IF(pct_units_in_setaside_chart<>1," All of the units have NOT been entered into the Set-Aside Breakdown Chart at Szection 4.A.6."&'Units, Set-Asides, Bldgs'!A$10&"."&'Units, Set-Asides, Bldgs'!B15&"("&'Units, Set-Asides, Bldgs'!C$18&"). ","")&IF(Data1!H345="No"," The Minimum FHFC RFA Set-Aside commitment of "&TEXT(DS_HC_Min_SA_Perc,"0%")&" has NOT been met. ","")&IF(Data1!H357="No"," The Minimum "&DS_Loan_Name&" Set-Aside commitment of "&TEXT(DS_Loan_Min_SA_Perc,"0%")&" has NOT been met. ",""),IF(J35="Yes",CHAR(149)&" Set-Aside Commitment Chart(s) in Section 4.A.6."&'Units, Set-Asides, Bldgs'!A10&".(2) have eligible responses","")))) | N35: 1 | P35: =IF(N35="","",IF(N35=0,"Not ","")&"Applicable to this RFA") -> Applicable to this RFA
A36: 6.d.2.(a) or (b) | B36: Total Housing Credit Set-Aside Breakdown Chart properly completed | J36: =IF(Name_Of_Applicant="","",IF(OR($N36=0,'Units, Set-Asides, Bldgs'!$P15=0),"NA",IF(AND(Data1!H345="Yes",Data1!H348="Yes",Data1!H370="Yes",IF(Demographic="Elderly ALF",Data1!H351="Yes",TRUE),IF(NonProfit_Applicant="Yes",Data1!H352="Yes",TRUE),IF('Units, Set-Asides, Bldgs'!R32=0,AND(Data1!H349="Yes",Data1!H350="Yes"),TRUE),IF(OR(Minimum_SetAside_per_Sec_42=Data1!A339,Minimum_SetAside_per_Sec_42=Data1!A340),pct_units_in_setaside_chart=1,IF(Minimum_SetAside_per_Sec_42="Average Income Test",AND(Total_AIT_Chart_Units=Total_Units,Data1!H353="Yes"),TRUE))),"Yes","No"))) | L36: =IF(Name_Of_Applicant="","",IF($N36=0,"NA",IF(J36="No",CHAR(149)&IF(OR(AND(Minimum_SetAside_per_Sec_42="Average Income Test",Total_AIT_Chart_Units<Total_Units),AND(Minimum_SetAside_per_Sec_42<>"Average Income Test",Minimum_SetAside_per_Sec_42<>"<select one>",pct_units_in_setaside_chart<1))," All of the units have NOT been entered into the Set-Aside Breakdown Chart at Section 4.A.6."&'Units, Set-Asides, Bldgs'!A$10&"."&'Units, Set-Asides, Bldgs'!B15&"("&IF(AND(Minimum_SetAside_per_Sec_42<>"Average Income Test",Minimum_SetAside_per_Sec_42<>"<select one>"),'Units, Set-Asides, Bldgs'!C$18,'Units, Set-Asides, Bldgs'!C$35)&").","")&IF(Data1!H$348="No"," The minimum IRS Set-Asides of "&IF(LEFT(Minimum_SetAside_per_Sec_42,2)="20","20% at 50%",IF(LEFT(Minimum_SetAside_per_Sec_42,2)="40","40% at 60%","40% at an average of 60% or less"))&" is NOT met.","")&IF(Data1!H$345="No"," The minimum FHFC Set-Aside commitment of "&TEXT(Data1!B$345,"0%")&" has NOT been met.","")&IF(AND('Units, Set-Asides, Bldgs'!R$32=0,Data1!H$349="No")," The minimum HC Set-Aside for units up to 60% AMI of "&TEXT(Data1!B$349,"0%")&" for Workforce has NOT been met.","")&IF(AND('Units, Set-Asides, Bldgs'!R$32=0,Data1!H$350="No")," The maximum HC Set-Aside for units up to 60% AMI of "&TEXT(Data1!B$350,"0%")&" for Workforce has NOT been met.","")&IF(AND(Minimum_SetAside_per_Sec_42="Average Income Test",Data1!H$353="No")," The average AMI of the HC units is in excess of 60%.","")&IF(Data1!H$370="No"," The ELI units entered into the Set-Aside Breakdown Chart at Section 4.A.6."&'Units, Set-Asides, Bldgs'!A$10&"."&'Units, Set-Asides, Bldgs'!B15&"("&IF(AND(Minimum_SetAside_per_Sec_42<>"Average Income Test",Minimum_SetAside_per_Sec_42<>"<select one>"),'Units, Set-Asides, Bldgs'!C$18,'Units, Set-Asides, Bldgs'!C$35)&") is less than the required minimum.","")&IF(AND(Demographic="Elderly ALF",Data1!H351="No")," The minimum ALF set-aside commimtment of "&TEXT(Data1!B351,"0%")&" has NOT been met.","")&IF(AND(NonProfit_Applicant="Yes",Data1!H352="No")," The IRS minimum safe-harbor set-aside commitment of "&TEXT(Data1!B352,"0%")&" has NOT been met.",""),IF(J36="Yes",CHAR(149)&" Set-Aside Commitment Chart(s) in Section 4.A.6."&'Units, Set-Asides, Bldgs'!A$10&"."&'Units, Set-Asides, Bldgs'!B15&" have eligible responses","")))) | N36: 1 | P36: =IF(N36="","",IF(N36=0,"Not ","")&"Applicable to this RFA") -> Applicable to this RFA
A37: ="6."&'Units, Set-Asides, Bldgs'!A10&".2.("&'Units, Set-Asides, Bldgs'!C70&")" -> 6.c.2.() | B37: ="Total "&DS_Gap_Name&" Set-Aside Breakdown Chart properly completed" -> Total SAIL Set-Aside Breakdown Chart properly completed | J37: =IF(Name_Of_Applicant="","",IF(OR($N37=0,'Units, Set-Asides, Bldgs'!$P15=0),"NA",IF(OR(AND(OR(Minimum_SetAside_per_Sec_42=Data1!A339,Minimum_SetAside_per_Sec_42=Data1!A340),AND(pct_units_in_setaside_chart=1,Data1!H348="Yes",Data1!H345="Yes",IF('Units, Set-Asides, Bldgs'!R32=0,AND(Data1!H349="Yes",Data1!H350="Yes"),TRUE),Data1!H370="Yes")),AND(Minimum_SetAside_per_Sec_42="Average Income Test",Total_AIT_Chart_Units=Total_Units,Data1!H348="Yes",Data1!H345="Yes",IF('Units, Set-Asides, Bldgs'!R32=0,AND(Data1!H349="Yes",Data1!H350="Yes"),TRUE),Data1!H353="Yes",Data1!H370="Yes"),AND(Minimum_SetAside_per_Sec_42=Data1!A342,Data1!H357="Yes",Data1!H345="Yes",Data1!H370="Yes")),"Yes","No"))) | L37: =IF(Name_Of_Applicant="","",IF($N37=0,"NA",IF(J37="No",CHAR(149)&IF(OR(AND(Minimum_SetAside_per_Sec_42="Average Income Test",Total_AIT_Chart_Units<Total_Units),AND(Minimum_SetAside_per_Sec_42<>"Average Income Test",Minimum_SetAside_per_Sec_42<>"<select one>",pct_units_in_setaside_chart<1))," All of the units have NOT been entered into the Set-Aside Breakdown Chart at Section 4.A.6.d.(2)("&IF(AND(Minimum_SetAside_per_Sec_42<>"Average Income Test",Minimum_SetAside_per_Sec_42<>"<select one>"),'Units, Set-Asides, Bldgs'!C18,'Units, Set-Asides, Bldgs'!C35)&").","")&IF(Data1!H348="No"," The minimum IRS Set-Asides of "&IF(LEFT(Minimum_SetAside_per_Sec_42,2)="20","20% at 50%",IF(LEFT(Minimum_SetAside_per_Sec_42,2)="40","40% at 60%","40% at an average of 60% or less"))&" is NOT met.","")&IF(Data1!H345="No"," The minimum FHFC Set-Aside commitment of "&TEXT(Data1!B345,"0%")&" has NOT been met.","")&IF(AND('Units, Set-Asides, Bldgs'!R32=0,Data1!H349="No")," The minimum HC Set-Aside set at up to 60% AMI of "&TEXT(Data1!B349,"0%")&" for Workforce has NOT been met.","")&IF(AND('Units, Set-Asides, Bldgs'!R32=0,Data1!H350="No")," The maximum HC Set-Aside set at up to 60% AMI of "&TEXT(Data1!B350,"0%")&" for Workforce has NOT been met.","")&IF(AND(Minimum_SetAside_per_Sec_42="Average Income Test",Data1!H353="No")," The average AMI of the HC units is in excess of 60%.","")&IF(Data1!H370="No"," The ELI units entered into the Set-Aside Breakdown Chart at Section 4.A.6.d.("&IF(AND(Minimum_SetAside_per_Sec_42<>"Average Income Test",Minimum_SetAside_per_Sec_42<>"<select one>"),'Units, Set-Asides, Bldgs'!C18,'Units, Set-Asides, Bldgs'!C35)&") is less than the required minimum.",""),IF(J37="Yes",CHAR(149)&" Set-Aside Commitment Chart(s) in Section 4.A.6."&'Units, Set-Asides, Bldgs'!A10&".(2) have eligible responses","")))) | N37: 1 | P37: =IF(N37="","",IF(N37=0,"Not ","")&"Applicable to this RFA") -> Applicable to this RFA | S37: If the applicant selected set-aside commitment on the Units, Set-Asides, Buildings Tab matches the RFA allowed minimum set-aside commitment on the Data1 tab in either cell A253 (20%/50%) or A254 (40%/60%), then verifies that the total % of units on the Units, Set-Asides, Buildings Tab adds up to 100% and that the Data1 tab (cell H259) indicates that the development meets minimum IRS set-aside requirements and the Data1 tab (cell H265) indicates that the development meets minimum FHFC set-aside requirements. Verifies that if Workforce units are selected via cell R28 on the Units, Set-Asides, Buildings Tab the minimum and maximum HC in Workforce ≤ 60% requirements are met on the Data1 tab (cells H266 & H267) and the Data1 tab confirms that ELI is in the application (cell H269). If the applicant selected set-aside commitment on the Units, Set-Asides, Buildings Tab matches the RFA allowed minimum set-aside commitment on the Data1 tab in cell A255 (avg income), then verifies total units in the table on the Units, Set-Asides, Buildings Tab (d2b) is equal to the total units in the development as entered on the Units, Set-Asides, Buildings Tab cell J3, and that the Data1 tab (cell H259) indicates that the development meets minimum IRS set-aside requirements and the Data1 tab (cell H265) indicates that the development meets minimum FHFC set-aside requirements. Verifies that if Workforce units are selected via cell R28 on the Units, Set-Asides, Buildings Tab the minimum and maximum HC in Workforce ≤ 60% requirements are met on the Data1 tab (cells H266 & H267) and the Data1 tab confirms that ELI is in the application (cell H269) and that it is indicated on the Data1 tab (cell H268) that AIT HC AMI is in the application. If the applicant selected set-aside commitment on the Units, Set-Asides, Buildings Tab matches the RFA allowed minimum set-aside commitment on the Data1 tab in cell A256 (loan funding set aside), then verifies that the Data1 tab (cell H261) indicates that the development meets minimum loan only set-aside requirements and the Data1 tab (cell H265) indicates that the development meets minimum FHFC set-aside requirements, and the Data1 tab confirms that ELI is in the application (cell H269). If a 0 is entered in column N on this tab and/or column P on the Units, Set-Asides, Buildings Tab this will show as NA and be greyed out.
B38: Unit Mix provided and meets requirements | J38: =IF(Name_Of_Applicant="","",IF(OR($N38=0,'Units, Set-Asides, Bldgs'!$P89=0),"NA",IF(OR(Demographic="Family",Demographic="Workforce"),IF(OR(Development_Category="New Construction",Development_Category="Redevelopment",Development_Category="Acquisition and Redevelopment"),IF(OR(LEFT('Units, Set-Asides, Bldgs'!L110,9)="Attention",LEFT(RIGHT('Units, Set-Asides, Bldgs'!L94,28),3)="NOT"),"No","Yes"),"Yes"),IF(OR(Demographic="Elderly Non-ALF",Demographic="Elderly (Elderly Transformative Preservation)"),IF(OR(LEFT('Units, Set-Asides, Bldgs'!L110,9)="Attention",LEFT(RIGHT('Units, Set-Asides, Bldgs'!L94,28),3)="NOT",LEFT(RIGHT('Units, Set-Asides, Bldgs'!L95,28),3)="NOT",LEFT(RIGHT('Units, Set-Asides, Bldgs'!L101,28),3)="NOT",LEFT(RIGHT('Units, Set-Asides, Bldgs'!L106,28),3)="NOT"),"No","Yes"),IF(Demographic="Elderly ALF",IF(OR(LEFT('Units, Set-Asides, Bldgs'!L110,9)="Attention",LEFT(RIGHT('Units, Set-Asides, Bldgs'!L94,28),3)="NOT",LEFT(RIGHT('Units, Set-Asides, Bldgs'!L95,28),3)="NOT"),"No","Yes"),IF(Demographic="Homeless",IF(OR(LEFT('Units, Set-Asides, Bldgs'!L110,9)="Attention",LEFT(RIGHT('Units, Set-Asides, Bldgs'!L94,28),3)="NOT",LEFT(RIGHT('Units, Set-Asides, Bldgs'!L95,28),3)="NOT",IF('Units, Set-Asides, Bldgs'!L99<>"",SUM('Units, Set-Asides, Bldgs'!H99:I103)>0,FALSE),IF('Units, Set-Asides, Bldgs'!L104<>"",SUM('Units, Set-Asides, Bldgs'!H104:I110)>0,FALSE)),"No","Yes"),IF(Demographic="Farmworker/Commercial Fish Worker",IF(OR(LEFT('Units, Set-Asides, Bldgs'!L110,9)="Attention",LEFT(RIGHT('Units, Set-Asides, Bldgs'!L94,28),3)="NOT",IF('Units, Set-Asides, Bldgs'!L99<>"",SUM('Units, Set-Asides, Bldgs'!H99:I103)>0,FALSE),IF('Units, Set-Asides, Bldgs'!L104<>"",SUM('Units, Set-Asides, Bldgs'!H104:I110)>0,FALSE)),"No","Yes"),IF(OR(Demographic="Persons with a Disabiling Condition",Demographic="Persons with Developmental Disabilities"),IF(OR(LEFT('Units, Set-Asides, Bldgs'!L110,9)="Attention",LEFT(RIGHT('Units, Set-Asides, Bldgs'!L94,28),3)="NOT",LEFT(RIGHT('Units, Set-Asides, Bldgs'!L95,28),3)="NOT",IF('Units, Set-Asides, Bldgs'!L99<>"",SUM('Units, Set-Asides, Bldgs'!H99:I103)>0,FALSE),IF('Units, Set-Asides, Bldgs'!L104<>"",SUM('Units, Set-Asides, Bldgs'!H104:I110)>0,FALSE)),"No","Yes"),IF(Demographic="Persons with Special Needs",IF(OR(LEFT('Units, Set-Asides, Bldgs'!L110,9)="Attention",LEFT(RIGHT('Units, Set-Asides, Bldgs'!L94,28),3)="NOT",LEFT(RIGHT('Units, Set-Asides, Bldgs'!L95,28),3)="NOT",IF('Units, Set-Asides, Bldgs'!L99<>"",SUM('Units, Set-Asides, Bldgs'!H99:I103)>0,FALSE),IF('Units, Set-Asides, Bldgs'!L104<>"",SUM('Units, Set-Asides, Bldgs'!H104:I110)>0,FALSE)),"No","Yes"),"Demo?"))))))))) | L38: =IF(Name_Of_Applicant="","",IF($N38=0,"NA",IF(J38="No",CHAR(149)&IF(OR(Demographic="Elderly Non-ALF",Demographic="Elderly (Elderly Transformative Preservation)"),IF(OR(Development_Category="New Construction",Development_Category="Redevelopment",Development_Category="Acquisition and Redevelopment"),Data1!AF413,IF(Development_Category<>"Preservation",Data1!AF411,"")),IF(Demographic="Elderly ALF",Data1!AF415,IF(OR(Demographic="Family",Demographic="Workforce"),IF(OR(Development_Category="New Construction",Development_Category="Redevelopment",Development_Category="Acquisition and Redevelopment"),Data1!AF416,""),IF(Demographic="Homeless",Data1!AF417,IF(Demographic="Farmworker/Commercial Fish Worker",Data1!AF421,IF(OR(Demographic="Persons with a Disabiling Condition",Demographic="Persons with Developmental Disabilities"),Data1!AF423,IF(Demographic="Persons with Special Needs",Data1!AF426,""))))))),CHAR(149)&" The Unit Mix Chart requirements have been met."))) | N38: 1 | P38: =IF(N38="","",IF(N38=0,"Not ","")&"Applicable to this RFA") -> Applicable to this RFA
B39: Number of residential buildings provided | J39: =IF(Name_Of_Applicant="","",IF(OR($N39=0,'Units, Set-Asides, Bldgs'!$P125=0),"NA",IF(AND(residential_buildings<>"",N(residential_buildings)<>0),"Yes","No"))) | L39: =IF(Name_Of_Applicant="","",IF($N39=0,"NA",IF(J39="No",CHAR(149)&" Question 4.A.6."&'Units, Set-Asides, Bldgs'!A124&". not answered",IF(J39="Yes",CHAR(149)&" Question 4.A.6."&'Units, Set-Asides, Bldgs'!A124&". has an eligible response","")))) | N39: 1 | P39: =IF(N39="","",IF(N39=0,"Not ","")&"Applicable to this RFA") -> Applicable to this RFA | S39: Verifies the Number of Buildings are entered on Units, Set-Asides, Buildings Tab under (f). If a 0 is entered in column N on this tab and/or column P on the Units, Set-Asides, Buildings Tab this will show as NA and be greyed out.
B40: Evidence of Site Control provided | J40: =IF(Name_Of_Applicant="","",IF($N40=0,"NA","TBD")) | L40: =IF(Name_Of_Applicant="","",IF($N40=0,"NA",CHAR(149)&" Needs to be scored after submission")) | N40: 1 | P40: =IF(N40="","",IF(N40=0,"Not ","")&"Applicable to this RFA") -> Applicable to this RFA | S40: TBD - If a 0 is entered in column N this will show as NA and be greyed out.
B41: Appropriate Zoning demonstrated | J41: =IF(Name_Of_Applicant="","",IF($N41=0,"NA","TBD")) | L41: =IF(Name_Of_Applicant="","",IF($N41=0,"NA",CHAR(149)&" Needs to be scored after submission")) | N41: 1 | P41: =IF(N41="","",IF(N41=0,"Not ","")&"Applicable to this RFA") -> Applicable to this RFA | S41: TBD - If a 0 is entered in column N this will show as NA and be greyed out.
...

Sheet Tracy's Notes
A2: Completed/ Acknowledged (X)
B3: RFA 2021-202: 6 Large:
B4: If Elderly ALF is selected under Section 4.A.2. on the General Information Tab I would suggest there be a pop-up requiring the applicant to certify the follow as per RFA (see p.7 A.2.b. of RFA 2021-202 for reference if needed):
C5: a. “If the Elderly demographic commitment is selected, the Applicant understands, acknowledges and agrees that it will comply with the Federal Fair Housing Act requirements for housing for older persons and rent at least 80 percent of the total units to residents that qualify as older persons pursuant to that Act or as provided under any state or federal program that the Secretary of HUD determines is specifically designed and operated to assist elderly persons (as defined in the state or federal program). Further, the Applicant understands, acknowledges and agrees that all such units are subject to the income restrictions committed to in the Set-Aside Commitment section of this Application.”
B6: On the General Information tab section 4.A.3.b. – is there a need for more than 3 lines for developers/co-developers?
B7: On the General Information tab section 4.A.3.b.3 is missing a 4.A.3.b.3.c. Per the RFA 2021-202 (6 Large) (p.11) there is a subsection (c) entitled “Prior Development Experience a Point Item in Future RFAs” and reads per the below. Do we want to include acknowledgement of this or some kind of mention of it in the application, or no since they technically don’t have to provide anything?:
C8: a. The Corporation will award points for Development Experience in certain RFAs beginning with the 2022/2023 RFA Cycle. Notice is given that any Principal of an Applicant and/or Developer(s) of any non-HUD financed Development* or any non-RD financed Development** funded in this RFA that also receives Board approval for any of (i) - (iii) below will be deemed ineligible for Development Experience points for exactly 2 years, commencing on the date of the Board’s approval:
C9: i. More than one exchange of credits, as outlined in the Qualified Allocation Plan, for the same non-HUD financed Development* or any non-RD financed Development** awarded since the Application Deadline of this RFA;
C10: ii. At least one exchange of credits requiring Board approval, as outlined in the Qualified Allocation Plan, for two or more non[1]HUD financed Developments* or any non-RD financed Development** funded in RFAs 2020-201, 2020-202, 2020-203, 2020-204, 2020-208, or 2020-211; or
C11: iii. A waiver to Rule 67-48, F.A.C., extending the firm commitment deadline of a non-HUD financed Development* or any non-RD financed Development** awarded since the Application Deadline of this RFA.
C12: *A HUD financed Development is a Development that has received construction and/or permanent loan financing from HUD. All Developments without construction and/or permanent loan financing from HUD, which may include those with HUD subsidy funding such as PBRA, are considered non-HUD financed Developments.
C13: ** An RD financed Development means a Development that has received construction and/or permanent loan financing from Rural Development (RD) within the United States Department of Agriculture (USDA). All Developments without construction and/or permanent loan financing from RD, which may include those with RD subsidy funding such as PBRA, are considered non-RD financed Developments.
