Workbook

Sheet COSTS
A2: FLORIDA HOUSING FINANCE CORPORATION
A3: HC DEVELOPMENT FINAL COST CERTIFICATION
A6: Development Name: | J6: Application Number:
H8: COLUMN | L8: COLUMN
H9: xxx 1 xxx | L9: xxx 3 xxx
H10: FUNDING | L10: TOTAL
H11: SOURCES | L11: SOURCES
A12: A.
A13: SOURCES: | C13: List detailed information regarding
C14: funding sources on Exhibit B.
B16: 1. First Mortgage Financing | L16: =IF(H16="","",H16)
B17: 2. Second Mortgage Financing | L17: =IF(H17="","",H17)
B18: 3. Third Mortgage Financing | L18: =IF(H18="","",H18)
B19: 4. Grants | L19: =IF(H19="","",H19)
B20: 5. Historic Credits | L20: =IF(H20="","",H20)
B21: 6. Equity - Sale of Credits | L21: =IF(H21="","",H21)
B22: 7. Equity - Partner's Contribution | L22: =IF(H22="","",H22)
B23: 8. Deferred Developer Fee | L23: =IF(H23="","",H23)
B24: 9. Other: | L24: =IF(H24="","",H24)
B25: 10.Other: | L25: =IF(H25="","",H25)
B27: 10. Total Funds Available | H27: =IF(SUM(H16:H25)=0,"",SUM(H16:H25)) | L27: =IF(SUM(L16:L25)=0,"",SUM(L16:L25))
A29: B.
A30: COST DATA:
B32: Do not include any costs related to the syndication of housing credits. No "lump sum" or turn-key
B33: contract sums are acceptable. All development costs must be itemized for all cost components.
H35: COLUMN | J35: COLUMN | L35: COLUMN
H36: xxx 1 xxx | J36: xxx 2 xxx | L36: xxx 3 xxx
H37: ELIGIBLE | J37: INELIGIBLE | L37: TOTAL
H38: COSTS | J38: COSTS | L38: COSTS
A39: B.1.
A40: ACTUAL CONSTRUCTION COST
B42: Note: The total for Building Contractor's Costs/Fees (Column 3 of B.1.(b)(4)) cannot exceed 14 percent of
B43: the total for Building Costs (Column 3 of B.1.(a)(10)).
B45: (a) Building Costs:
B47: (1) Accessory Buildings | L47: =IF(AND(H47="",J47=""),"",+H47+J47)
B48: (2) Demolition | L48: =IF(AND(H48="",J48=""),"",+H48+J48)
B49: (3) New Rental Units | L49: =IF(AND(H49="",J49=""),"",+H49+J49)
A50: * | B50: (4) Off-Site (Explain in detail) | L50: =IF(AND(H50="",J50=""),"",+H50+J50)
B51: (5) Recreational Amenities | L51: =IF(AND(H51="",J51=""),"",+H51+J51)
B52: (6) Rehabilitation of Existing Common Areas | L52: =IF(AND(H52="",J52=""),"",+H52+J52)
...

Sheet DEV.  DATA
H1: ="Application #: "&IF(COSTS!$K$6="","",COSTS!$K$6) -> Application #:
A2: COMPLETE THE FOLLOWING:
A4: Put an "x" on the appropriate line when answering "yes" and "no" questions.
A6: Name of Syndicator, if any:
A8: For the Syndication Rate below, enter the pricing at which the housing credits were sold (total housing credit
A9: equity divided by all housing credits not retained by the Applicant). For the percentage of the housing credits
A10: sold, enter the percentage of housing credits not retained by the Applicant.
A12: Syndication Rate: | D12: Enter cents per dollar
D13: (for example for 80 cents per dollar enter "80" not 0.80)
A15: What percentage of the housing credits are being sold to the syndicator?
E17: % Enter for example 99 for 99%, not 0.99
A19: NOTE: A COPY OF THE EXECUTED SYNDICATION AGREEMENT IS REQUIRED TO BE SUBMITTED
A20: WITH THE FINAL COST CERTIFICATION APPLICATION PACKAGE.
A22: 1. | B22: Do all the Development's buildings have the same credit rate?
F24: Yes, | H24: No
B26: If yes, what was the rate? | F26: % (70%)
F27: % (30%), if applicable
B29: If yes, is this because the Applicant chose to lock-in a credit rate prior to the placed-service date?
F31: Yes, | H31: No
A33: 2. | B33: If the Development is new construction or rehabilitation, is the Development getting only 4% credits
B34: for all eligible costs?
F35: Yes, | H35: No
A37: 3.a. | B37: Are 100% of the Development's units set-aside for low or very-low income tenants?
F39: Yes, | H39: No
A41: b. | B41: If the response to 3.a. above is 'No', then what is the Development's minimum unit set-aside
B42: committed to by the Applicant?
F44: Minimum percentage unit set-aside commitment is | H44: %
A46: c. | B46: Note: The percentage below will be automatically entered for you. If the percentage is to be
B47: less than 100%, complete the "APPLIC. FRACT." worksheet tab before proceeding.
F49: Acutal percentage unit set-aside is | G49: =IF(AND(G39="",E39=""),"",IF(G39="",100,'APPLIC. FRACT.'!D39*100)) | H49: %
B50: =IF(AND(G39="",E39=""),"",IF(G39="",IF('APPLIC. FRACT.'!D39*100<>G49,"The 'Total Residental Units' column must match the 'Total Set-Aside Units' column in the 'APPLIC. FRACT.' worksheet tab and they currently do not. Please adjust.",""),IF(G44<=G49,"","The total for the 'Unit Fraction' column in the 'APPLIC. FRACT.' worksheet is not equal to or greater than the Minimum percentage unit set-aside commitment above. Please adjust the 'APPLIC. FRACT.' worksheet tab.")))
A53: 4. | B53: Does the Development qualify for an additional 30% in eligible basis because it is located in a DDA/
B54: QCT or does it qualify for the 30% boost via the Housing and Economic Recovery Act (HERA) of 2008
B55: through FHFC's Qualifed Allocation Plan (QAP) as provided in the competitive solicitaton process?
E57: Yes | G57: No
B59: If yes, does the Development qualify for the additional 30% in eligible basis because it is located in a
B60: special DDA as authorized by Congress which is different than the traditional HUD process?
E62: Yes | G62: No
H64: ="Application #: "&IF(COSTS!$K$6="","",COSTS!$K$6) -> Application #:
A66: 5. | B66: If the Development is applying for 4% credits and is financed with at least 50% tax-exempt bonds, answer the following two questions. Otherwise, skip these two questions and go to item 6 below.
...

Sheet APPLIC. FRACT.
A1: APPLICABLE FRACTION
A2: IF THE DEVELOPMENT HAS 100% OF ITS UNITS SET ASIDE AS AFFORDABLE, ONLY COMPLETE THE FIRST 3 COLUMNS OF THE TABLE.
H3: ="Application #: "&IF(COSTS!$K$6="","",COSTS!$K$6) -> Application #:
A4: NOTE: Do not include resident manager/maintenance units.
B5: Total | C5: Total | E5: Total | F5: Total | G5: Floor
A6: Individual Building Address | B6: Residential | C6: Set-Aside | D6: Unit | E6: Residential | F6: Set-Aside | G6: Space | H6: Applicable
B7: Units | C7: Units | D7: Fraction | E7: Square Footage | F7: Square Footage | G7: Fraction | H7: Fraction
D8: =IF(C8="","",ROUND(C8/B8,4)) | G8: =IF(E8=" "," ",ROUND(F8/E8,4)) | H8: =IF(G8<D8,G8,D8)
D9: =IF(C9="","",ROUND(C9/B9,4)) | G9: =IF(E9=" "," ",ROUND(F9/E9,4)) | H9: =IF(G9<D9,G9,D9)
D10: =IF(C10="","",ROUND(C10/B10,4)) | G10: =IF(E10=" "," ",ROUND(F10/E10,4)) | H10: =IF(G10<D10,G10,D10)
D11: =IF(C11="","",ROUND(C11/B11,4)) | G11: =IF(E11=" "," ",ROUND(F11/E11,4)) | H11: =IF(G11<D11,G11,D11)
D12: =IF(C12="","",ROUND(C12/B12,4)) | G12: =IF(E12=" "," ",ROUND(F12/E12,4)) | H12: =IF(G12<D12,G12,D12)
D13: =IF(C13="","",ROUND(C13/B13,4)) | G13: =IF(E13=" "," ",ROUND(F13/E13,4)) | H13: =IF(G13<D13,G13,D13)
D14: =IF(C14="","",ROUND(C14/B14,4)) | G14: =IF(E14=" "," ",ROUND(F14/E14,4)) | H14: =IF(G14<D14,G14,D14)
D15: =IF(C15="","",ROUND(C15/B15,4)) | G15: =IF(E15=" "," ",ROUND(F15/E15,4)) | H15: =IF(G15<D15,G15,D15)
D16: =IF(C16="","",ROUND(C16/B16,4)) | G16: =IF(E16=" "," ",ROUND(F16/E16,4)) | H16: =IF(G16<D16,G16,D16)
D17: =IF(C17="","",ROUND(C17/B17,4)) | G17: =IF(E17=" "," ",ROUND(F17/E17,4)) | H17: =IF(G17<D17,G17,D17)
D18: =IF(C18="","",ROUND(C18/B18,4)) | G18: =IF(E18=" "," ",ROUND(F18/E18,4)) | H18: =IF(G18<D18,G18,D18)
D19: =IF(C19="","",ROUND(C19/B19,4)) | G19: =IF(E19=" "," ",ROUND(F19/E19,4)) | H19: =IF(G19<D19,G19,D19)
... D38: =IF(C38="","",ROUND(C38/B38,4)) | G38: =IF(E38=" "," ",ROUND(F38/E38,4)) | H38: =IF(G38<D38,G38,D38)
A39: Percentage of Total Units Set-Aside | B39: =IF(B8="","",SUM(B8:B38)) | C39: =IF(C8="","",SUM(C8:C38)) | D39: =IF(B39="","",ROUND(C39/B39,4))

Sheet QUAL. CALC
A1: QUALIFIED BASIS CALCULATION-NEW CONSTRUCTION/SUBSTANITAL REHAB.
H2: ="Application #: "&IF(COSTS!$K$6="","",COSTS!$K$6) -> Application #:
A4: ENTER 1.3 IN THE DDA/QCT COLUMN IF THE DEVELOPMENT IS LOCATED IN A DDA/QCT, OTHERWISE LEAVE BLANK.
B5: PLACED IN | C5: NUMBER | E5: IF DDA/QCT
A6: INDIVIDUAL BUILDING ADDRESS | B6: SERVICE | C6: OF SET- | D6: ELIGIBLE | E6: ENTER | F6: APPLIC. | G6: CREDIT | H6: CREDIT
A7: =IF('DEV. DATA'!E24<>"","y","") | B7: DATE | C7: ASIDE UNITS | D7: BASIS | E7: 1.3 | F7: FRACT. | G7: % RATE | H7: AMOUNT
A8: =IF('APPLIC. FRACT.'!A8="","",'APPLIC. FRACT.'!A8) | C8: =IF(A8="","",IF('APPLIC. FRACT.'!C8="","",'APPLIC. FRACT.'!C8)) | E8: =IF(A8="","",IF('DEV. DATA'!$D$57="","",1.3)) | F8: =IF($A8="","",IF('DEV. DATA'!$E$39<>"",1,'APPLIC. FRACT.'!H8)) | G8: =IF(A8="","",IF('DEV. DATA'!$E$24="","",IF('DEV. DATA'!$E$26="",'DEV. DATA'!$E$27,'DEV. DATA'!$E$26))) | H8: =IF(A8="","",ROUND(D8*IF(E8="",1,1.3)*F8*(G8/100),0))
A9: =IF('APPLIC. FRACT.'!A9="","",'APPLIC. FRACT.'!A9) | C9: =IF(A9="","",IF('APPLIC. FRACT.'!C9="","",'APPLIC. FRACT.'!C9)) | E9: =IF(A9="","",IF('DEV. DATA'!$D$57="","",1.3)) | F9: =IF($A9="","",IF('DEV. DATA'!$E$39<>"",1,'APPLIC. FRACT.'!H9)) | G9: =IF(A9="","",IF('DEV. DATA'!$E$24="","",IF('DEV. DATA'!$E$26="",'DEV. DATA'!$E$27,'DEV. DATA'!$E$26))) | H9: =IF(A9="","",ROUND(D9*IF(E9="",1,1.3)*F9*(G9/100),0))
A10: =IF('APPLIC. FRACT.'!A10="","",'APPLIC. FRACT.'!A10) | C10: =IF(A10="","",IF('APPLIC. FRACT.'!C10="","",'APPLIC. FRACT.'!C10)) | E10: =IF(A10="","",IF('DEV. DATA'!$D$57="","",1.3)) | F10: =IF($A10="","",IF('DEV. DATA'!$E$39<>"",1,'APPLIC. FRACT.'!H10)) | G10: =IF(A10="","",IF('DEV. DATA'!$E$24="","",IF('DEV. DATA'!$E$26="",'DEV. DATA'!$E$27,'DEV. DATA'!$E$26))) | H10: =IF(A10="","",ROUND(D10*IF(E10="",1,1.3)*F10*(G10/100),0))
A11: =IF('APPLIC. FRACT.'!A11="","",'APPLIC. FRACT.'!A11) | C11: =IF(A11="","",IF('APPLIC. FRACT.'!C11="","",'APPLIC. FRACT.'!C11)) | E11: =IF(A11="","",IF('DEV. DATA'!$D$57="","",1.3)) | F11: =IF($A11="","",IF('DEV. DATA'!$E$39<>"",1,'APPLIC. FRACT.'!H11)) | G11: =IF(A11="","",IF('DEV. DATA'!$E$24="","",IF('DEV. DATA'!$E$26="",'DEV. DATA'!$E$27,'DEV. DATA'!$E$26))) | H11: =IF(A11="","",ROUND(D11*IF(E11="",1,1.3)*F11*(G11/100),0))
A12: =IF('APPLIC. FRACT.'!A12="","",'APPLIC. FRACT.'!A12) | C12: =IF(A12="","",IF('APPLIC. FRACT.'!C12="","",'APPLIC. FRACT.'!C12)) | E12: =IF(A12="","",IF('DEV. DATA'!$D$57="","",1.3)) | F12: =IF($A12="","",IF('DEV. DATA'!$E$39<>"",1,'APPLIC. FRACT.'!H12)) | G12: =IF(A12="","",IF('DEV. DATA'!$E$24="","",IF('DEV. DATA'!$E$26="",'DEV. DATA'!$E$27,'DEV. DATA'!$E$26))) | H12: =IF(A12="","",ROUND(D12*IF(E12="",1,1.3)*F12*(G12/100),0))
A13: =IF('APPLIC. FRACT.'!A13="","",'APPLIC. FRACT.'!A13) | C13: =IF(A13="","",IF('APPLIC. FRACT.'!C13="","",'APPLIC. FRACT.'!C13)) | E13: =IF(A13="","",IF('DEV. DATA'!$D$57="","",1.3)) | F13: =IF($A13="","",IF('DEV. DATA'!$E$39<>"",1,'APPLIC. FRACT.'!H13)) | G13: =IF(A13="","",IF('DEV. DATA'!$E$24="","",IF('DEV. DATA'!$E$26="",'DEV. DATA'!$E$27,'DEV. DATA'!$E$26))) | H13: =IF(A13="","",ROUND(D13*IF(E13="",1,1.3)*F13*(G13/100),0))
A14: =IF('APPLIC. FRACT.'!A14="","",'APPLIC. FRACT.'!A14) | C14: =IF(A14="","",IF('APPLIC. FRACT.'!C14="","",'APPLIC. FRACT.'!C14)) | E14: =IF(A14="","",IF('DEV. DATA'!$D$57="","",1.3)) | F14: =IF($A14="","",IF('DEV. DATA'!$E$39<>"",1,'APPLIC. FRACT.'!H14)) | G14: =IF(A14="","",IF('DEV. DATA'!$E$24="","",IF('DEV. DATA'!$E$26="",'DEV. DATA'!$E$27,'DEV. DATA'!$E$26))) | H14: =IF(A14="","",ROUND(D14*IF(E14="",1,1.3)*F14*(G14/100),0))
A15: =IF('APPLIC. FRACT.'!A15="","",'APPLIC. FRACT.'!A15) | C15: =IF(A15="","",IF('APPLIC. FRACT.'!C15="","",'APPLIC. FRACT.'!C15)) | E15: =IF(A15="","",IF('DEV. DATA'!$D$57="","",1.3)) | F15: =IF($A15="","",IF('DEV. DATA'!$E$39<>"",1,'APPLIC. FRACT.'!H15)) | G15: =IF(A15="","",IF('DEV. DATA'!$E$24="","",IF('DEV. DATA'!$E$26="",'DEV. DATA'!$E$27,'DEV. DATA'!$E$26))) | H15: =IF(A15="","",ROUND(D15*IF(E15="",1,1.3)*F15*(G15/100),0))
A16: =IF('APPLIC. FRACT.'!A16="","",'APPLIC. FRACT.'!A16) | C16: =IF(A16="","",IF('APPLIC. FRACT.'!C16="","",'APPLIC. FRACT.'!C16)) | E16: =IF(A16="","",IF('DEV. DATA'!$D$57="","",1.3)) | F16: =IF($A16="","",IF('DEV. DATA'!$E$39<>"",1,'APPLIC. FRACT.'!H16)) | G16: =IF(A16="","",IF('DEV. DATA'!$E$24="","",IF('DEV. DATA'!$E$26="",'DEV. DATA'!$E$27,'DEV. DATA'!$E$26))) | H16: =IF(A16="","",ROUND(D16*IF(E16="",1,1.3)*F16*(G16/100),0))
A17: =IF('APPLIC. FRACT.'!A17="","",'APPLIC. FRACT.'!A17) | C17: =IF(A17="","",IF('APPLIC. FRACT.'!C17="","",'APPLIC. FRACT.'!C17)) | E17: =IF(A17="","",IF('DEV. DATA'!$D$57="","",1.3)) | F17: =IF($A17="","",IF('DEV. DATA'!$E$39<>"",1,'APPLIC. FRACT.'!H17)) | G17: =IF(A17="","",IF('DEV. DATA'!$E$24="","",IF('DEV. DATA'!$E$26="",'DEV. DATA'!$E$27,'DEV. DATA'!$E$26))) | H17: =IF(A17="","",ROUND(D17*IF(E17="",1,1.3)*F17*(G17/100),0))
A18: =IF('APPLIC. FRACT.'!A18="","",'APPLIC. FRACT.'!A18) | C18: =IF(A18="","",IF('APPLIC. FRACT.'!C18="","",'APPLIC. FRACT.'!C18)) | E18: =IF(A18="","",IF('DEV. DATA'!$D$57="","",1.3)) | F18: =IF($A18="","",IF('DEV. DATA'!$E$39<>"",1,'APPLIC. FRACT.'!H18)) | G18: =IF(A18="","",IF('DEV. DATA'!$E$24="","",IF('DEV. DATA'!$E$26="",'DEV. DATA'!$E$27,'DEV. DATA'!$E$26))) | H18: =IF(A18="","",ROUND(D18*IF(E18="",1,1.3)*F18*(G18/100),0))
A19: =IF('APPLIC. FRACT.'!A19="","",'APPLIC. FRACT.'!A19) | C19: =IF(A19="","",IF('APPLIC. FRACT.'!C19="","",'APPLIC. FRACT.'!C19)) | E19: =IF(A19="","",IF('DEV. DATA'!$D$57="","",1.3)) | F19: =IF($A19="","",IF('DEV. DATA'!$E$39<>"",1,'APPLIC. FRACT.'!H19)) | G19: =IF(A19="","",IF('DEV. DATA'!$E$24="","",IF('DEV. DATA'!$E$26="",'DEV. DATA'!$E$27,'DEV. DATA'!$E$26))) | H19: =IF(A19="","",ROUND(D19*IF(E19="",1,1.3)*F19*(G19/100),0))
... A38: =IF('APPLIC. FRACT.'!A38="","",'APPLIC. FRACT.'!A38) | C38: =IF(A38="","",IF('APPLIC. FRACT.'!C38="","",'APPLIC. FRACT.'!C38)) | E38: =IF(A38="","",IF('DEV. DATA'!$D$57="","",1.3)) | F38: =IF($A38="","",IF('DEV. DATA'!$E$39<>"",1,'APPLIC. FRACT.'!H38)) | G38: =IF(A38="","",IF('DEV. DATA'!$E$24="","",IF('DEV. DATA'!$E$26="",'DEV. DATA'!$E$27,'DEV. DATA'!$E$26))) | H38: =IF(A38="","",ROUND(D38*IF(E38="",1,1.3)*F38*(G38/100),0))
A39: =IF(C8="","",IF(D39=COSTS!H196-COSTS!H148-'DEV. DATA'!C83,"","You may have an error.")) | B39: TOTAL | C39: =IF(C8="","",SUM(C8:C38)) | D39: =IF(D8="","",SUM(D8:D38)) | H39: =IF(H8="","",SUM(H8:H38))
A41: =IF(C8="","",IF(D39=COSTS!H196-COSTS!H148-'DEV. DATA'!C83,"","You may have an error. Total eligible cost should equal the total amount entered in Column 1 on page 3 minus any eligible acquisition costs minus any adjustment to eligible basis listed on page 6. Please provide an explanation at Exhibit A."))

Sheet QUAL. ACQU.
A1: QUALIFIED BASIS CALCULATION
C2: ACQUISITION
A3: =IF('DEV. DATA'!E24<>"","y","") | G3: ="Application #: "&IF(COSTS!$K$6="","",COSTS!$K$6) -> Application #:
B5: PLACED IN | C5: NUMBER
A6: INDIVIDUAL BUILDING ADDRESS | B6: SERVICE | C6: OF SET- | D6: ELIGIBLE | E6: APPLICABLE | F6: CREDIT | G6: CREDIT
B7: DATE | C7: ASIDE UNITS | D7: BASIS | E7: FRACTION | F7: % RATE | G7: AMOUNT
A8: =IF(COSTS!$L$148="","",IF('QUAL. CALC'!A8="","",'QUAL. CALC'!A8)) | C8: =IF(A8="","",IF('QUAL. CALC'!C8="","",'QUAL. CALC'!C8)) | E8: =IF(A8="","",IF('QUAL. CALC'!F8="","",'QUAL. CALC'!F8)) | F8: =IF(A8="","",IF('DEV. DATA'!$E$24="","",'DEV. DATA'!$E$27)) | G8: =IF(A8="","",ROUND(D8*E8*(F8/100),0))
A9: =IF(COSTS!$L$148="","",IF('QUAL. CALC'!A9="","",'QUAL. CALC'!A9)) | C9: =IF(A9="","",IF('QUAL. CALC'!C9="","",'QUAL. CALC'!C9)) | E9: =IF(A9="","",IF('QUAL. CALC'!F9="","",'QUAL. CALC'!F9)) | F9: =IF(A9="","",IF('DEV. DATA'!$E$24="","",'DEV. DATA'!$E$27)) | G9: =IF(A9="","",ROUND(D9*E9*(F9/100),0))
A10: =IF(COSTS!$L$148="","",IF('QUAL. CALC'!A10="","",'QUAL. CALC'!A10)) | C10: =IF(A10="","",IF('QUAL. CALC'!C10="","",'QUAL. CALC'!C10)) | E10: =IF(A10="","",IF('QUAL. CALC'!F10="","",'QUAL. CALC'!F10)) | F10: =IF(A10="","",IF('DEV. DATA'!$E$24="","",'DEV. DATA'!$E$27)) | G10: =IF(A10="","",ROUND(D10*E10*(F10/100),0))
A11: =IF(COSTS!$L$148="","",IF('QUAL. CALC'!A11="","",'QUAL. CALC'!A11)) | C11: =IF(A11="","",IF('QUAL. CALC'!C11="","",'QUAL. CALC'!C11)) | E11: =IF(A11="","",IF('QUAL. CALC'!F11="","",'QUAL. CALC'!F11)) | F11: =IF(A11="","",IF('DEV. DATA'!$E$24="","",'DEV. DATA'!$E$27)) | G11: =IF(A11="","",ROUND(D11*E11*(F11/100),0))
A12: =IF(COSTS!$L$148="","",IF('QUAL. CALC'!A12="","",'QUAL. CALC'!A12)) | C12: =IF(A12="","",IF('QUAL. CALC'!C12="","",'QUAL. CALC'!C12)) | E12: =IF(A12="","",IF('QUAL. CALC'!F12="","",'QUAL. CALC'!F12)) | F12: =IF(A12="","",IF('DEV. DATA'!$E$24="","",'DEV. DATA'!$E$27)) | G12: =IF(A12="","",ROUND(D12*E12*(F12/100),0))
A13: =IF(COSTS!$L$148="","",IF('QUAL. CALC'!A13="","",'QUAL. CALC'!A13)) | C13: =IF(A13="","",IF('QUAL. CALC'!C13="","",'QUAL. CALC'!C13)) | E13: =IF(A13="","",IF('QUAL. CALC'!F13="","",'QUAL. CALC'!F13)) | F13: =IF(A13="","",IF('DEV. DATA'!$E$24="","",'DEV. DATA'!$E$27)) | G13: =IF(A13="","",ROUND(D13*E13*(F13/100),0))
A14: =IF(COSTS!$L$148="","",IF('QUAL. CALC'!A14="","",'QUAL. CALC'!A14)) | C14: =IF(A14="","",IF('QUAL. CALC'!C14="","",'QUAL. CALC'!C14)) | E14: =IF(A14="","",IF('QUAL. CALC'!F14="","",'QUAL. CALC'!F14)) | F14: =IF(A14="","",IF('DEV. DATA'!$E$24="","",'DEV. DATA'!$E$27)) | G14: =IF(A14="","",ROUND(D14*E14*(F14/100),0))
A15: =IF(COSTS!$L$148="","",IF('QUAL. CALC'!A15="","",'QUAL. CALC'!A15)) | C15: =IF(A15="","",IF('QUAL. CALC'!C15="","",'QUAL. CALC'!C15)) | E15: =IF(A15="","",IF('QUAL. CALC'!F15="","",'QUAL. CALC'!F15)) | F15: =IF(A15="","",IF('DEV. DATA'!$E$24="","",'DEV. DATA'!$E$27)) | G15: =IF(A15="","",ROUND(D15*E15*(F15/100),0))
A16: =IF(COSTS!$L$148="","",IF('QUAL. CALC'!A16="","",'QUAL. CALC'!A16)) | C16: =IF(A16="","",IF('QUAL. CALC'!C16="","",'QUAL. CALC'!C16)) | E16: =IF(A16="","",IF('QUAL. CALC'!F16="","",'QUAL. CALC'!F16)) | F16: =IF(A16="","",IF('DEV. DATA'!$E$24="","",'DEV. DATA'!$E$27)) | G16: =IF(A16="","",ROUND(D16*E16*(F16/100),0))
A17: =IF(COSTS!$L$148="","",IF('QUAL. CALC'!A17="","",'QUAL. CALC'!A17)) | C17: =IF(A17="","",IF('QUAL. CALC'!C17="","",'QUAL. CALC'!C17)) | E17: =IF(A17="","",IF('QUAL. CALC'!F17="","",'QUAL. CALC'!F17)) | F17: =IF(A17="","",IF('DEV. DATA'!$E$24="","",'DEV. DATA'!$E$27)) | G17: =IF(A17="","",ROUND(D17*E17*(F17/100),0))
A18: =IF(COSTS!$L$148="","",IF('QUAL. CALC'!A18="","",'QUAL. CALC'!A18)) | C18: =IF(A18="","",IF('QUAL. CALC'!C18="","",'QUAL. CALC'!C18)) | E18: =IF(A18="","",IF('QUAL. CALC'!F18="","",'QUAL. CALC'!F18)) | F18: =IF(A18="","",IF('DEV. DATA'!$E$24="","",'DEV. DATA'!$E$27)) | G18: =IF(A18="","",ROUND(D18*E18*(F18/100),0))
A19: =IF(COSTS!$L$148="","",IF('QUAL. CALC'!A19="","",'QUAL. CALC'!A19)) | C19: =IF(A19="","",IF('QUAL. CALC'!C19="","",'QUAL. CALC'!C19)) | E19: =IF(A19="","",IF('QUAL. CALC'!F19="","",'QUAL. CALC'!F19)) | F19: =IF(A19="","",IF('DEV. DATA'!$E$24="","",'DEV. DATA'!$E$27)) | G19: =IF(A19="","",ROUND(D19*E19*(F19/100),0))
... A38: =IF(COSTS!$L$148="","",IF('QUAL. CALC'!A38="","",'QUAL. CALC'!A38)) | C38: =IF(A38="","",IF('QUAL. CALC'!C38="","",'QUAL. CALC'!C38)) | E38: =IF(A38="","",IF('QUAL. CALC'!F38="","",'QUAL. CALC'!F38)) | F38: =IF(A38="","",IF('DEV. DATA'!$E$24="","",'DEV. DATA'!$E$27)) | G38: =IF(A38="","",ROUND(D38*E38*(F38/100),0))
A39: =IF(D8="","",IF(D39=COSTS!H148,"","You may have an error.")) | B39: TOTAL | C39: =IF(C8="","",SUM(C8:C38)) | D39: =IF(D8="","",SUM(D8:D38)) | G39: =IF(G8="","",SUM(G8:G38))
A41: =IF(D8="","",IF(D39=COSTS!H148,"","You may have an error. Total eligible acquisition costs should equal the entry on Line B.6.(d) for the first column on page 3. Please explain the difference at Exhibit A."))

Sheet CREDIT CALC.
J1: ="Application #: "&IF(COSTS!$K$6="","",COSTS!$K$6) -> Application #:
A3: HOUSING CREDIT CALCULATION PER GAP OR NEEDS CALCULATION:
B5: Do not include deferred developer fee as a source.
B7: 1. Total Development Cost | H7: =COSTS!L196
B9: 2. Funding Sources:
C11: First Mortgage | F11: =IF(COSTS!H16="","",COSTS!H16)
C12: Second Mortgage | F12: =IF(COSTS!H17="","",COSTS!H17)
C13: Third Mortgage | F13: =IF(COSTS!H18="","",COSTS!H18)
C14: Grants | F14: =IF(COSTS!H19="","",COSTS!H19)
C15: Historic Tax Credit Proceeds | F15: =IF(COSTS!H20="","",COSTS!H20)
C16: Equity - Partner's Contribution | F16: =IF(COSTS!H22="","",COSTS!H22)
C17: ="Other: "&IF(COSTS!C24="","",COSTS!C24) -> Other: | F17: =IF(COSTS!H24="","",COSTS!H24)
C18: ="Other: "&IF(COSTS!C25="","",COSTS!C25) -> Other: | F18: =IF(COSTS!H25="","",COSTS!H25)
G19: minus TOTAL Funding Sources | H19: =IF(SUM(F11:F18)=0,"",SUM(F11:F18))
B22: 3. GAP (Line 1 less TOTAL, Line 2) | H22: =IF(H7="","",H7-H19)
B23: =IF('CREDIT CALC.'!H22="","",IF(OR('DEV. DATA'!C12="",'DEV. DATA'!D17=""),"You must enter the syndication rate and the % of credits being purchased on the Dev. Data worksheet.",""))
B24: 4. 10- Year Allocation (Line 3 divided by rate of syndication, | H24: =IF(H22="","",ROUND(H22/('DEV. DATA'!C12/100)/(IF('DEV. DATA'!D17<99.99,99.99,'DEV. DATA'!D17)/100),0))
B25: and divided again by the percentage of the credits to be sold
B26: to the syndicator, normally 99.99% which is 0.9999)
B28: 5. If the amount entered in the 'DEV. DATA' worksheet tab for "What percentage of the housing credits
B29: are being sold to the syndicator?" is less than 99.99% (the minimim needed for this process per the
B30: applicable Rule), then the 10-Year Allocation above and the Annual Allocaiton below will use 99.99%.
B32: 6. Annual Allocation (Line 4 divided by 10 years) | H32: =IF(H22="","",ROUND(IF(H24<99.99%,99.99%,H24)/10,0))
A34: SUMMARY:
B36: 1. For Competitive Housing Credits, enter the amount
B37: of allocation on the Carryover Allocation Certificate (most
B38: current). For Non-Competitive Housing Credits, leave blank.
B40: 2. Qualified Basis Calculation | H40: =IF('QUAL. ACQU.'!G39="",'QUAL. CALC'!H39,'QUAL. ACQU.'!G39+'QUAL. CALC'!H39)
B42: 3. Gap Calculation | H42: =IF(H32="","",H32)
A45: For Compeitive Housning Credits, complete Exhibit C by using the LESSER of 1, 2 or 3 above.
A46: The lesser of 1, 2, or 3 is | D46: =MIN(H36,H40,H42) -> 0 | F46: Since the amount at 1 or at 3 is lower than the anount
A47: at 2, the eligible basis for each building will need to be adjusted downward on a pro rata basis in
A48: order for the correct credit amount to be calculated.
A51: For Non-Competitive Housing Credits, complete Exhibit C by using the LESSER of 2 or 3 above.
A52: The lesser of 2 or 3 is | D52: =MIN(H40,H42) -> 0 | F52: Since the amount at 3 is lower than the anount at 2,
A53: the eligible basis for each building will need to be adjusted downward on a pro rata basis in
A54: order for the correct credit amount to be calculated.

Sheet EXHIBIT A
A2: EXHIBIT A
A4: Development Name: | B4: =IF(COSTS!C6=" "," ",COSTS!C6) | H4: ="Application #: "&IF(COSTS!$K$6="","",COSTS!$K$6) -> Application #:
A6: Please use this page to explain any differences in eligible basis and qualified basis as a result of limiting
A7: factors such as the amount of housing credit reserved on the Preliminary Allocation or allocated on the
A8: Carryover Agreement. Any other useful or pertinent information on development costs, financing or
A9: changes to previous information presented may be listed here.

Sheet EXHIBIT B
A2: EXHIBIT B
H3: ="Application #: "&IF(COSTS!$K$6="","",COSTS!$K$6) -> Application #:
A5: Use this page to provide information pertinent to the financing of this development. List all mortgages, grants,
A6: equity sources, and any other source of funding.
A9: 1. First Mortgage Financing:
A11: Lender:
A12: Address:
A13: Contact Person: | G13: Telephone:
A14: Amount: | B14: =IF(COSTS!H16="","",COSTS!H16) | C14: Terms:
A15: Annual Debt Service:
A17: 2. Second Mortgage Financing:
A19: Lender:
A20: Address:
A21: Contact Person: | G21: Telephone:
A22: Amount: | B22: =IF(COSTS!H17="","",COSTS!H17) | C22: Terms:
A23: Annual Debt Service:
A25: 3. Third Mortgage Financing:
A27: Lender:
A28: Address:
A29: Contact Person: | G29: Telephone:
A30: Amount: | B30: =IF(COSTS!H18="","",COSTS!H18) | C30: Terms:
A31: Annual Debt Service:
A33: 4. Grants:
A35: Source:
A36: Address:
A37: Contact Person: | G37: Telephone:
A38: Amount/Value: | C38: =IF(COSTS!H19="","",COSTS!H19)
A40: 5. Equity:
B42: Sale of Credits | F42: =IF(COSTS!H21="","",COSTS!H21)
B43: Partner's Contribution | F43: =IF(COSTS!H22="","",COSTS!H22)
A45: 6. List any other sources of funding. Include name, address, contact person, telephone for each additional
A46: source. Attach additional sheet if necessary.

Sheet EXHIBIT C
A1: EXHIBIT C
A2: BUILDING BY BUILDING BREAKDOWN
A3: NEW CONSTRUCTION OR SUBSTANTIAL REHABILITATION
A5: Dev. Name: | B5: =IF(COSTS!C6="","",COSTS!C6) | I5: ="Application #: "&IF(COSTS!$K$6="","",COSTS!$K$6) -> Application #:
A6: Dev. Address:
A7: City, State: | D7: ZIP:
B8: Note: In the DDA/QCT column enter 1.3 if the development is located in a DDA/QCT, otherwise leave blank.
C9: PLACED IN | D9: # OF SET- | E9: ELIGIBLE | F9: IF DDA/ | G9: APPLIC. | H9: QUALIFIED | I9: CREDIT | J9: CREDIT
A10: B.I.N.* | B10: INDIVIDUAL BUILDING ADDRESS | C10: SERVICE | D10: ASIDE | E10: BASIS | F10: QCT | G10: FRACT. | H10: BASIS | I10: % RATE | J10: AMOUNT
C11: DATE | D11: UNITS | F11: 1.3
B12: =IF('APPLIC. FRACT.'!A8="",IF('QUAL. CALC'!A8="","",'QUAL. CALC'!A8),'APPLIC. FRACT.'!A8) | C12: =IF('QUAL. CALC'!B8="","",'QUAL. CALC'!B8) | D12: =IF('APPLIC. FRACT.'!C8="",IF('QUAL. CALC'!C8="","",'QUAL. CALC'!C8),'APPLIC. FRACT.'!C8) | E12: =IF(B12="","",IF('DEV. DATA'!H$70>0,IF('CREDIT CALC.'!H$40<='CREDIT CALC.'!H$42,'QUAL. CALC'!D8,('CREDIT CALC.'!H$42/'CREDIT CALC.'!H$40)*'QUAL. CALC'!D8),IF('CREDIT CALC.'!H$36="","",IF(AND('CREDIT CALC.'!H$40<='CREDIT CALC.'!H$36,'CREDIT CALC.'!H$40<='CREDIT CALC.'!H$42),'QUAL. CALC'!D8,IF(AND('CREDIT CALC.'!H$36<'CREDIT CALC.'!H$40,'CREDIT CALC.'!H$36<'CREDIT CALC.'!H$42),('CREDIT CALC.'!H$36/'CREDIT CALC.'!H$40)*'QUAL. CALC'!D8,('CREDIT CALC.'!H$42/'CREDIT CALC.'!H$40)*'QUAL. CALC'!D8))))) | F12: =IF(B12="","",IF('DEV. DATA'!$D$57="","",1.3)) | G12: =IF(B12="","",IF('DEV. DATA'!$G$49=100,1,'APPLIC. FRACT.'!$H8)) | H12: =IF(B12="","",IF(F12="",ROUND(E12*G12,0),ROUND(E12*F12*G12,0))) | I12: =IF(B12="","",IF('DEV. DATA'!$E$24="",'QUAL. CALC'!G8,IF('DEV. DATA'!$E$26="",'DEV. DATA'!$E$27,'DEV. DATA'!$E$26))) | J12: =IF(B12="","",ROUND(H12*(I12/100),0))
B13: =IF('APPLIC. FRACT.'!A9="",IF('QUAL. CALC'!A9="","",'QUAL. CALC'!A9),'APPLIC. FRACT.'!A9) | C13: =IF('QUAL. CALC'!B9="","",'QUAL. CALC'!B9) | D13: =IF('APPLIC. FRACT.'!C9="",IF('QUAL. CALC'!C9="","",'QUAL. CALC'!C9),'APPLIC. FRACT.'!C9) | E13: =IF(B13="","",IF('DEV. DATA'!H$70>0,IF('CREDIT CALC.'!H$40<='CREDIT CALC.'!H$42,'QUAL. CALC'!D9,('CREDIT CALC.'!H$42/'CREDIT CALC.'!H$40)*'QUAL. CALC'!D9),IF('CREDIT CALC.'!H$36="","",IF(AND('CREDIT CALC.'!H$40<='CREDIT CALC.'!H$36,'CREDIT CALC.'!H$40<='CREDIT CALC.'!H$42),'QUAL. CALC'!D9,IF(AND('CREDIT CALC.'!H$36<'CREDIT CALC.'!H$40,'CREDIT CALC.'!H$36<'CREDIT CALC.'!H$42),('CREDIT CALC.'!H$36/'CREDIT CALC.'!H$40)*'QUAL. CALC'!D9,('CREDIT CALC.'!H$42/'CREDIT CALC.'!H$40)*'QUAL. CALC'!D9))))) | F13: =IF(B13="","",IF('DEV. DATA'!$D$57="","",1.3)) | G13: =IF(B13="","",IF('DEV. DATA'!$G$49=100,1,'APPLIC. FRACT.'!$H9)) | H13: =IF(B13="","",IF(F13="",ROUND(E13*G13,0),ROUND(E13*F13*G13,0))) | I13: =IF(B13="","",IF('DEV. DATA'!$E$24="",'QUAL. CALC'!G9,IF('DEV. DATA'!$E$26="",'DEV. DATA'!$E$27,'DEV. DATA'!$E$26))) | J13: =IF(B13="","",ROUND(H13*(I13/100),0))
B14: =IF('APPLIC. FRACT.'!A10="",IF('QUAL. CALC'!A10="","",'QUAL. CALC'!A10),'APPLIC. FRACT.'!A10) | C14: =IF('QUAL. CALC'!B10="","",'QUAL. CALC'!B10) | D14: =IF('APPLIC. FRACT.'!C10="",IF('QUAL. CALC'!C10="","",'QUAL. CALC'!C10),'APPLIC. FRACT.'!C10) | E14: =IF(B14="","",IF('DEV. DATA'!H$70>0,IF('CREDIT CALC.'!H$40<='CREDIT CALC.'!H$42,'QUAL. CALC'!D10,('CREDIT CALC.'!H$42/'CREDIT CALC.'!H$40)*'QUAL. CALC'!D10),IF('CREDIT CALC.'!H$36="","",IF(AND('CREDIT CALC.'!H$40<='CREDIT CALC.'!H$36,'CREDIT CALC.'!H$40<='CREDIT CALC.'!H$42),'QUAL. CALC'!D10,IF(AND('CREDIT CALC.'!H$36<'CREDIT CALC.'!H$40,'CREDIT CALC.'!H$36<'CREDIT CALC.'!H$42),('CREDIT CALC.'!H$36/'CREDIT CALC.'!H$40)*'QUAL. CALC'!D10,('CREDIT CALC.'!H$42/'CREDIT CALC.'!H$40)*'QUAL. CALC'!D10))))) | F14: =IF(B14="","",IF('DEV. DATA'!$D$57="","",1.3)) | G14: =IF(B14="","",IF('DEV. DATA'!$G$49=100,1,'APPLIC. FRACT.'!$H10)) | H14: =IF(B14="","",IF(F14="",ROUND(E14*G14,0),ROUND(E14*F14*G14,0))) | I14: =IF(B14="","",IF('DEV. DATA'!$E$24="",'QUAL. CALC'!G10,IF('DEV. DATA'!$E$26="",'DEV. DATA'!$E$27,'DEV. DATA'!$E$26))) | J14: =IF(B14="","",ROUND(H14*(I14/100),0))
B15: =IF('APPLIC. FRACT.'!A11="",IF('QUAL. CALC'!A11="","",'QUAL. CALC'!A11),'APPLIC. FRACT.'!A11) | C15: =IF('QUAL. CALC'!B11="","",'QUAL. CALC'!B11) | D15: =IF('APPLIC. FRACT.'!C11="",IF('QUAL. CALC'!C11="","",'QUAL. CALC'!C11),'APPLIC. FRACT.'!C11) | E15: =IF(B15="","",IF('DEV. DATA'!H$70>0,IF('CREDIT CALC.'!H$40<='CREDIT CALC.'!H$42,'QUAL. CALC'!D11,('CREDIT CALC.'!H$42/'CREDIT CALC.'!H$40)*'QUAL. CALC'!D11),IF('CREDIT CALC.'!H$36="","",IF(AND('CREDIT CALC.'!H$40<='CREDIT CALC.'!H$36,'CREDIT CALC.'!H$40<='CREDIT CALC.'!H$42),'QUAL. CALC'!D11,IF(AND('CREDIT CALC.'!H$36<'CREDIT CALC.'!H$40,'CREDIT CALC.'!H$36<'CREDIT CALC.'!H$42),('CREDIT CALC.'!H$36/'CREDIT CALC.'!H$40)*'QUAL. CALC'!D11,('CREDIT CALC.'!H$42/'CREDIT CALC.'!H$40)*'QUAL. CALC'!D11))))) | F15: =IF(B15="","",IF('DEV. DATA'!$D$57="","",1.3)) | G15: =IF(B15="","",IF('DEV. DATA'!$G$49=100,1,'APPLIC. FRACT.'!$H11)) | H15: =IF(B15="","",IF(F15="",ROUND(E15*G15,0),ROUND(E15*F15*G15,0))) | I15: =IF(B15="","",IF('DEV. DATA'!$E$24="",'QUAL. CALC'!G11,IF('DEV. DATA'!$E$26="",'DEV. DATA'!$E$27,'DEV. DATA'!$E$26))) | J15: =IF(B15="","",ROUND(H15*(I15/100),0))
B16: =IF('APPLIC. FRACT.'!A12="",IF('QUAL. CALC'!A12="","",'QUAL. CALC'!A12),'APPLIC. FRACT.'!A12) | C16: =IF('QUAL. CALC'!B12="","",'QUAL. CALC'!B12) | D16: =IF('APPLIC. FRACT.'!C12="",IF('QUAL. CALC'!C12="","",'QUAL. CALC'!C12),'APPLIC. FRACT.'!C12) | E16: =IF(B16="","",IF('DEV. DATA'!H$70>0,IF('CREDIT CALC.'!H$40<='CREDIT CALC.'!H$42,'QUAL. CALC'!D12,('CREDIT CALC.'!H$42/'CREDIT CALC.'!H$40)*'QUAL. CALC'!D12),IF('CREDIT CALC.'!H$36="","",IF(AND('CREDIT CALC.'!H$40<='CREDIT CALC.'!H$36,'CREDIT CALC.'!H$40<='CREDIT CALC.'!H$42),'QUAL. CALC'!D12,IF(AND('CREDIT CALC.'!H$36<'CREDIT CALC.'!H$40,'CREDIT CALC.'!H$36<'CREDIT CALC.'!H$42),('CREDIT CALC.'!H$36/'CREDIT CALC.'!H$40)*'QUAL. CALC'!D12,('CREDIT CALC.'!H$42/'CREDIT CALC.'!H$40)*'QUAL. CALC'!D12))))) | F16: =IF(B16="","",IF('DEV. DATA'!$D$57="","",1.3)) | G16: =IF(B16="","",IF('DEV. DATA'!$G$49=100,1,'APPLIC. FRACT.'!$H12)) | H16: =IF(B16="","",IF(F16="",ROUND(E16*G16,0),ROUND(E16*F16*G16,0))) | I16: =IF(B16="","",IF('DEV. DATA'!$E$24="",'QUAL. CALC'!G12,IF('DEV. DATA'!$E$26="",'DEV. DATA'!$E$27,'DEV. DATA'!$E$26))) | J16: =IF(B16="","",ROUND(H16*(I16/100),0))
B17: =IF('APPLIC. FRACT.'!A13="",IF('QUAL. CALC'!A13="","",'QUAL. CALC'!A13),'APPLIC. FRACT.'!A13) | C17: =IF('QUAL. CALC'!B13="","",'QUAL. CALC'!B13) | D17: =IF('APPLIC. FRACT.'!C13="",IF('QUAL. CALC'!C13="","",'QUAL. CALC'!C13),'APPLIC. FRACT.'!C13) | E17: =IF(B17="","",IF('DEV. DATA'!H$70>0,IF('CREDIT CALC.'!H$40<='CREDIT CALC.'!H$42,'QUAL. CALC'!D13,('CREDIT CALC.'!H$42/'CREDIT CALC.'!H$40)*'QUAL. CALC'!D13),IF('CREDIT CALC.'!H$36="","",IF(AND('CREDIT CALC.'!H$40<='CREDIT CALC.'!H$36,'CREDIT CALC.'!H$40<='CREDIT CALC.'!H$42),'QUAL. CALC'!D13,IF(AND('CREDIT CALC.'!H$36<'CREDIT CALC.'!H$40,'CREDIT CALC.'!H$36<'CREDIT CALC.'!H$42),('CREDIT CALC.'!H$36/'CREDIT CALC.'!H$40)*'QUAL. CALC'!D13,('CREDIT CALC.'!H$42/'CREDIT CALC.'!H$40)*'QUAL. CALC'!D13))))) | F17: =IF(B17="","",IF('DEV. DATA'!$D$57="","",1.3)) | G17: =IF(B17="","",IF('DEV. DATA'!$G$49=100,1,'APPLIC. FRACT.'!$H13)) | H17: =IF(B17="","",IF(F17="",ROUND(E17*G17,0),ROUND(E17*F17*G17,0))) | I17: =IF(B17="","",IF('DEV. DATA'!$E$24="",'QUAL. CALC'!G13,IF('DEV. DATA'!$E$26="",'DEV. DATA'!$E$27,'DEV. DATA'!$E$26))) | J17: =IF(B17="","",ROUND(H17*(I17/100),0))
B18: =IF('APPLIC. FRACT.'!A14="",IF('QUAL. CALC'!A14="","",'QUAL. CALC'!A14),'APPLIC. FRACT.'!A14) | C18: =IF('QUAL. CALC'!B14="","",'QUAL. CALC'!B14) | D18: =IF('APPLIC. FRACT.'!C14="",IF('QUAL. CALC'!C14="","",'QUAL. CALC'!C14),'APPLIC. FRACT.'!C14) | E18: =IF(B18="","",IF('DEV. DATA'!H$70>0,IF('CREDIT CALC.'!H$40<='CREDIT CALC.'!H$42,'QUAL. CALC'!D14,('CREDIT CALC.'!H$42/'CREDIT CALC.'!H$40)*'QUAL. CALC'!D14),IF('CREDIT CALC.'!H$36="","",IF(AND('CREDIT CALC.'!H$40<='CREDIT CALC.'!H$36,'CREDIT CALC.'!H$40<='CREDIT CALC.'!H$42),'QUAL. CALC'!D14,IF(AND('CREDIT CALC.'!H$36<'CREDIT CALC.'!H$40,'CREDIT CALC.'!H$36<'CREDIT CALC.'!H$42),('CREDIT CALC.'!H$36/'CREDIT CALC.'!H$40)*'QUAL. CALC'!D14,('CREDIT CALC.'!H$42/'CREDIT CALC.'!H$40)*'QUAL. CALC'!D14))))) | F18: =IF(B18="","",IF('DEV. DATA'!$D$57="","",1.3)) | G18: =IF(B18="","",IF('DEV. DATA'!$G$49=100,1,'APPLIC. FRACT.'!$H14)) | H18: =IF(B18="","",IF(F18="",ROUND(E18*G18,0),ROUND(E18*F18*G18,0))) | I18: =IF(B18="","",IF('DEV. DATA'!$E$24="",'QUAL. CALC'!G14,IF('DEV. DATA'!$E$26="",'DEV. DATA'!$E$27,'DEV. DATA'!$E$26))) | J18: =IF(B18="","",ROUND(H18*(I18/100),0))
B19: =IF('APPLIC. FRACT.'!A15="",IF('QUAL. CALC'!A15="","",'QUAL. CALC'!A15),'APPLIC. FRACT.'!A15) | C19: =IF('QUAL. CALC'!B15="","",'QUAL. CALC'!B15) | D19: =IF('APPLIC. FRACT.'!C15="",IF('QUAL. CALC'!C15="","",'QUAL. CALC'!C15),'APPLIC. FRACT.'!C15) | E19: =IF(B19="","",IF('DEV. DATA'!H$70>0,IF('CREDIT CALC.'!H$40<='CREDIT CALC.'!H$42,'QUAL. CALC'!D15,('CREDIT CALC.'!H$42/'CREDIT CALC.'!H$40)*'QUAL. CALC'!D15),IF('CREDIT CALC.'!H$36="","",IF(AND('CREDIT CALC.'!H$40<='CREDIT CALC.'!H$36,'CREDIT CALC.'!H$40<='CREDIT CALC.'!H$42),'QUAL. CALC'!D15,IF(AND('CREDIT CALC.'!H$36<'CREDIT CALC.'!H$40,'CREDIT CALC.'!H$36<'CREDIT CALC.'!H$42),('CREDIT CALC.'!H$36/'CREDIT CALC.'!H$40)*'QUAL. CALC'!D15,('CREDIT CALC.'!H$42/'CREDIT CALC.'!H$40)*'QUAL. CALC'!D15))))) | F19: =IF(B19="","",IF('DEV. DATA'!$D$57="","",1.3)) | G19: =IF(B19="","",IF('DEV. DATA'!$G$49=100,1,'APPLIC. FRACT.'!$H15)) | H19: =IF(B19="","",IF(F19="",ROUND(E19*G19,0),ROUND(E19*F19*G19,0))) | I19: =IF(B19="","",IF('DEV. DATA'!$E$24="",'QUAL. CALC'!G15,IF('DEV. DATA'!$E$26="",'DEV. DATA'!$E$27,'DEV. DATA'!$E$26))) | J19: =IF(B19="","",ROUND(H19*(I19/100),0))
B20: =IF('APPLIC. FRACT.'!A16="",IF('QUAL. CALC'!A16="","",'QUAL. CALC'!A16),'APPLIC. FRACT.'!A16) | C20: =IF('QUAL. CALC'!B16="","",'QUAL. CALC'!B16) | D20: =IF('APPLIC. FRACT.'!C16="",IF('QUAL. CALC'!C16="","",'QUAL. CALC'!C16),'APPLIC. FRACT.'!C16) | E20: =IF(B20="","",IF('DEV. DATA'!H$70>0,IF('CREDIT CALC.'!H$40<='CREDIT CALC.'!H$42,'QUAL. CALC'!D16,('CREDIT CALC.'!H$42/'CREDIT CALC.'!H$40)*'QUAL. CALC'!D16),IF('CREDIT CALC.'!H$36="","",IF(AND('CREDIT CALC.'!H$40<='CREDIT CALC.'!H$36,'CREDIT CALC.'!H$40<='CREDIT CALC.'!H$42),'QUAL. CALC'!D16,IF(AND('CREDIT CALC.'!H$36<'CREDIT CALC.'!H$40,'CREDIT CALC.'!H$36<'CREDIT CALC.'!H$42),('CREDIT CALC.'!H$36/'CREDIT CALC.'!H$40)*'QUAL. CALC'!D16,('CREDIT CALC.'!H$42/'CREDIT CALC.'!H$40)*'QUAL. CALC'!D16))))) | F20: =IF(B20="","",IF('DEV. DATA'!$D$57="","",1.3)) | G20: =IF(B20="","",IF('DEV. DATA'!$G$49=100,1,'APPLIC. FRACT.'!$H16)) | H20: =IF(B20="","",IF(F20="",ROUND(E20*G20,0),ROUND(E20*F20*G20,0))) | I20: =IF(B20="","",IF('DEV. DATA'!$E$24="",'QUAL. CALC'!G16,IF('DEV. DATA'!$E$26="",'DEV. DATA'!$E$27,'DEV. DATA'!$E$26))) | J20: =IF(B20="","",ROUND(H20*(I20/100),0))
B21: =IF('APPLIC. FRACT.'!A17="",IF('QUAL. CALC'!A17="","",'QUAL. CALC'!A17),'APPLIC. FRACT.'!A17) | C21: =IF('QUAL. CALC'!B17="","",'QUAL. CALC'!B17) | D21: =IF('APPLIC. FRACT.'!C17="",IF('QUAL. CALC'!C17="","",'QUAL. CALC'!C17),'APPLIC. FRACT.'!C17) | E21: =IF(B21="","",IF('DEV. DATA'!H$70>0,IF('CREDIT CALC.'!H$40<='CREDIT CALC.'!H$42,'QUAL. CALC'!D17,('CREDIT CALC.'!H$42/'CREDIT CALC.'!H$40)*'QUAL. CALC'!D17),IF('CREDIT CALC.'!H$36="","",IF(AND('CREDIT CALC.'!H$40<='CREDIT CALC.'!H$36,'CREDIT CALC.'!H$40<='CREDIT CALC.'!H$42),'QUAL. CALC'!D17,IF(AND('CREDIT CALC.'!H$36<'CREDIT CALC.'!H$40,'CREDIT CALC.'!H$36<'CREDIT CALC.'!H$42),('CREDIT CALC.'!H$36/'CREDIT CALC.'!H$40)*'QUAL. CALC'!D17,('CREDIT CALC.'!H$42/'CREDIT CALC.'!H$40)*'QUAL. CALC'!D17))))) | F21: =IF(B21="","",IF('DEV. DATA'!$D$57="","",1.3)) | G21: =IF(B21="","",IF('DEV. DATA'!$G$49=100,1,'APPLIC. FRACT.'!$H17)) | H21: =IF(B21="","",IF(F21="",ROUND(E21*G21,0),ROUND(E21*F21*G21,0))) | I21: =IF(B21="","",IF('DEV. DATA'!$E$24="",'QUAL. CALC'!G17,IF('DEV. DATA'!$E$26="",'DEV. DATA'!$E$27,'DEV. DATA'!$E$26))) | J21: =IF(B21="","",ROUND(H21*(I21/100),0))
B22: =IF('APPLIC. FRACT.'!A18="",IF('QUAL. CALC'!A18="","",'QUAL. CALC'!A18),'APPLIC. FRACT.'!A18) | C22: =IF('QUAL. CALC'!B18="","",'QUAL. CALC'!B18) | D22: =IF('APPLIC. FRACT.'!C18="",IF('QUAL. CALC'!C18="","",'QUAL. CALC'!C18),'APPLIC. FRACT.'!C18) | E22: =IF(B22="","",IF('DEV. DATA'!H$70>0,IF('CREDIT CALC.'!H$40<='CREDIT CALC.'!H$42,'QUAL. CALC'!D18,('CREDIT CALC.'!H$42/'CREDIT CALC.'!H$40)*'QUAL. CALC'!D18),IF('CREDIT CALC.'!H$36="","",IF(AND('CREDIT CALC.'!H$40<='CREDIT CALC.'!H$36,'CREDIT CALC.'!H$40<='CREDIT CALC.'!H$42),'QUAL. CALC'!D18,IF(AND('CREDIT CALC.'!H$36<'CREDIT CALC.'!H$40,'CREDIT CALC.'!H$36<'CREDIT CALC.'!H$42),('CREDIT CALC.'!H$36/'CREDIT CALC.'!H$40)*'QUAL. CALC'!D18,('CREDIT CALC.'!H$42/'CREDIT CALC.'!H$40)*'QUAL. CALC'!D18))))) | F22: =IF(B22="","",IF('DEV. DATA'!$D$57="","",1.3)) | G22: =IF(B22="","",IF('DEV. DATA'!$G$49=100,1,'APPLIC. FRACT.'!$H18)) | H22: =IF(B22="","",IF(F22="",ROUND(E22*G22,0),ROUND(E22*F22*G22,0))) | I22: =IF(B22="","",IF('DEV. DATA'!$E$24="",'QUAL. CALC'!G18,IF('DEV. DATA'!$E$26="",'DEV. DATA'!$E$27,'DEV. DATA'!$E$26))) | J22: =IF(B22="","",ROUND(H22*(I22/100),0))
B23: =IF('APPLIC. FRACT.'!A19="",IF('QUAL. CALC'!A19="","",'QUAL. CALC'!A19),'APPLIC. FRACT.'!A19) | C23: =IF('QUAL. CALC'!B19="","",'QUAL. CALC'!B19) | D23: =IF('APPLIC. FRACT.'!C19="",IF('QUAL. CALC'!C19="","",'QUAL. CALC'!C19),'APPLIC. FRACT.'!C19) | E23: =IF(B23="","",IF('DEV. DATA'!H$70>0,IF('CREDIT CALC.'!H$40<='CREDIT CALC.'!H$42,'QUAL. CALC'!D19,('CREDIT CALC.'!H$42/'CREDIT CALC.'!H$40)*'QUAL. CALC'!D19),IF('CREDIT CALC.'!H$36="","",IF(AND('CREDIT CALC.'!H$40<='CREDIT CALC.'!H$36,'CREDIT CALC.'!H$40<='CREDIT CALC.'!H$42),'QUAL. CALC'!D19,IF(AND('CREDIT CALC.'!H$36<'CREDIT CALC.'!H$40,'CREDIT CALC.'!H$36<'CREDIT CALC.'!H$42),('CREDIT CALC.'!H$36/'CREDIT CALC.'!H$40)*'QUAL. CALC'!D19,('CREDIT CALC.'!H$42/'CREDIT CALC.'!H$40)*'QUAL. CALC'!D19))))) | F23: =IF(B23="","",IF('DEV. DATA'!$D$57="","",1.3)) | G23: =IF(B23="","",IF('DEV. DATA'!$G$49=100,1,'APPLIC. FRACT.'!$H19)) | H23: =IF(B23="","",IF(F23="",ROUND(E23*G23,0),ROUND(E23*F23*G23,0))) | I23: =IF(B23="","",IF('DEV. DATA'!$E$24="",'QUAL. CALC'!G19,IF('DEV. DATA'!$E$26="",'DEV. DATA'!$E$27,'DEV. DATA'!$E$26))) | J23: =IF(B23="","",ROUND(H23*(I23/100),0))
... B42: =IF('APPLIC. FRACT.'!A38="",IF('QUAL. CALC'!A38="","",'QUAL. CALC'!A38),'APPLIC. FRACT.'!A38) | C42: =IF('QUAL. CALC'!B38="","",'QUAL. CALC'!B38) | D42: =IF('APPLIC. FRACT.'!C38="",IF('QUAL. CALC'!C38="","",'QUAL. CALC'!C38),'APPLIC. FRACT.'!C38) | E42: =IF(B42="","",IF('DEV. DATA'!H$70>0,IF('CREDIT CALC.'!H$40<='CREDIT CALC.'!H$42,'QUAL. CALC'!D38,('CREDIT CALC.'!H$42/'CREDIT CALC.'!H$40)*'QUAL. CALC'!D38),IF('CREDIT CALC.'!H$36="","",IF(AND('CREDIT CALC.'!H$40<='CREDIT CALC.'!H$36,'CREDIT CALC.'!H$40<='CREDIT CALC.'!H$42),'QUAL. CALC'!D38,IF(AND('CREDIT CALC.'!H$36<'CREDIT CALC.'!H$40,'CREDIT CALC.'!H$36<'CREDIT CALC.'!H$42),('CREDIT CALC.'!H$36/'CREDIT CALC.'!H$40)*'QUAL. CALC'!D38,('CREDIT CALC.'!H$42/'CREDIT CALC.'!H$40)*'QUAL. CALC'!D38))))) | F42: =IF(B42="","",IF('DEV. DATA'!$D$57="","",1.3)) | G42: =IF(B42="","",IF('DEV. DATA'!$G$49=100,1,'APPLIC. FRACT.'!$H38)) | H42: =IF(B42="","",IF(F42="",ROUND(E42*G42,0),ROUND(E42*F42*G42,0))) | I42: =IF(B42="","",IF('DEV. DATA'!$E$24="",'QUAL. CALC'!G38,IF('DEV. DATA'!$E$26="",'DEV. DATA'!$E$27,'DEV. DATA'!$E$26))) | J42: =IF(B42="","",ROUND(H42*(I42/100),0))
C43: TOTAL | D43: =IF(D12="","",SUM(D12:D42)) | E43: =IF(E12="","",SUM(E12:E42)) | H43: =IF(H12="","",SUM(H12:H42)) | J43: =IF(J12="","",SUM(J12:J42))
F45: * This number is based on the project number provided by FHFC.

Sheet EX. C. ACQUI.
A1: EXHIBIT C
A2: BUILDING BY BUILDING BREAKDOWN
A3: ACQUISITION
A5: Dev. Name: | B5: =IF(COSTS!C6="","",COSTS!C6) | H5: ="Application #: "&IF(COSTS!$K$6="","",COSTS!$K$6) -> Application #:
A6: Dev. Address: | B6: =IF('EXHIBIT C'!B6="","",'EXHIBIT C'!B6)
A7: City, State: | B7: =IF('EXHIBIT C'!B7="","",'EXHIBIT C'!B7) | C7: ZIP: | D7: =IF('EXHIBIT C'!E7="","",'EXHIBIT C'!E7)
C9: PLACED IN | D9: NUMBER | E9: ELIGIBLE | F9: APPLIC. | G9: QUALIFIED | H9: CREDIT | I9: CREDIT
A10: B.I.N.* | B10: INDIVIDUAL BUILDING ADDRESS | C10: SERVICE | D10: OF SET- | E10: BASIS | F10: FRACT. | G10: BASIS | H10: % RATE | I10: AMOUNT
C11: DATE | D11: ASIDE UNITS
A12: =IF('EXHIBIT C'!A12="","",'EXHIBIT C'!A12) | B12: =IF(COSTS!$L$148="","",IF('EXHIBIT C'!B12="","",'EXHIBIT C'!B12)) | C12: =IF(COSTS!$L$148="","",'QUAL. ACQU.'!B8) | D12: =IF(COSTS!$L$148="","",IF('EXHIBIT C'!D12="","",'EXHIBIT C'!D12)) | E12: =IF(B12="","",IF('DEV. DATA'!H$70>0,IF('CREDIT CALC.'!H$40<='CREDIT CALC.'!H$42,'QUAL. ACQU.'!D8,('CREDIT CALC.'!H$42/'CREDIT CALC.'!H$40)*'QUAL. ACQU.'!D8),IF('CREDIT CALC.'!H$36="","",IF(AND('CREDIT CALC.'!H$40<='CREDIT CALC.'!H$36,'CREDIT CALC.'!H$40<='CREDIT CALC.'!H$42),'QUAL. ACQU.'!D8,IF(AND('CREDIT CALC.'!H$36<'CREDIT CALC.'!H$40,'CREDIT CALC.'!H$36<'CREDIT CALC.'!H$42),('CREDIT CALC.'!H$36/'CREDIT CALC.'!H$40)*'QUAL. ACQU.'!D8,('CREDIT CALC.'!H$42/'CREDIT CALC.'!H$40)*'QUAL. ACQU.'!D8))))) | F12: =IF(COSTS!$L$148="","",IF('EXHIBIT C'!G12="","",'EXHIBIT C'!G12)) | G12: =IF(B12="","",ROUND(E12*F12,0)) | H12: =IF(COSTS!$L$148="","",IF(B12="","",IF('DEV. DATA'!$E$27="",IF('QUAL. ACQU.'!F8="","",'QUAL. ACQU.'!F8),'DEV. DATA'!$E$27))) | I12: =IF(COSTS!$L$148="","",IF(B12="","",ROUND(G12*(H12/100),0)))
A13: =IF('EXHIBIT C'!A13="","",'EXHIBIT C'!A13) | B13: =IF(COSTS!$L$148="","",IF('EXHIBIT C'!B13="","",'EXHIBIT C'!B13)) | C13: =IF(COSTS!$L$148="","",'QUAL. ACQU.'!B9) | D13: =IF(COSTS!$L$148="","",IF('EXHIBIT C'!D13="","",'EXHIBIT C'!D13)) | E13: =IF(B13="","",IF('DEV. DATA'!H$70>0,IF('CREDIT CALC.'!H$40<='CREDIT CALC.'!H$42,'QUAL. ACQU.'!D9,('CREDIT CALC.'!H$42/'CREDIT CALC.'!H$40)*'QUAL. ACQU.'!D9),IF('CREDIT CALC.'!H$36="","",IF(AND('CREDIT CALC.'!H$40<='CREDIT CALC.'!H$36,'CREDIT CALC.'!H$40<='CREDIT CALC.'!H$42),'QUAL. ACQU.'!D9,IF(AND('CREDIT CALC.'!H$36<'CREDIT CALC.'!H$40,'CREDIT CALC.'!H$36<'CREDIT CALC.'!H$42),('CREDIT CALC.'!H$36/'CREDIT CALC.'!H$40)*'QUAL. ACQU.'!D9,('CREDIT CALC.'!H$42/'CREDIT CALC.'!H$40)*'QUAL. ACQU.'!D9))))) | F13: =IF(COSTS!$L$148="","",IF('EXHIBIT C'!G13="","",'EXHIBIT C'!G13)) | G13: =IF(B13="","",ROUND(E13*F13,0)) | H13: =IF(COSTS!$L$148="","",IF(B13="","",IF('DEV. DATA'!$E$27="",IF('QUAL. ACQU.'!F9="","",'QUAL. ACQU.'!F9),'DEV. DATA'!$E$27))) | I13: =IF(COSTS!$L$148="","",IF(B13="","",ROUND(G13*(H13/100),0)))
A14: =IF('EXHIBIT C'!A14="","",'EXHIBIT C'!A14) | B14: =IF(COSTS!$L$148="","",IF('EXHIBIT C'!B14="","",'EXHIBIT C'!B14)) | C14: =IF(COSTS!$L$148="","",'QUAL. ACQU.'!B10) | D14: =IF(COSTS!$L$148="","",IF('EXHIBIT C'!D14="","",'EXHIBIT C'!D14)) | E14: =IF(B14="","",IF('DEV. DATA'!H$70>0,IF('CREDIT CALC.'!H$40<='CREDIT CALC.'!H$42,'QUAL. ACQU.'!D10,('CREDIT CALC.'!H$42/'CREDIT CALC.'!H$40)*'QUAL. ACQU.'!D10),IF('CREDIT CALC.'!H$36="","",IF(AND('CREDIT CALC.'!H$40<='CREDIT CALC.'!H$36,'CREDIT CALC.'!H$40<='CREDIT CALC.'!H$42),'QUAL. ACQU.'!D10,IF(AND('CREDIT CALC.'!H$36<'CREDIT CALC.'!H$40,'CREDIT CALC.'!H$36<'CREDIT CALC.'!H$42),('CREDIT CALC.'!H$36/'CREDIT CALC.'!H$40)*'QUAL. ACQU.'!D10,('CREDIT CALC.'!H$42/'CREDIT CALC.'!H$40)*'QUAL. ACQU.'!D10))))) | F14: =IF(COSTS!$L$148="","",IF('EXHIBIT C'!G14="","",'EXHIBIT C'!G14)) | G14: =IF(B14="","",ROUND(E14*F14,0)) | H14: =IF(COSTS!$L$148="","",IF(B14="","",IF('DEV. DATA'!$E$27="",IF('QUAL. ACQU.'!F10="","",'QUAL. ACQU.'!F10),'DEV. DATA'!$E$27))) | I14: =IF(COSTS!$L$148="","",IF(B14="","",ROUND(G14*(H14/100),0)))
A15: =IF('EXHIBIT C'!A15="","",'EXHIBIT C'!A15) | B15: =IF(COSTS!$L$148="","",IF('EXHIBIT C'!B15="","",'EXHIBIT C'!B15)) | C15: =IF(COSTS!$L$148="","",'QUAL. ACQU.'!B11) | D15: =IF(COSTS!$L$148="","",IF('EXHIBIT C'!D15="","",'EXHIBIT C'!D15)) | E15: =IF(B15="","",IF('DEV. DATA'!H$70>0,IF('CREDIT CALC.'!H$40<='CREDIT CALC.'!H$42,'QUAL. ACQU.'!D11,('CREDIT CALC.'!H$42/'CREDIT CALC.'!H$40)*'QUAL. ACQU.'!D11),IF('CREDIT CALC.'!H$36="","",IF(AND('CREDIT CALC.'!H$40<='CREDIT CALC.'!H$36,'CREDIT CALC.'!H$40<='CREDIT CALC.'!H$42),'QUAL. ACQU.'!D11,IF(AND('CREDIT CALC.'!H$36<'CREDIT CALC.'!H$40,'CREDIT CALC.'!H$36<'CREDIT CALC.'!H$42),('CREDIT CALC.'!H$36/'CREDIT CALC.'!H$40)*'QUAL. ACQU.'!D11,('CREDIT CALC.'!H$42/'CREDIT CALC.'!H$40)*'QUAL. ACQU.'!D11))))) | F15: =IF(COSTS!$L$148="","",IF('EXHIBIT C'!G15="","",'EXHIBIT C'!G15)) | G15: =IF(B15="","",ROUND(E15*F15,0)) | H15: =IF(COSTS!$L$148="","",IF(B15="","",IF('DEV. DATA'!$E$27="",IF('QUAL. ACQU.'!F11="","",'QUAL. ACQU.'!F11),'DEV. DATA'!$E$27))) | I15: =IF(COSTS!$L$148="","",IF(B15="","",ROUND(G15*(H15/100),0)))
A16: =IF('EXHIBIT C'!A16="","",'EXHIBIT C'!A16) | B16: =IF(COSTS!$L$148="","",IF('EXHIBIT C'!B16="","",'EXHIBIT C'!B16)) | C16: =IF(COSTS!$L$148="","",'QUAL. ACQU.'!B12) | D16: =IF(COSTS!$L$148="","",IF('EXHIBIT C'!D16="","",'EXHIBIT C'!D16)) | E16: =IF(B16="","",IF('DEV. DATA'!H$70>0,IF('CREDIT CALC.'!H$40<='CREDIT CALC.'!H$42,'QUAL. ACQU.'!D12,('CREDIT CALC.'!H$42/'CREDIT CALC.'!H$40)*'QUAL. ACQU.'!D12),IF('CREDIT CALC.'!H$36="","",IF(AND('CREDIT CALC.'!H$40<='CREDIT CALC.'!H$36,'CREDIT CALC.'!H$40<='CREDIT CALC.'!H$42),'QUAL. ACQU.'!D12,IF(AND('CREDIT CALC.'!H$36<'CREDIT CALC.'!H$40,'CREDIT CALC.'!H$36<'CREDIT CALC.'!H$42),('CREDIT CALC.'!H$36/'CREDIT CALC.'!H$40)*'QUAL. ACQU.'!D12,('CREDIT CALC.'!H$42/'CREDIT CALC.'!H$40)*'QUAL. ACQU.'!D12))))) | F16: =IF(COSTS!$L$148="","",IF('EXHIBIT C'!G16="","",'EXHIBIT C'!G16)) | G16: =IF(B16="","",ROUND(E16*F16,0)) | H16: =IF(COSTS!$L$148="","",IF(B16="","",IF('DEV. DATA'!$E$27="",IF('QUAL. ACQU.'!F12="","",'QUAL. ACQU.'!F12),'DEV. DATA'!$E$27))) | I16: =IF(COSTS!$L$148="","",IF(B16="","",ROUND(G16*(H16/100),0)))
A17: =IF('EXHIBIT C'!A17="","",'EXHIBIT C'!A17) | B17: =IF(COSTS!$L$148="","",IF('EXHIBIT C'!B17="","",'EXHIBIT C'!B17)) | C17: =IF(COSTS!$L$148="","",'QUAL. ACQU.'!B13) | D17: =IF(COSTS!$L$148="","",IF('EXHIBIT C'!D17="","",'EXHIBIT C'!D17)) | E17: =IF(B17="","",IF('DEV. DATA'!H$70>0,IF('CREDIT CALC.'!H$40<='CREDIT CALC.'!H$42,'QUAL. ACQU.'!D13,('CREDIT CALC.'!H$42/'CREDIT CALC.'!H$40)*'QUAL. ACQU.'!D13),IF('CREDIT CALC.'!H$36="","",IF(AND('CREDIT CALC.'!H$40<='CREDIT CALC.'!H$36,'CREDIT CALC.'!H$40<='CREDIT CALC.'!H$42),'QUAL. ACQU.'!D13,IF(AND('CREDIT CALC.'!H$36<'CREDIT CALC.'!H$40,'CREDIT CALC.'!H$36<'CREDIT CALC.'!H$42),('CREDIT CALC.'!H$36/'CREDIT CALC.'!H$40)*'QUAL. ACQU.'!D13,('CREDIT CALC.'!H$42/'CREDIT CALC.'!H$40)*'QUAL. ACQU.'!D13))))) | F17: =IF(COSTS!$L$148="","",IF('EXHIBIT C'!G17="","",'EXHIBIT C'!G17)) | G17: =IF(B17="","",ROUND(E17*F17,0)) | H17: =IF(COSTS!$L$148="","",IF(B17="","",IF('DEV. DATA'!$E$27="",IF('QUAL. ACQU.'!F13="","",'QUAL. ACQU.'!F13),'DEV. DATA'!$E$27))) | I17: =IF(COSTS!$L$148="","",IF(B17="","",ROUND(G17*(H17/100),0)))
A18: =IF('EXHIBIT C'!A18="","",'EXHIBIT C'!A18) | B18: =IF(COSTS!$L$148="","",IF('EXHIBIT C'!B18="","",'EXHIBIT C'!B18)) | C18: =IF(COSTS!$L$148="","",'QUAL. ACQU.'!B14) | D18: =IF(COSTS!$L$148="","",IF('EXHIBIT C'!D18="","",'EXHIBIT C'!D18)) | E18: =IF(B18="","",IF('DEV. DATA'!H$70>0,IF('CREDIT CALC.'!H$40<='CREDIT CALC.'!H$42,'QUAL. ACQU.'!D14,('CREDIT CALC.'!H$42/'CREDIT CALC.'!H$40)*'QUAL. ACQU.'!D14),IF('CREDIT CALC.'!H$36="","",IF(AND('CREDIT CALC.'!H$40<='CREDIT CALC.'!H$36,'CREDIT CALC.'!H$40<='CREDIT CALC.'!H$42),'QUAL. ACQU.'!D14,IF(AND('CREDIT CALC.'!H$36<'CREDIT CALC.'!H$40,'CREDIT CALC.'!H$36<'CREDIT CALC.'!H$42),('CREDIT CALC.'!H$36/'CREDIT CALC.'!H$40)*'QUAL. ACQU.'!D14,('CREDIT CALC.'!H$42/'CREDIT CALC.'!H$40)*'QUAL. ACQU.'!D14))))) | F18: =IF(COSTS!$L$148="","",IF('EXHIBIT C'!G18="","",'EXHIBIT C'!G18)) | G18: =IF(B18="","",ROUND(E18*F18,0)) | H18: =IF(COSTS!$L$148="","",IF(B18="","",IF('DEV. DATA'!$E$27="",IF('QUAL. ACQU.'!F14="","",'QUAL. ACQU.'!F14),'DEV. DATA'!$E$27))) | I18: =IF(COSTS!$L$148="","",IF(B18="","",ROUND(G18*(H18/100),0)))
A19: =IF('EXHIBIT C'!A19="","",'EXHIBIT C'!A19) | B19: =IF(COSTS!$L$148="","",IF('EXHIBIT C'!B19="","",'EXHIBIT C'!B19)) | C19: =IF(COSTS!$L$148="","",'QUAL. ACQU.'!B15) | D19: =IF(COSTS!$L$148="","",IF('EXHIBIT C'!D19="","",'EXHIBIT C'!D19)) | E19: =IF(B19="","",IF('DEV. DATA'!H$70>0,IF('CREDIT CALC.'!H$40<='CREDIT CALC.'!H$42,'QUAL. ACQU.'!D15,('CREDIT CALC.'!H$42/'CREDIT CALC.'!H$40)*'QUAL. ACQU.'!D15),IF('CREDIT CALC.'!H$36="","",IF(AND('CREDIT CALC.'!H$40<='CREDIT CALC.'!H$36,'CREDIT CALC.'!H$40<='CREDIT CALC.'!H$42),'QUAL. ACQU.'!D15,IF(AND('CREDIT CALC.'!H$36<'CREDIT CALC.'!H$40,'CREDIT CALC.'!H$36<'CREDIT CALC.'!H$42),('CREDIT CALC.'!H$36/'CREDIT CALC.'!H$40)*'QUAL. ACQU.'!D15,('CREDIT CALC.'!H$42/'CREDIT CALC.'!H$40)*'QUAL. ACQU.'!D15))))) | F19: =IF(COSTS!$L$148="","",IF('EXHIBIT C'!G19="","",'EXHIBIT C'!G19)) | G19: =IF(B19="","",ROUND(E19*F19,0)) | H19: =IF(COSTS!$L$148="","",IF(B19="","",IF('DEV. DATA'!$E$27="",IF('QUAL. ACQU.'!F15="","",'QUAL. ACQU.'!F15),'DEV. DATA'!$E$27))) | I19: =IF(COSTS!$L$148="","",IF(B19="","",ROUND(G19*(H19/100),0)))
A20: =IF('EXHIBIT C'!A20="","",'EXHIBIT C'!A20) | B20: =IF(COSTS!$L$148="","",IF('EXHIBIT C'!B20="","",'EXHIBIT C'!B20)) | C20: =IF(COSTS!$L$148="","",'QUAL. ACQU.'!B16) | D20: =IF(COSTS!$L$148="","",IF('EXHIBIT C'!D20="","",'EXHIBIT C'!D20)) | E20: =IF(B20="","",IF('DEV. DATA'!H$70>0,IF('CREDIT CALC.'!H$40<='CREDIT CALC.'!H$42,'QUAL. ACQU.'!D16,('CREDIT CALC.'!H$42/'CREDIT CALC.'!H$40)*'QUAL. ACQU.'!D16),IF('CREDIT CALC.'!H$36="","",IF(AND('CREDIT CALC.'!H$40<='CREDIT CALC.'!H$36,'CREDIT CALC.'!H$40<='CREDIT CALC.'!H$42),'QUAL. ACQU.'!D16,IF(AND('CREDIT CALC.'!H$36<'CREDIT CALC.'!H$40,'CREDIT CALC.'!H$36<'CREDIT CALC.'!H$42),('CREDIT CALC.'!H$36/'CREDIT CALC.'!H$40)*'QUAL. ACQU.'!D16,('CREDIT CALC.'!H$42/'CREDIT CALC.'!H$40)*'QUAL. ACQU.'!D16))))) | F20: =IF(COSTS!$L$148="","",IF('EXHIBIT C'!G20="","",'EXHIBIT C'!G20)) | G20: =IF(B20="","",ROUND(E20*F20,0)) | H20: =IF(COSTS!$L$148="","",IF(B20="","",IF('DEV. DATA'!$E$27="",IF('QUAL. ACQU.'!F16="","",'QUAL. ACQU.'!F16),'DEV. DATA'!$E$27))) | I20: =IF(COSTS!$L$148="","",IF(B20="","",ROUND(G20*(H20/100),0)))
A21: =IF('EXHIBIT C'!A21="","",'EXHIBIT C'!A21) | B21: =IF(COSTS!$L$148="","",IF('EXHIBIT C'!B21="","",'EXHIBIT C'!B21)) | C21: =IF(COSTS!$L$148="","",'QUAL. ACQU.'!B17) | D21: =IF(COSTS!$L$148="","",IF('EXHIBIT C'!D21="","",'EXHIBIT C'!D21)) | E21: =IF(B21="","",IF('DEV. DATA'!H$70>0,IF('CREDIT CALC.'!H$40<='CREDIT CALC.'!H$42,'QUAL. ACQU.'!D17,('CREDIT CALC.'!H$42/'CREDIT CALC.'!H$40)*'QUAL. ACQU.'!D17),IF('CREDIT CALC.'!H$36="","",IF(AND('CREDIT CALC.'!H$40<='CREDIT CALC.'!H$36,'CREDIT CALC.'!H$40<='CREDIT CALC.'!H$42),'QUAL. ACQU.'!D17,IF(AND('CREDIT CALC.'!H$36<'CREDIT CALC.'!H$40,'CREDIT CALC.'!H$36<'CREDIT CALC.'!H$42),('CREDIT CALC.'!H$36/'CREDIT CALC.'!H$40)*'QUAL. ACQU.'!D17,('CREDIT CALC.'!H$42/'CREDIT CALC.'!H$40)*'QUAL. ACQU.'!D17))))) | F21: =IF(COSTS!$L$148="","",IF('EXHIBIT C'!G21="","",'EXHIBIT C'!G21)) | G21: =IF(B21="","",ROUND(E21*F21,0)) | H21: =IF(COSTS!$L$148="","",IF(B21="","",IF('DEV. DATA'!$E$27="",IF('QUAL. ACQU.'!F17="","",'QUAL. ACQU.'!F17),'DEV. DATA'!$E$27))) | I21: =IF(COSTS!$L$148="","",IF(B21="","",ROUND(G21*(H21/100),0)))
A22: =IF('EXHIBIT C'!A22="","",'EXHIBIT C'!A22) | B22: =IF(COSTS!$L$148="","",IF('EXHIBIT C'!B22="","",'EXHIBIT C'!B22)) | C22: =IF(COSTS!$L$148="","",'QUAL. ACQU.'!B18) | D22: =IF(COSTS!$L$148="","",IF('EXHIBIT C'!D22="","",'EXHIBIT C'!D22)) | E22: =IF(B22="","",IF('DEV. DATA'!H$70>0,IF('CREDIT CALC.'!H$40<='CREDIT CALC.'!H$42,'QUAL. ACQU.'!D18,('CREDIT CALC.'!H$42/'CREDIT CALC.'!H$40)*'QUAL. ACQU.'!D18),IF('CREDIT CALC.'!H$36="","",IF(AND('CREDIT CALC.'!H$40<='CREDIT CALC.'!H$36,'CREDIT CALC.'!H$40<='CREDIT CALC.'!H$42),'QUAL. ACQU.'!D18,IF(AND('CREDIT CALC.'!H$36<'CREDIT CALC.'!H$40,'CREDIT CALC.'!H$36<'CREDIT CALC.'!H$42),('CREDIT CALC.'!H$36/'CREDIT CALC.'!H$40)*'QUAL. ACQU.'!D18,('CREDIT CALC.'!H$42/'CREDIT CALC.'!H$40)*'QUAL. ACQU.'!D18))))) | F22: =IF(COSTS!$L$148="","",IF('EXHIBIT C'!G22="","",'EXHIBIT C'!G22)) | G22: =IF(B22="","",ROUND(E22*F22,0)) | H22: =IF(COSTS!$L$148="","",IF(B22="","",IF('DEV. DATA'!$E$27="",IF('QUAL. ACQU.'!F18="","",'QUAL. ACQU.'!F18),'DEV. DATA'!$E$27))) | I22: =IF(COSTS!$L$148="","",IF(B22="","",ROUND(G22*(H22/100),0)))
A23: =IF('EXHIBIT C'!A23="","",'EXHIBIT C'!A23) | B23: =IF(COSTS!$L$148="","",IF('EXHIBIT C'!B23="","",'EXHIBIT C'!B23)) | C23: =IF(COSTS!$L$148="","",'QUAL. ACQU.'!B19) | D23: =IF(COSTS!$L$148="","",IF('EXHIBIT C'!D23="","",'EXHIBIT C'!D23)) | E23: =IF(B23="","",IF('DEV. DATA'!H$70>0,IF('CREDIT CALC.'!H$40<='CREDIT CALC.'!H$42,'QUAL. ACQU.'!D19,('CREDIT CALC.'!H$42/'CREDIT CALC.'!H$40)*'QUAL. ACQU.'!D19),IF('CREDIT CALC.'!H$36="","",IF(AND('CREDIT CALC.'!H$40<='CREDIT CALC.'!H$36,'CREDIT CALC.'!H$40<='CREDIT CALC.'!H$42),'QUAL. ACQU.'!D19,IF(AND('CREDIT CALC.'!H$36<'CREDIT CALC.'!H$40,'CREDIT CALC.'!H$36<'CREDIT CALC.'!H$42),('CREDIT CALC.'!H$36/'CREDIT CALC.'!H$40)*'QUAL. ACQU.'!D19,('CREDIT CALC.'!H$42/'CREDIT CALC.'!H$40)*'QUAL. ACQU.'!D19))))) | F23: =IF(COSTS!$L$148="","",IF('EXHIBIT C'!G23="","",'EXHIBIT C'!G23)) | G23: =IF(B23="","",ROUND(E23*F23,0)) | H23: =IF(COSTS!$L$148="","",IF(B23="","",IF('DEV. DATA'!$E$27="",IF('QUAL. ACQU.'!F19="","",'QUAL. ACQU.'!F19),'DEV. DATA'!$E$27))) | I23: =IF(COSTS!$L$148="","",IF(B23="","",ROUND(G23*(H23/100),0)))
... A42: =IF('EXHIBIT C'!A42="","",'EXHIBIT C'!A42) | B42: =IF(COSTS!$L$148="","",IF('EXHIBIT C'!B42="","",'EXHIBIT C'!B42)) | C42: =IF(COSTS!$L$148="","",'QUAL. ACQU.'!B38) | D42: =IF(COSTS!$L$148="","",IF('EXHIBIT C'!D42="","",'EXHIBIT C'!D42)) | E42: =IF(B42="","",IF('DEV. DATA'!H$70>0,IF('CREDIT CALC.'!H$40<='CREDIT CALC.'!H$42,'QUAL. ACQU.'!D38,('CREDIT CALC.'!H$42/'CREDIT CALC.'!H$40)*'QUAL. ACQU.'!D38),IF('CREDIT CALC.'!H$36="","",IF(AND('CREDIT CALC.'!H$40<='CREDIT CALC.'!H$36,'CREDIT CALC.'!H$40<='CREDIT CALC.'!H$42),'QUAL. ACQU.'!D38,IF(AND('CREDIT CALC.'!H$36<'CREDIT CALC.'!H$40,'CREDIT CALC.'!H$36<'CREDIT CALC.'!H$42),('CREDIT CALC.'!H$36/'CREDIT CALC.'!H$40)*'QUAL. ACQU.'!D38,('CREDIT CALC.'!H$42/'CREDIT CALC.'!H$40)*'QUAL. ACQU.'!D38))))) | F42: =IF(COSTS!$L$148="","",IF('EXHIBIT C'!G42="","",'EXHIBIT C'!G42)) | G42: =IF(B42="","",ROUND(E42*F42,0)) | H42: =IF(COSTS!$L$148="","",IF(B42="","",IF('DEV. DATA'!$E$27="",IF('QUAL. ACQU.'!F38="","",'QUAL. ACQU.'!F38),'DEV. DATA'!$E$27))) | I42: =IF(COSTS!$L$148="","",IF(B42="","",ROUND(G42*(H42/100),0)))
C43: TOTAL | D43: =IF(D12="","",SUM(D12:D42)) | E43: =IF(E12="","",SUM(E12:E42)) | G43: =IF(G12="","",SUM(G12:G42)) | I43: =IF(I12="","",SUM(I12:I42))
E45: *This number is based on the project number provided by FHFC.
B46: =IF(B12="","",IF(E43<=COSTS!H148,"","PLEASE CORRECT YOUR TOTAL ELIGIBLE BASIS. IT IS MORE THAN WHAT YOU DISCLOSED ON THE COST DATA SHEET."))

Sheet CERTIFY
A2: FINAL COST CERTIFICATION
A4: ="The undersigned inidividual or authorized officer of "&IF('DEV. DATA'!C85="","{applicant name from DEV. DATA}",'DEV. DATA'!C85)&" (the ""Applicant""), in" -> The undersigned inidividual or authorized officer of {applicant name from DEV. DATA} (the "Applicant"), in
A5: connection with the allocation by the Florida Housing Finance Corporation ("Florida Housing") of housing credit
A6: ="from the State's housing credit allocation apportionment for Development Number "&IF(COSTS!K6="","",COSTS!K6) -> from the State's housing credit allocation apportionment for Development Number
A7: in the amount of | K7: (the "Credit") hereby certifies on behalf of the Applicant as follows:
C9: 1. | D9: All terms used herein shall have the respective meanings contained in the Application dated
E10: (the "Application") from the Applicant to Florida Housing pursuant to which the credit was
A11: requested.
C13: 2. | D13: The Applicant is an individual, a | Q13: partnership, a limited liability
A14: corporation, or a corporation duly organized, legally existing under the laws of the State of
A15: and had full right, power and authority to conduct the business in which it is now engaged and to own and
A16: ="operate Development Number "&IF(COSTS!K6="","",COSTS!K6)&"." -> operate Development Number .
C18: 3. | D18: The undersigned is the Applicant or authorized officer of the Applicant and is duly authorized and
A19: empowered to execute this certificate on behalf of the Applicant.
C21: 4. | D21: There are not actions, suits or proceedings pending, or to the knowledge of the Applicant, threatened
A22: against or affecting the Applicant at law or in equity, before any federal, state or local government authority or
A23: Florida Housing challenging the acquisition, construction, improvement and equipping or operation of the
A24: Development, or which, if adversely determined, would result in any material adverse change in the Applicant's
A25: ability to operate the Development.
C27: 5. | D27: The representations, certifications, calculations and covenants on the part of the Applicant appearing
A28: on the Application were correct on the date of the Applciant's submission to Florida Housing, and the description
A29: of the Development set forth in the Application, including the qualified basis of the Development (except with
A30: respect to any changes as shown in Exhibit A hereto) and the covenants of the the Application Request
A31: Statement appearing in the Application, are correct on and as of the date hereof as though made on this date.
C33: 6. | D33: The Development was placed in service on | Q33: .
A36: I CERTIFY THAT THE INFORMATION CONTAINED HEREIN IS ACCURATE AND AUTHORIZES FLORIDA
A37: HOUSING FINANCE CORPORATION TO UTILIZE THIS INFORMATION TO CALCULATE THE HOUSING
A38: CREDIT FOR THIS DEVELOPMENT.
A41: (SIGNED) | N41: (DATE)
A44: (Print or type name of Signator)
A46: Name of Applicant: | F46: ='DEV. DATA'!C85 -> 0
F47: (Print or type name of Applicant)
A49: CPA/Attorney Signature:
A51: Name and Title:
